BEGIN:VCALENDAR
VERSION:2.0
PRODID:-//Ocean City MD Rooms | The Tides Inn OC Vacations - ECPv6.15.13//NONSGML v1.0//EN
CALSCALE:GREGORIAN
METHOD:PUBLISH
X-ORIGINAL-URL:https://tidesinnoc.com
X-WR-CALDESC:Events for Ocean City MD Rooms | The Tides Inn OC Vacations
REFRESH-INTERVAL;VALUE=DURATION:PT1H
X-Robots-Tag:noindex
X-PUBLISHED-TTL:PT1H
BEGIN:VTIMEZONE
TZID:America/New_York
BEGIN:DAYLIGHT
TZOFFSETFROM:-0500
TZOFFSETTO:-0400
TZNAME:EDT
DTSTART:20250309T070000
END:DAYLIGHT
BEGIN:STANDARD
TZOFFSETFROM:-0400
TZOFFSETTO:-0500
TZNAME:EST
DTSTART:20251102T060000
END:STANDARD
BEGIN:DAYLIGHT
TZOFFSETFROM:-0500
TZOFFSETTO:-0400
TZNAME:EDT
DTSTART:20260308T070000
END:DAYLIGHT
BEGIN:STANDARD
TZOFFSETFROM:-0400
TZOFFSETTO:-0500
TZNAME:EST
DTSTART:20261101T060000
END:STANDARD
BEGIN:DAYLIGHT
TZOFFSETFROM:-0500
TZOFFSETTO:-0400
TZNAME:EDT
DTSTART:20270314T070000
END:DAYLIGHT
BEGIN:STANDARD
TZOFFSETFROM:-0400
TZOFFSETTO:-0500
TZNAME:EST
DTSTART:20271107T060000
END:STANDARD
END:VTIMEZONE
BEGIN:VEVENT
DTSTART;TZID=America/New_York:20260423T170000
DTEND;TZID=America/New_York:20260423T210000
DTSTAMP:20260423T082111
CREATED:20260422T184956Z
LAST-MODIFIED:20260423T065021Z
UID:321541-1776963600-1776978000@tidesinnoc.com
SUMMARY:Carley Twigg
DESCRIPTION:Talented\, local singer and guitarist\, Carley Twigg plays all of your favorite Pop\, Country\, Rock and Blues live tonight at Seacrets Bar and Grill.  Stop in for a great show\, dinner with your friends  and of course your favorite Seacrets Spirits! 
URL:https://tidesinnoc.com/event/carley-twigg/
LOCATION:Seacrets\, 49th Street On The Bay\, Ocean City\, MD\, 21842\, United States
ATTACH;FMTTYPE=:
END:VEVENT
END:VCALENDAR