BEGIN:VCALENDAR
VERSION:2.0
PRODID:-//Ocean City MD Rooms | The Tides Inn OC Vacations - ECPv6.15.13//NONSGML v1.0//EN
CALSCALE:GREGORIAN
METHOD:PUBLISH
X-WR-CALNAME:Ocean City MD Rooms | The Tides Inn OC Vacations
X-ORIGINAL-URL:https://tidesinnoc.com
X-WR-CALDESC:Events for Ocean City MD Rooms | The Tides Inn OC Vacations
REFRESH-INTERVAL;VALUE=DURATION:PT1H
X-Robots-Tag:noindex
X-PUBLISHED-TTL:PT1H
BEGIN:VTIMEZONE
TZID:America/New_York
BEGIN:DAYLIGHT
TZOFFSETFROM:-0500
TZOFFSETTO:-0400
TZNAME:EDT
DTSTART:20220313T070000
END:DAYLIGHT
BEGIN:STANDARD
TZOFFSETFROM:-0400
TZOFFSETTO:-0500
TZNAME:EST
DTSTART:20221106T060000
END:STANDARD
BEGIN:DAYLIGHT
TZOFFSETFROM:-0500
TZOFFSETTO:-0400
TZNAME:EDT
DTSTART:20230312T070000
END:DAYLIGHT
BEGIN:STANDARD
TZOFFSETFROM:-0400
TZOFFSETTO:-0500
TZNAME:EST
DTSTART:20231105T060000
END:STANDARD
BEGIN:DAYLIGHT
TZOFFSETFROM:-0500
TZOFFSETTO:-0400
TZNAME:EDT
DTSTART:20240310T070000
END:DAYLIGHT
BEGIN:STANDARD
TZOFFSETFROM:-0400
TZOFFSETTO:-0500
TZNAME:EST
DTSTART:20241103T060000
END:STANDARD
END:VTIMEZONE
BEGIN:VEVENT
DTSTART;TZID=America/New_York:20231007T120000
DTEND;TZID=America/New_York:20231007T120000
DTSTAMP:20260423T195423
CREATED:20230702T185938Z
LAST-MODIFIED:20230702T185938Z
UID:272111-1696680000-1696680000@tidesinnoc.com
SUMMARY:Sand Jam Music Festival
DESCRIPTION:Join us for the first ever Sand Jam Music Festival on Saturday\, October 7th at Seacrets! This event is hosted by Ocean 98.1 and it is open to ALL AGES and admission is FREE! Jam out to a variety of artists such as Passafire\, Jimmie’s Chicken Shack. The Supervillains\, Dale and the ZDubs\, Crooked Coast\, The Harbor Boys\, and more! There will be activities for the whole family\, including live animals from Barn Hill Preserve of Delaware. Don’t miss a beat!
URL:https://tidesinnoc.com/event/sand-jam-music-festival/
LOCATION:Seacrets\, 49th Street On The Bay\, Ocean City\, MD\, 21842\, United States
END:VEVENT
BEGIN:VEVENT
DTSTART;TZID=America/New_York:20230930T180000
DTEND;TZID=America/New_York:20230930T180000
DTSTAMP:20260423T195423
CREATED:20230915T065844Z
LAST-MODIFIED:20230915T065844Z
UID:279373-1696096800-1696096800@tidesinnoc.com
SUMMARY:DJ Bobby O'
DESCRIPTION: It’s a dance party at Seacrets featuring DJ Bobby O’ playing all your favorite dance hits. Bring a few friends\, come relax\, lay on the rafts\, and enjoy an ice cold drink in the sunshine. 
URL:https://tidesinnoc.com/event/dj-bobby-o-8/
LOCATION:Seacrets\, 49th Street On The Bay\, Ocean City\, MD\, 21842\, United States
END:VEVENT
BEGIN:VEVENT
DTSTART;TZID=America/New_York:20230921T210000
DTEND;TZID=America/New_York:20230921T210000
DTSTAMP:20260423T195423
CREATED:20230912T185552Z
LAST-MODIFIED:20230912T185552Z
UID:279120-1695330000-1695330000@tidesinnoc.com
SUMMARY:College Night at Brew River with DJ
DESCRIPTION:Brew River is proud to celebrate college students and all of their hard workout throughout their educational career. Head over on selected Thursday Nights for College Night. Enjoy bar-specials\, DJ Tops amazing tunes\, and more! \n 
URL:https://tidesinnoc.com/event/college-night-at-brew-river-with-dj-2/
LOCATION:Brew River\, 502 W Main St\, Salisbury\, MD\, 21801\, United States
END:VEVENT
BEGIN:VEVENT
DTSTART;TZID=America/New_York:20230921T000000
DTEND;TZID=America/New_York:20230921T000000
DTSTAMP:20260423T195423
CREATED:20230417T185720Z
LAST-MODIFIED:20230417T185720Z
UID:265243-1695254400-1695254400@tidesinnoc.com
SUMMARY:Heart of Salisbury Food Tour
DESCRIPTION:From blue crabs to artisan bagels\, from Chesapeake’s finest oysters to the locally brewed craft beer\, Salisbury is a foodie’ s paradise. So where should you begin? Start with our Foodie Tour!\n \nWith its newly revitalized historic Main Street and Riverwalk\, Salisbury is quickly becoming one of the most vibrant hubs in Maryland for art\, culture\, and dining experiences. And now is the perfect time to explore our small-town foodie scene on foot with this immersive three-hour dining tour that will take you to sample food and drink at local restaurants\, cafes\, breweries\, bakeries\, and more.\n \nGet the inside scoop on our city’s unique history tour\, while you taste your way through this award-winning\, All-American city’ s culinary gems. This guided walking tour is the best way to explore and enjoy our historic and beautiful city one mouthful at a time while meandering through lively culinary destinations with your dedicated and knowledgeable guide sharing fun and interesting tidbits about Salisbury’ s culture\, history\, architecture\, and latest happenings.\n \nWhether you’re a first-time visitor to Salisbury\, or someone who loves their hometown\, this is your chance to explore the food culture of this charming historical town and meet new foodie friends\, all while satisfying your culinary curiosities.
URL:https://tidesinnoc.com/event/heart-of-salisbury-food-tour-23/
LOCATION:OC Foodie Tour\, 3303 Coastal Hwy\, Ocean City\, MD\, 21842\, United States
END:VEVENT
BEGIN:VEVENT
DTSTART;TZID=America/New_York:20230916T120000
DTEND;TZID=America/New_York:20230916T170000
DTSTAMP:20260423T195423
CREATED:20230825T065616Z
LAST-MODIFIED:20230825T065616Z
UID:277717-1694865600-1694883600@tidesinnoc.com
SUMMARY:Brews and Roos at Barn Hill
DESCRIPTION:It’s time to get wild with Barn Hill Preserve of Delaware’s kangaroos at the second annual Brews & Boos! Have laughs and fun with family\, friends\, kangaroos and craft beer this summer!  Barn Hill Preserve of Delaware has an amazing line up of local craft breweries\, an amazing food truck\, music and kangaroos to entertain you and your family.   Get your tickets today!  
URL:https://tidesinnoc.com/event/brews-and-roos-at-barn-hill/
LOCATION:Barn Hill Preserve of Delaware\, 34215 Peppers Corner Rd\, Frankford\, DE\, 19945\, United States
END:VEVENT
BEGIN:VEVENT
DTSTART;TZID=America/New_York:20230916T000000
DTEND;TZID=America/New_York:20230916T000000
DTSTAMP:20260423T195423
CREATED:20230802T185633Z
LAST-MODIFIED:20230802T185633Z
UID:275311-1694822400-1694822400@tidesinnoc.com
SUMMARY:OC Bites & Sites Self-Guided Foodie & Fun Tour
DESCRIPTION:Explore OC’s impressive local restaurant and bar scene at your own pace\, time & day. Discover OC’s history\, culture and fascinating facts about this coastal gem of a town and the families who settled here.  Go at your own pace\, tours  take as little at 3 hours but can take 6 hours and be broken into 2 or 3 days if you prefer.  \n \nBenefits of a self-guided tour:\nAvailable anytime\, 7 days a week\nFreedom to go at your own time and pace\nOnly pay restaurants for what you order\nTake your time\, break up into tow or more days\n \nWhat you get on a self-guided tour:\nA map to help you find your way\nSelf-guided itinerary for experiencing culinary delights at multiple locations \nAudio guide\, if you prefer listening over reading\nVideos: interviews with chefs and owners\nPhotos of recommended signature dishes\nAnd so much more 
URL:https://tidesinnoc.com/event/oc-bites-sites-self-guided-foodie-fun-tour-63/
LOCATION:OC Foodie Tour\, 3303 Coastal Hwy\, Ocean City\, MD\, 21842\, United States
END:VEVENT
BEGIN:VEVENT
DTSTART;TZID=America/New_York:20230915T000000
DTEND;TZID=America/New_York:20230915T000000
DTSTAMP:20260423T195423
CREATED:20230802T065702Z
LAST-MODIFIED:20230802T065702Z
UID:275243-1694736000-1694736000@tidesinnoc.com
SUMMARY:OC Bites & Sites Self-Guided Foodie & Fun Tour
DESCRIPTION:Explore OC’s impressive local restaurant and bar scene at your own pace\, time & day. Discover OC’s history\, culture and fascinating facts about this coastal gem of a town and the families who settled here.  Go at your own pace\, tours  take as little at 3 hours but can take 6 hours and be broken into 2 or 3 days if you prefer.  \n \nBenefits of a self-guided tour:\nAvailable anytime\, 7 days a week\nFreedom to go at your own time and pace\nOnly pay restaurants for what you order\nTake your time\, break up into tow or more days\n \nWhat you get on a self-guided tour:\nA map to help you find your way\nSelf-guided itinerary for experiencing culinary delights at multiple locations \nAudio guide\, if you prefer listening over reading\nVideos: interviews with chefs and owners\nPhotos of recommended signature dishes\nAnd so much more 
URL:https://tidesinnoc.com/event/oc-bites-sites-self-guided-foodie-fun-tour-52/
LOCATION:OC Foodie Tour\, 3303 Coastal Hwy\, Ocean City\, MD\, 21842\, United States
END:VEVENT
BEGIN:VEVENT
DTSTART;TZID=America/New_York:20230831T100000
DTEND;TZID=America/New_York:20230831T110000
DTSTAMP:20260423T195423
CREATED:20230417T065737Z
LAST-MODIFIED:20230417T065737Z
UID:265142-1693476000-1693479600@tidesinnoc.com
SUMMARY:All About Sharks - Free Summer Program
DESCRIPTION:Join the Ocean City Life Saving Station Museum every Thursday at the Boardwalk Train Station. On Thursday\, learn about sharks and discover what types of shark are found off the coast of Ocean City! This program is free and open to the public. 
URL:https://tidesinnoc.com/event/all-about-sharks-free-summer-program-9/
LOCATION:Ocean City Life-Saving Museum\, 813 S Atlantic Ave\, Ocean City\, MD\, 21842\, United States
END:VEVENT
BEGIN:VEVENT
DTSTART;TZID=America/New_York:20230829T220000
DTEND;TZID=America/New_York:20230829T220000
DTSTAMP:20260423T195423
CREATED:20230701T185753Z
LAST-MODIFIED:20230701T185753Z
UID:271977-1693346400-1693346400@tidesinnoc.com
SUMMARY:Theme Party at Macky's
DESCRIPTION:Macky’s Tuesday night theme parties are back! Featuring a new theme and live DJ’s each week starting May 30 through August 29th. The fun starts at 10:00 pm.  Check out the Theme Night Schedule for the season below and get ready for Summer Nights at Macky’s Bayside Bar and Grille. \n \nTheme Night Schedule:\nMay 30 – Ocean City Tourist\nJune 6 – Toga Party\nJune 13 – Mardi Gras\nJune 20 – Cowboys & Aliens\nJune 27 – Summer Halloween \nJuly 4 – Red White & Blue\nJuly 11 – Anything But Clothes \nJuly 18 – Redneck Ball\nJuly 25 – Boardshort & Bikinis\nAugust 1 – Mustache Bash\nAugust 8 –  I Love The 90’s\nAugust 15 – Luau\nAugust 22 – Celebrity Night\nAugust 29 – Tight & Bright 
URL:https://tidesinnoc.com/event/theme-party-at-mackys-14/
LOCATION:Macky’s Bayside Bar & Grill\, 5311 Coastal Hwy\, Ocean City\, MD\, 21842\, United States
END:VEVENT
BEGIN:VEVENT
DTSTART;TZID=America/New_York:20230828T170000
DTEND;TZID=America/New_York:20230828T210000
DTSTAMP:20260423T195423
CREATED:20230810T065628Z
LAST-MODIFIED:20230810T065628Z
UID:276102-1693242000-1693256400@tidesinnoc.com
SUMMARY:Blake Haley
DESCRIPTION:Grab your seat by the bay\, Blake Haley who has been playing music since he was 15 is playing live on the Pier stage on de bay at Seacrets tonight from 5 pm to 9pm.
URL:https://tidesinnoc.com/event/blake-haley-10/
LOCATION:Seacrets\, 49th Street On The Bay\, Ocean City\, MD\, 21842\, United States
END:VEVENT
BEGIN:VEVENT
DTSTART;TZID=America/New_York:20230828T103000
DTEND;TZID=America/New_York:20230828T113000
DTSTAMP:20260423T195423
CREATED:20230701T070049Z
LAST-MODIFIED:20230701T070049Z
UID:271918-1693218600-1693222200@tidesinnoc.com
SUMMARY:Story Time with the Library
DESCRIPTION:Join us for story time at the Ocean City Library every Monday at 10:30 am\, excluding holidays.  Two to five year old children will gather to hear stories\, enjoy music with movement and make crafts. 
URL:https://tidesinnoc.com/event/story-time-with-the-library-9/
LOCATION:MD
END:VEVENT
BEGIN:VEVENT
DTSTART;TZID=America/New_York:20230824T170000
DTEND;TZID=America/New_York:20230824T170000
DTSTAMP:20260423T195423
CREATED:20230628T185817Z
LAST-MODIFIED:20230628T185817Z
UID:271548-1692896400-1692896400@tidesinnoc.com
SUMMARY:Dance on the Deck
DESCRIPTION:Join Fager’s Island every day for Dancing on the Deck. Have a blast while enjoying good food\, good drinks and great times dancing on the deck at Fager’s Island in Ocean City Maryland.  Thursday to Monday starting at 5pm; Tuesday and Wednesday starting at 9pm. \n \n 
URL:https://tidesinnoc.com/event/dance-on-the-deck-56/
LOCATION:Fager’s Island\, 201 60th St\, Ocean City\, MD\, 21842\, United States
END:VEVENT
BEGIN:VEVENT
DTSTART;TZID=America/New_York:20230823T210000
DTEND;TZID=America/New_York:20230823T210000
DTSTAMP:20260423T195423
CREATED:20230628T065923Z
LAST-MODIFIED:20230628T065923Z
UID:271495-1692824400-1692824400@tidesinnoc.com
SUMMARY:You Don't Want It Party with DJ Papi Roisterous
DESCRIPTION:You Don’t Want It Party with DJ Papi Roisterous who just does not miss a beat… party with him at the Purple Moose Saloon on the Boardwalk in your favorite beach town!   DJ Papi Roisterous throws down hot blends and cuts up like no one else.  For this DJ\, no genre is off limits so don’t be shy with your requests! 
URL:https://tidesinnoc.com/event/you-dont-want-it-party-with-dj-papi-roisterous-12/
LOCATION:Purple Moose Saloon\, 108 S Boardwalk\, Ocean City\, MD\, 21842\, United States
END:VEVENT
BEGIN:VEVENT
DTSTART;TZID=America/New_York:20230822T100000
DTEND;TZID=America/New_York:20230822T230000
DTSTAMP:20260423T195423
CREATED:20230731T065953Z
LAST-MODIFIED:20230731T065953Z
UID:275081-1692698400-1692745200@tidesinnoc.com
SUMMARY:Story Time
DESCRIPTION:Story times at The Salisbury Zoo are scheduled for the second and fourth Tuesday of each month\, beginning April 11th and will begin at 10:00 am.\n \nFamilies will be outside around the stage\, distanced from each other. Please bring a blanket or folding chairs. This program is first-come\, first-served\, and programming is geared towards kids ages 2-5.\n \nThe format will include songs\, facts about the animal of the day\, and a story. Children will be provided a themed craft to take home.\n \nThis program is weather-permitting and there will not be rain dates.
URL:https://tidesinnoc.com/event/story-time-16/
LOCATION:Salisbury Zoological Park\, 755 S Park Dr\, Salisbury\, MD\, 21804\, United States
END:VEVENT
BEGIN:VEVENT
DTSTART;TZID=America/New_York:20230816T100000
DTEND;TZID=America/New_York:20230816T103000
DTSTAMP:20260423T195423
CREATED:20230416T185719Z
LAST-MODIFIED:20230416T185719Z
UID:264991-1692180000-1692181800@tidesinnoc.com
SUMMARY:Knot Tying
DESCRIPTION:Have you always wanted to learn how to tie nautical knots? Swing by the Boardwalk Tram Station and join the Ocean City Life-saving Station Museum and the U.S. Coast Guard Auxiliary and become an expert! Learn how to tie a bowline to how to secure a cleat at this free summer program!
URL:https://tidesinnoc.com/event/knot-tying-11/
LOCATION:Ocean City Life-Saving Museum\, 813 S Atlantic Ave\, Ocean City\, MD\, 21842\, United States
END:VEVENT
BEGIN:VEVENT
DTSTART;TZID=America/New_York:20230813T203000
DTEND;TZID=America/New_York:20230813T203000
DTSTAMP:20260423T195423
CREATED:20230626T065857Z
LAST-MODIFIED:20230626T065857Z
UID:271224-1691958600-1691958600@tidesinnoc.com
SUMMARY:Flying Ivories Dueling Pianos
DESCRIPTION:Dueling pianos involves two baby grand pianos\, both facing each other. The piano players then put on an all request show. Anything the audience wants to hear\, the players are sure to know. Whether its 50’s\, 60’s\, 70’s\, 80’s\, 90’s\, or current\, rap\, country\, or rock and roll. Anything you can imagine\, they can perform!
URL:https://tidesinnoc.com/event/flying-ivories-dueling-pianos-15/
LOCATION:Shenanigan’s Irish Pub\, 309 North Atlantic Avenue\, Ocean City\, MD\, 21842\, United States
END:VEVENT
BEGIN:VEVENT
DTSTART;TZID=America/New_York:20230810T190000
DTEND;TZID=America/New_York:20230810T220000
DTSTAMP:20260423T195423
CREATED:20230804T190002Z
LAST-MODIFIED:20230804T190002Z
UID:275545-1691694000-1691704800@tidesinnoc.com
SUMMARY:Radio Tokyo
DESCRIPTION:Radio Tokyo Returns to Sunset Grille in Ocean City to Rock With You…oh and they will also mix in a little Hip Hop\, R& B\, some Pop and maybe even a small amount of Country. 
URL:https://tidesinnoc.com/event/radio-tokyo-2/
LOCATION:Sunset Grille\, 12933 Sunset Ave\, Ocean City\, MD\, 21842\, United States
END:VEVENT
BEGIN:VEVENT
DTSTART;TZID=America/New_York:20230802T210000
DTEND;TZID=America/New_York:20230802T210000
DTSTAMP:20260423T195423
CREATED:20230625T070117Z
LAST-MODIFIED:20230625T070117Z
UID:271077-1691010000-1691010000@tidesinnoc.com
SUMMARY:Karaoke Night
DESCRIPTION:Wednesday night Karaoke is back at Cowboy Coast Saloon featuring and $.75 Miller Lite and Coors Light Drafts all night\, $5 Cowboy Juice and Deep Eddy Cocktails.  Drink specials begin at 8:00 pm\, Karaoke starts at 9:00 pm. Are you ready to sing on the stage tonight?!\n \n 
URL:https://tidesinnoc.com/event/karaoke-night-16/
LOCATION:Cowboy Coast Saloon\, 1706 Philadelphia Ave\, Ocean City\, MD\, 21842\, United States
END:VEVENT
BEGIN:VEVENT
DTSTART;TZID=America/New_York:20230731T220000
DTEND;TZID=America/New_York:20230731T220000
DTSTAMP:20260423T195423
CREATED:20230719T185618Z
LAST-MODIFIED:20230719T185618Z
UID:273913-1690840800-1690840800@tidesinnoc.com
SUMMARY:Turning the Tide
DESCRIPTION:Turning the Tide is co-led by John Corsale and Juules Wardle; two exceptional performers with unmatched enthusiasm. They win over audiences from the Wobbly Barn in Killington\, VT to Key West\, FL’s Sloppy Joe’s; connecting to crowds with the sly sex appeal of their two lead singers and an impeccable rhythm section. Garret Watts\, formerly of Lima Bean Riot holds down the bass\, while Chad Szeliga of Breaking Benjamin fame beats the drums. Keeping the dance floor moving with a wide repertoire of party smash hits\, Turning the Tide is an exciting young band with a veteran presence.
URL:https://tidesinnoc.com/event/turning-the-tide-9/
LOCATION:Seacrets\, 49th Street On The Bay\, Ocean City\, MD\, 21842\, United States
END:VEVENT
BEGIN:VEVENT
DTSTART;TZID=America/New_York:20230731T150000
DTEND;TZID=America/New_York:20230731T173000
DTSTAMP:20260423T195423
CREATED:20230621T070027Z
LAST-MODIFIED:20230621T070027Z
UID:270253-1690815600-1690824600@tidesinnoc.com
SUMMARY:Paint your Pet Portrait Experience
DESCRIPTION:Enjoy quality time with friends or family while you paint your very own\, unique PET PORTRAIT PAINTING at the OC Painting Experience event studio!  No artistic ability or experience required. Pre-registration is required. Get tix BELOW (scroll down) or contact T.C. Studios at 443-248-4273 \n \nAFTER PURCHASING YOUR TICKET\, YOU MUST EMAIL (TCSTUDIOS11@AOL.COM) A PHOTO OF YOUR PET (1 PER PAINTER/CANVAS). All pet portraits are 100% hand sketched ahead of time\, so it’s important we get your pet photo AT LEAST 48 hrs ahead of time.\n \nAll materials & step-by-step instruction are included! Food/drinks are not included in ticket price\, or provided – you may bring food into the studio.\n \nPRE-REGISTRATION IS REQUIRED. WE CAN NOT ACCEPT WALK-IN’S. THANK YOU FOR UNDERSTANDING! 
URL:https://tidesinnoc.com/event/paint-your-pet-portrait-experience-10/
LOCATION:Ocean City Painting Experience (T.C. Studios)\, 1505 Philadelphia Ave\, Ocean City\, MD\, 21842\, United States
END:VEVENT
BEGIN:VEVENT
DTSTART;TZID=America/New_York:20230731T100000
DTEND;TZID=America/New_York:20230731T103000
DTSTAMP:20260423T195423
CREATED:20230416T065752Z
LAST-MODIFIED:20230416T065752Z
UID:264849-1690797600-1690799400@tidesinnoc.com
SUMMARY:History of our Surfmen - Free Summer Program
DESCRIPTION:Join the Ocean City Life Saving Station Museum every Monday at the Boardwalk Train Station. On Monday\, learn about the heroic men who rescued ships in distress off the coast of Ocean City.  This program is free and open to the public. 
URL:https://tidesinnoc.com/event/history-of-our-surfmen-free-summer-program-5/
LOCATION:Ocean City Life-Saving Museum\, 813 S Atlantic Ave\, Ocean City\, MD\, 21842\, United States
END:VEVENT
BEGIN:VEVENT
DTSTART;TZID=America/New_York:20230728T213000
DTEND;TZID=America/New_York:20230728T213000
DTSTAMP:20260423T195423
CREATED:20230712T065953Z
LAST-MODIFIED:20230712T065953Z
UID:273201-1690579800-1690579800@tidesinnoc.com
SUMMARY:Beats By Deogee
DESCRIPTION:Come dance the night away with your friend and family at Pickles Pub in Ocean City\, Maryland! 80’s and 90’s Beats by Deogee are guaranteed to get you moving and grooving. Stay for our late night happy hour drink specials.  \n \nSunday\nLate Night Happy Hour Drinks\, 10:00 pm\nWednesday\n$4 Select Craft Beer and $5 Bulletts\, 6:00 pm \nFriday \n80’s and 90’s\n$5 Crushes 9:30 pm \n\n 
URL:https://tidesinnoc.com/event/beats-by-deogee-75/
LOCATION:Pickles Pub\, 706 Philadelphia Ave\, Ocean City\, MD\, 21842\, United States
END:VEVENT
BEGIN:VEVENT
DTSTART;TZID=America/New_York:20230727T210000
DTEND;TZID=America/New_York:20230727T210000
DTSTAMP:20260423T195423
CREATED:20230711T065854Z
LAST-MODIFIED:20230711T065854Z
UID:273091-1690491600-1690491600@tidesinnoc.com
SUMMARY:DJ Davie
DESCRIPTION:DJ Davie is ready to mix up your favorite dance tunes and classic hits and knows just how to keep you moving and grooving at Seacrets Jamaica USA.  Grab a Seacrets spirit and dance the night away! 
URL:https://tidesinnoc.com/event/dj-davie-42/
LOCATION:Seacrets\, 49th Street On The Bay\, Ocean City\, MD\, 21842\, United States
END:VEVENT
BEGIN:VEVENT
DTSTART;TZID=America/New_York:20230726T210000
DTEND;TZID=America/New_York:20230726T210000
DTSTAMP:20260423T195423
CREATED:20230706T190033Z
LAST-MODIFIED:20230706T190033Z
UID:272538-1690405200-1690405200@tidesinnoc.com
SUMMARY:I&I Riddim Reggae
DESCRIPTION:Hail Up! And\nFasten your seatbelts. Prepare for an electrifying journey to the Caribbean.\nI&I Riddim is Washington DC’s THREE-TIME award-winning reggae band! The\nname captures the spirit of this band’s music: “riddim” is reggae’s\nirresistible upbeat dance rhythm\, and “I&I” expresses Bob\nMarley’s “One Love” equality for all people.
URL:https://tidesinnoc.com/event/ii-riddim-reggae-4/
LOCATION:Seacrets\, 49th Street On The Bay\, Ocean City\, MD\, 21842\, United States
END:VEVENT
BEGIN:VEVENT
DTSTART;TZID=America/New_York:20230725T160000
DTEND;TZID=America/New_York:20230725T200000
DTSTAMP:20260423T195423
CREATED:20230715T185903Z
LAST-MODIFIED:20230715T185903Z
UID:273581-1690300800-1690315200@tidesinnoc.com
SUMMARY:Jess Arms Live
DESCRIPTION:Check out Jess Arms at the Skye Bar and Grill in Ocean City\, MD! Enjoy live entertainment while taking advantage of the awesome Happy Hour drink specials that are offered daily from 4:00 pm to 8:00pm. Good time guarantee!
URL:https://tidesinnoc.com/event/jess-arms-live-2/
LOCATION:Skye Bar & Grille\, 6601 Coastal Hwy\, Ocean City\, MD\, 21842\, United States
END:VEVENT
BEGIN:VEVENT
DTSTART;TZID=America/New_York:20230722T220000
DTEND;TZID=America/New_York:20230722T220000
DTSTAMP:20260423T195423
CREATED:20230618T065937Z
LAST-MODIFIED:20230618T065937Z
UID:270033-1690063200-1690063200@tidesinnoc.com
SUMMARY:Surreal
DESCRIPTION:Surreal is one of the most popular classic rock bands in the Mid-Atlantic area. Exceptional musical talent\, skilled precision\, soaring four part vocal harmonies\, dynamic personalities\, awesome song list and professional sound\, lighting and stage production is guaranteed to please a wide variety of classic rock fans everywhere they perform\, with a highly entertaining and high energy live show that truly delivers\, night after night.
URL:https://tidesinnoc.com/event/surreal-6/
LOCATION:Purple Moose Saloon\, 108 S Boardwalk\, Ocean City\, MD\, 21842\, United States
END:VEVENT
BEGIN:VEVENT
DTSTART;TZID=America/New_York:20230721T170000
DTEND;TZID=America/New_York:20230721T170000
DTSTAMP:20260423T195423
CREATED:20230624T065951Z
LAST-MODIFIED:20230624T065951Z
UID:270889-1689958800-1689958800@tidesinnoc.com
SUMMARY:Dance on the Deck
DESCRIPTION:Join Fager’s Island every day for Dancing on the Deck. Have a blast while enjoying good food\, good drinks and great times dancing on the deck at Fager’s Island in Ocean City Maryland.  Thursday to Monday starting at 5pm; Tuesday and Wednesday starting at 9pm. \n \n 
URL:https://tidesinnoc.com/event/dance-on-the-deck-35/
LOCATION:Fager’s Island\, 201 60th St\, Ocean City\, MD\, 21842\, United States
END:VEVENT
BEGIN:VEVENT
DTSTART;TZID=America/New_York:20230719T100000
DTEND;TZID=America/New_York:20230719T103000
DTSTAMP:20260423T195423
CREATED:20230415T185733Z
LAST-MODIFIED:20230415T185733Z
UID:264768-1689760800-1689762600@tidesinnoc.com
SUMMARY:Knot Tying
DESCRIPTION:Have you always wanted to learn how to tie nautical knots? Swing by the Boardwalk Tram Station and join the Ocean City Life-saving Station Museum and the U.S. Coast Guard Auxiliary and become an expert! Learn how to tie a bowline to how to secure a cleat at this free summer program!
URL:https://tidesinnoc.com/event/knot-tying-4/
LOCATION:Ocean City Life-Saving Museum\, 813 S Atlantic Ave\, Ocean City\, MD\, 21842\, United States
END:VEVENT
BEGIN:VEVENT
DTSTART;TZID=America/New_York:20230713T100000
DTEND;TZID=America/New_York:20230713T230000
DTSTAMP:20260423T195423
CREATED:20230617T070121Z
LAST-MODIFIED:20230617T070121Z
UID:269964-1689242400-1689289200@tidesinnoc.com
SUMMARY:Nature Play
DESCRIPTION:Nature Play will take place the Thursday after each story time through Aug. 10\, except for April 13 and May 25. Families with kids ages 2-8 can meet at the stage area near the Education Center at 10 a.m. and engage in sensory activities that reinforce the beginning stages of learning in an outdoor setting. Nature Play enables the developing capacities for creating\, playing\, problem solving and intellectual development. It is free to attend.
URL:https://tidesinnoc.com/event/nature-play-2/
LOCATION:Salisbury Zoological Park\, 755 S Park Dr\, Salisbury\, MD\, 21804\, United States
END:VEVENT
BEGIN:VEVENT
DTSTART;TZID=America/New_York:20230712T100000
DTEND;TZID=America/New_York:20230712T103000
DTSTAMP:20260423T195423
CREATED:20230415T065921Z
LAST-MODIFIED:20230415T065921Z
UID:264707-1689156000-1689157800@tidesinnoc.com
SUMMARY:Knot Tying
DESCRIPTION:Have you always wanted to learn how to tie nautical knots? Swing by the Boardwalk Tram Station and join the Ocean City Life-saving Station Museum and the U.S. Coast Guard Auxiliary and become an expert! Learn how to tie a bowline to how to secure a cleat at this free summer program!
URL:https://tidesinnoc.com/event/knot-tying-2/
LOCATION:Ocean City Life-Saving Museum\, 813 S Atlantic Ave\, Ocean City\, MD\, 21842\, United States
ATTACH;FMTTYPE=image/png:/app/uploads/2023/04/knot_tying_explore-1.png
END:VEVENT
END:VCALENDAR