BEGIN:VCALENDAR
VERSION:2.0
PRODID:-//Ocean City MD Rooms | The Tides Inn OC Vacations - ECPv6.15.13//NONSGML v1.0//EN
CALSCALE:GREGORIAN
METHOD:PUBLISH
X-WR-CALNAME:Ocean City MD Rooms | The Tides Inn OC Vacations
X-ORIGINAL-URL:https://tidesinnoc.com
X-WR-CALDESC:Events for Ocean City MD Rooms | The Tides Inn OC Vacations
REFRESH-INTERVAL;VALUE=DURATION:PT1H
X-Robots-Tag:noindex
X-PUBLISHED-TTL:PT1H
BEGIN:VTIMEZONE
TZID:America/New_York
BEGIN:DAYLIGHT
TZOFFSETFROM:-0500
TZOFFSETTO:-0400
TZNAME:EDT
DTSTART:20180311T070000
END:DAYLIGHT
BEGIN:STANDARD
TZOFFSETFROM:-0400
TZOFFSETTO:-0500
TZNAME:EST
DTSTART:20181104T060000
END:STANDARD
BEGIN:DAYLIGHT
TZOFFSETFROM:-0500
TZOFFSETTO:-0400
TZNAME:EDT
DTSTART:20190310T070000
END:DAYLIGHT
BEGIN:STANDARD
TZOFFSETFROM:-0400
TZOFFSETTO:-0500
TZNAME:EST
DTSTART:20191103T060000
END:STANDARD
BEGIN:DAYLIGHT
TZOFFSETFROM:-0500
TZOFFSETTO:-0400
TZNAME:EDT
DTSTART:20200308T070000
END:DAYLIGHT
BEGIN:STANDARD
TZOFFSETFROM:-0400
TZOFFSETTO:-0500
TZNAME:EST
DTSTART:20201101T060000
END:STANDARD
END:VTIMEZONE
BEGIN:VEVENT
DTSTART;TZID=America/New_York:20190220T100000
DTEND;TZID=America/New_York:20190220T150000
DTSTAMP:20260425T190159
CREATED:20190220T185016Z
LAST-MODIFIED:20190220T185016Z
UID:16184-1550656800-1550674800@tidesinnoc.com
SUMMARY:Maryland VA Representative
DESCRIPTION:Maryland Department of Veterans Affairs representative Michelle Licata offers outreach services to veterans and their families on the 3rd Wednesday of each month. No appointment necessary. For more information please call 410-713-3482. 
URL:https://tidesinnoc.com/event/maryland-va-representative-4/
LOCATION:Worcester County Library – Ocean Pines Branch\, 11107 Cathell Rd\, Berlin\, MD\, 21811\, United States
END:VEVENT
BEGIN:VEVENT
DTSTART;TZID=America/New_York:20190220T100000
DTEND;TZID=America/New_York:20190220T150000
DTSTAMP:20260425T190159
CREATED:20190220T065339Z
LAST-MODIFIED:20190220T065339Z
UID:16183-1550656800-1550674800@tidesinnoc.com
SUMMARY:Maryland VA Representative
DESCRIPTION:Maryland Department of Veterans Affairs representative Michelle Licata offers outreach services to veterans and their families on the 3rd Wednesday of each month. No appointment necessary. For more information please call 410-713-3482. 
URL:https://tidesinnoc.com/event/maryland-va-representative-3/
LOCATION:Worcester County Library – Ocean Pines Branch\, 11107 Cathell Rd\, Berlin\, MD\, 21811\, United States
END:VEVENT
BEGIN:VEVENT
DTSTART;TZID=America/New_York:20190219T090000
DTEND;TZID=America/New_York:20190219T150000
DTSTAMP:20260425T190159
CREATED:20190219T184947Z
LAST-MODIFIED:20190219T184947Z
UID:16182-1550566800-1550588400@tidesinnoc.com
SUMMARY:Art Class
DESCRIPTION:Check out the art classes starting at 9 a.m.  \n \nFor more information\, please contact Evan Fitzgerald. Evan is currently an adjunct professor at Salisbury University. 
URL:https://tidesinnoc.com/event/art-class-3/
LOCATION:Red Doors Community Center\, 10959 Worcester Hwy\, Berlin\, MD\, 21811\, United States
END:VEVENT
BEGIN:VEVENT
DTSTART;TZID=America/New_York:20190219T090000
DTEND;TZID=America/New_York:20190219T150000
DTSTAMP:20260425T190159
CREATED:20190219T065111Z
LAST-MODIFIED:20190219T065111Z
UID:16181-1550566800-1550588400@tidesinnoc.com
SUMMARY:Art Class
DESCRIPTION:Check out the art classes starting at 9 a.m.  \n \nFor more information\, please contact Evan Fitzgerald. Evan is currently an adjunct professor at Salisbury University. 
URL:https://tidesinnoc.com/event/art-class-2/
LOCATION:Red Doors Community Center\, 10959 Worcester Hwy\, Berlin\, MD\, 21811\, United States
END:VEVENT
BEGIN:VEVENT
DTSTART;TZID=America/New_York:20190218T090000
DTEND;TZID=America/New_York:20190218T150000
DTSTAMP:20260425T190159
CREATED:20190218T185029Z
LAST-MODIFIED:20190218T185029Z
UID:16180-1550480400-1550502000@tidesinnoc.com
SUMMARY:Free Tax Preparation
DESCRIPTION:Come to the Ocean Pines Library for free tax preparation. Please call to make an appointment\, 443-373-2667. This service is open to all ages and non AARP members. 
URL:https://tidesinnoc.com/event/free-tax-preparation-2/
LOCATION:Worcester County Library – Ocean Pines Branch\, 11107 Cathell Rd\, Berlin\, MD\, 21811\, United States
END:VEVENT
BEGIN:VEVENT
DTSTART;TZID=America/New_York:20190218T090000
DTEND;TZID=America/New_York:20190218T150000
DTSTAMP:20260425T190159
CREATED:20190218T065027Z
LAST-MODIFIED:20190218T065027Z
UID:16179-1550480400-1550502000@tidesinnoc.com
SUMMARY:Free Tax Preparation
DESCRIPTION:Come to the Ocean Pines Library for free tax preparation. Please call to make an appointment\, 443-373-2667. This service is open to all ages and non AARP members. 
URL:https://tidesinnoc.com/event/free-tax-preparation/
LOCATION:Worcester County Library – Ocean Pines Branch\, 11107 Cathell Rd\, Berlin\, MD\, 21811\, United States
END:VEVENT
BEGIN:VEVENT
DTSTART;TZID=America/New_York:20190217T080000
DTEND;TZID=America/New_York:20190217T120000
DTSTAMP:20260425T190159
CREATED:20190217T185016Z
LAST-MODIFIED:20190217T185016Z
UID:16178-1550390400-1550404800@tidesinnoc.com
SUMMARY:All-You-Can-Eat Breakfast
DESCRIPTION:Enjoy an all you can eat breakfast that serves scrambled eggs\, Western eggs\, pancakes\, biscuits\, creamed chip beef\, sausage\, bacon\, fruit\, hash brown\, casserole and sweets. \n \nThe cost for this event is $10. 
URL:https://tidesinnoc.com/event/all-you-can-eat-breakfast-2/
LOCATION:St. Mary Star of The Sea\, 1705 Philadelphia Ave\, Ocean City\, MD\, 21842\, United States
END:VEVENT
BEGIN:VEVENT
DTSTART;TZID=America/New_York:20190217T080000
DTEND;TZID=America/New_York:20190217T120000
DTSTAMP:20260425T190159
CREATED:20190217T064951Z
LAST-MODIFIED:20190217T064951Z
UID:16177-1550390400-1550404800@tidesinnoc.com
SUMMARY:All-You-Can-Eat Breakfast
DESCRIPTION:Enjoy an all you can eat breakfast that serves scrambled eggs\, Western eggs\, pancakes\, biscuits\, creamed chip beef\, sausage\, bacon\, fruit\, hash brown\, casserole and sweets. \n \nThe cost for this event is $10. 
URL:https://tidesinnoc.com/event/all-you-can-eat-breakfast/
LOCATION:St. Mary Star of The Sea\, 1705 Philadelphia Ave\, Ocean City\, MD\, 21842\, United States
END:VEVENT
BEGIN:VEVENT
DTSTART;TZID=America/New_York:20190216T000000
DTEND;TZID=America/New_York:20190216T000000
DTSTAMP:20260425T190159
CREATED:20190216T184945Z
LAST-MODIFIED:20190216T184945Z
UID:16175-1550275200-1550275200@tidesinnoc.com
SUMMARY:Engaged Public Event
DESCRIPTION:There will be wine\, cheese and chocolate at this romantic event for engaged couples. Enjoy a delicious dinner along with an overnight stay in one of the six unique rooms with private bath. Explore this gorgeous wedding venue.  
URL:https://tidesinnoc.com/event/engaged-public-event-2/
LOCATION:Merry Sherwood Plantation\, 8909 Worcester Hwy\, Berlin\, MD\, 21811\, United States
END:VEVENT
BEGIN:VEVENT
DTSTART;TZID=America/New_York:20190216T000000
DTEND;TZID=America/New_York:20190216T000000
DTSTAMP:20260425T190159
CREATED:20190216T065021Z
LAST-MODIFIED:20190216T065021Z
UID:16174-1550275200-1550275200@tidesinnoc.com
SUMMARY:Engaged Public Event
DESCRIPTION:There will be wine\, cheese and chocolate at this romantic event for engaged couples. Enjoy a delicious dinner along with an overnight stay in one of the six unique rooms with private bath. Explore this gorgeous wedding venue.  
URL:https://tidesinnoc.com/event/engaged-public-event/
LOCATION:Merry Sherwood Plantation\, 8909 Worcester Hwy\, Berlin\, MD\, 21811\, United States
END:VEVENT
BEGIN:VEVENT
DTSTART;TZID=America/New_York:20190215T000000
DTEND;TZID=America/New_York:20190215T000000
DTSTAMP:20260425T190159
CREATED:20190215T185155Z
LAST-MODIFIED:20190215T185155Z
UID:16172-1550188800-1550188800@tidesinnoc.com
SUMMARY:The Glass Onion Band
DESCRIPTION:Glass Onion is Delaware’s Premier Party Band and tonight they are live and on our stage!  Established in 2000\, Glass Onion performs covers of Rock and Roll and R&B dance music at venues throughout Delaware\, Maryland\, and Pennsylvania. Their mix of popular tunes ranges from 1950 to 2017. From Jerry Lee Lewis and The Temptations to Lynyrd Skynyrd and Bruno Mars. Everyone is sure to find themselves singing along and dancing the night away!\n \n \nNo Cover!
URL:https://tidesinnoc.com/event/the-glass-onion-band-5/
LOCATION:Harpoon Hanna’s\, 39064 Harpoon Road\, Fenwick Island\, DE\, 19944\, United States
END:VEVENT
BEGIN:VEVENT
DTSTART;TZID=America/New_York:20190215T000000
DTEND;TZID=America/New_York:20190215T000000
DTSTAMP:20260425T190159
CREATED:20190215T065048Z
LAST-MODIFIED:20190215T065048Z
UID:16171-1550188800-1550188800@tidesinnoc.com
SUMMARY:The Glass Onion Band
DESCRIPTION:Glass Onion is Delaware’s Premier Party Band and tonight they are live and on our stage!  Established in 2000\, Glass Onion performs covers of Rock and Roll and R&B dance music at venues throughout Delaware\, Maryland\, and Pennsylvania. Their mix of popular tunes ranges from 1950 to 2017. From Jerry Lee Lewis and The Temptations to Lynyrd Skynyrd and Bruno Mars. Everyone is sure to find themselves singing along and dancing the night away!\n \n \nNo Cover!
URL:https://tidesinnoc.com/event/the-glass-onion-band-4/
LOCATION:Harpoon Hanna’s\, 39064 Harpoon Road\, Fenwick Island\, DE\, 19944\, United States
END:VEVENT
BEGIN:VEVENT
DTSTART;VALUE=DATE:20190214
DTEND;VALUE=DATE:20190215
DTSTAMP:20260425T190159
CREATED:20190214T184958Z
LAST-MODIFIED:20190214T184958Z
UID:16170-1550102400-1550188799@tidesinnoc.com
SUMMARY:Show Your Valentine Some Love
DESCRIPTION:Show your Valentine some love. Enjoy a complimentary glass of champagne and chocolate fountain. Packages include $129 60 minute float/60 minute massage or $99 two 60 minute floats.  
URL:https://tidesinnoc.com/event/show-your-valentine-some-love-2/
LOCATION:Ocean Elements Salt Spa & Float Center\, 11934 Ocean Gateway\, Ocean City\, MD\, 21842\, United States
END:VEVENT
BEGIN:VEVENT
DTSTART;VALUE=DATE:20190214
DTEND;VALUE=DATE:20190215
DTSTAMP:20260425T190159
CREATED:20190214T065316Z
LAST-MODIFIED:20190214T065316Z
UID:16165-1550102400-1550188799@tidesinnoc.com
SUMMARY:Show Your Valentine Some Love
DESCRIPTION:Show your Valentine some love. Enjoy a complimentary glass of champagne and chocolate fountain. Packages include $129 60 minute float/60 minute massage or $99 two 60 minute floats.  
URL:https://tidesinnoc.com/event/show-your-valentine-some-love/
LOCATION:Ocean Elements Salt Spa & Float Center\, 11934 Ocean Gateway\, Ocean City\, MD\, 21842\, United States
END:VEVENT
BEGIN:VEVENT
DTSTART;TZID=America/New_York:20190213T140000
DTEND;TZID=America/New_York:20190213T150000
DTSTAMP:20260425T190159
CREATED:20190213T185237Z
LAST-MODIFIED:20190213T185237Z
UID:16160-1550066400-1550070000@tidesinnoc.com
SUMMARY:Ocean City Book of the Month
DESCRIPTION:Join the Ocean City Book of the Month Club: The Little Paris Bookshop by Nina George. Join the Ocean City Library each month for a lively book discussion facilitated by Tyvonnia Braxton To obtain a copy of the book please call the Ocean City Branch at 410-524-1818. 
URL:https://tidesinnoc.com/event/ocean-city-book-of-the-month-2/
LOCATION:Worcester County Library – Ocean City Branch\, 10003 Coastal Hwy\, Ocean City\, MD\, 21842\, United States
END:VEVENT
BEGIN:VEVENT
DTSTART;TZID=America/New_York:20190213T140000
DTEND;TZID=America/New_York:20190213T150000
DTSTAMP:20260425T190159
CREATED:20190213T065120Z
LAST-MODIFIED:20190213T065120Z
UID:16159-1550066400-1550070000@tidesinnoc.com
SUMMARY:Ocean City Book of the Month
DESCRIPTION:Join the Ocean City Book of the Month Club: The Little Paris Bookshop by Nina George. Join the Ocean City Library each month for a lively book discussion facilitated by Tyvonnia Braxton To obtain a copy of the book please call the Ocean City Branch at 410-524-1818. 
URL:https://tidesinnoc.com/event/ocean-city-book-of-the-month/
LOCATION:Worcester County Library – Ocean City Branch\, 10003 Coastal Hwy\, Ocean City\, MD\, 21842\, United States
END:VEVENT
BEGIN:VEVENT
DTSTART;TZID=America/New_York:20190212T090000
DTEND;TZID=America/New_York:20190212T150000
DTSTAMP:20260425T190159
CREATED:20190212T065026Z
LAST-MODIFIED:20190212T065026Z
UID:16156-1549962000-1549983600@tidesinnoc.com
SUMMARY:Art Class
DESCRIPTION:Check out the art classes starting at 9 a.m.  \n \nFor more information\, please contact Evan Fitzgerald. Evan is currently an adjunct professor at Salisbury University. 
URL:https://tidesinnoc.com/event/art-class/
LOCATION:Red Doors Community Center\, 10959 Worcester Hwy\, Berlin\, MD\, 21811\, United States
END:VEVENT
BEGIN:VEVENT
DTSTART;VALUE=DATE:20190212
DTEND;VALUE=DATE:20190213
DTSTAMP:20260425T190159
CREATED:20190212T185153Z
LAST-MODIFIED:20190212T185153Z
UID:16158-1549929600-1550015999@tidesinnoc.com
SUMMARY:Valentine's Day reservations
DESCRIPTION:Nantuckets Restaurant in Fenwick Island\, Delaware will host a delicious Valentine’s Day dinner\, happening Feb. 13-17\, 5-10 p.m. Today is the last day to make Valentine’s Day reservations. To reserve your spot\, please call 302-539-2607. 
URL:https://tidesinnoc.com/event/valentines-day-reservations/
LOCATION:Nantuckets Restaurant\, 601 Coastal Hwy\, Fenwick Island\, DE\, 19944\, United States
END:VEVENT
BEGIN:VEVENT
DTSTART;TZID=America/New_York:20190211T100000
DTEND;TZID=America/New_York:20190211T150000
DTSTAMP:20260425T190159
CREATED:20190211T185015Z
LAST-MODIFIED:20190211T185015Z
UID:16154-1549879200-1549897200@tidesinnoc.com
SUMMARY:Beginners and Beyond Watercolor Workshop
DESCRIPTION:$90 members\, $110 non-members. \n \nNew Students: new students may register at any time. Please contact Barbara Schmid to check that there is availability of space in the class.  Barbara Schmid phone: 410-208-0219 | Email: Barbaradoyleschmid8@yahoo.com\n \n1. USA Southwest Day: desert views\, plants\, people\, Native American ruins\, deserted barns\, mountains\, etc. . Study of the triads which speak for the region.\n2. Pets\, animal friends…and the like.\nBring regular WC equipment in May\, along with photo references and sketchbook.\n \nRegistration is “first come\, first served”. 1 or 2 day registrations are not possible.\n \nClasses are for all levels\, and absolute beginners are very welcome. We have complete rental paint kits available to new watercolor painters along with special lessons to get you started and try the medium before you invest in supplies! Each class is 3 days. Day 3 is always a “Clinic\, Completion\, and Technique ” day\, offering time to polish and finish previous 2 days’ work\, and to take advantage of private demos and lessons.\n 
URL:https://tidesinnoc.com/event/beginners-and-beyond-watercolor-workshop-3/
LOCATION:Art League of Ocean City\, 502 94th St\, Ocean City\, MD\, 21842\, United States
END:VEVENT
BEGIN:VEVENT
DTSTART;TZID=America/New_York:20190211T100000
DTEND;TZID=America/New_York:20190211T150000
DTSTAMP:20260425T190159
CREATED:20190211T065211Z
LAST-MODIFIED:20190211T065211Z
UID:16153-1549879200-1549897200@tidesinnoc.com
SUMMARY:Beginners and Beyond Watercolor Workshop
DESCRIPTION:$90 members\, $110 non-members. \n \nNew Students: new students may register at any time. Please contact Barbara Schmid to check that there is availability of space in the class.  Barbara Schmid phone: 410-208-0219 | Email: Barbaradoyleschmid8@yahoo.com\n \n1. USA Southwest Day: desert views\, plants\, people\, Native American ruins\, deserted barns\, mountains\, etc. . Study of the triads which speak for the region.\n2. Pets\, animal friends…and the like.\nBring regular WC equipment in May\, along with photo references and sketchbook.\n \nRegistration is “first come\, first served”. 1 or 2 day registrations are not possible.\n \nClasses are for all levels\, and absolute beginners are very welcome. We have complete rental paint kits available to new watercolor painters along with special lessons to get you started and try the medium before you invest in supplies! Each class is 3 days. Day 3 is always a “Clinic\, Completion\, and Technique ” day\, offering time to polish and finish previous 2 days’ work\, and to take advantage of private demos and lessons.\n 
URL:https://tidesinnoc.com/event/beginners-and-beyond-watercolor-workshop/
LOCATION:Art League of Ocean City\, 502 94th St\, Ocean City\, MD\, 21842\, United States
END:VEVENT
BEGIN:VEVENT
DTSTART;TZID=America/New_York:20190210T130000
DTEND;TZID=America/New_York:20190210T160000
DTSTAMP:20260425T190159
CREATED:20190210T185220Z
LAST-MODIFIED:20190210T185220Z
UID:16152-1549803600-1549814400@tidesinnoc.com
SUMMARY:SOUP-ER BOWL Throwdown
DESCRIPTION:It’s time for the SOUP-ER BOWL THROWDOWN! Come try soup from Taphouse\, Pickles\, Rare & Rye\, Bluecoast Bethany\, The Hobbit\, Longboard Cafe\, Harpoon Hanna’s\, Ocean Pines Yacht Club\, Ropewalk\, Papa Grandes & much more! \n \n $10 donation at the door benefiting Worcester Youth & Family Services. 
URL:https://tidesinnoc.com/event/soup-er-bowl-throwdown-2/
LOCATION:45th Street Taphouse Bar & Grille\, 4507 Coastal Hwy\, Ocean City\, MD\, 21842\, United States
END:VEVENT
BEGIN:VEVENT
DTSTART;TZID=America/New_York:20190210T130000
DTEND;TZID=America/New_York:20190210T160000
DTSTAMP:20260425T190159
CREATED:20190210T065215Z
LAST-MODIFIED:20190210T065215Z
UID:16150-1549803600-1549814400@tidesinnoc.com
SUMMARY:SOUP-ER BOWL Throwdown
DESCRIPTION:It’s time for the SOUP-ER BOWL THROWDOWN! Come try soup from Taphouse\, Pickles\, Rare & Rye\, Bluecoast Bethany\, The Hobbit\, Longboard Cafe\, Harpoon Hanna’s\, Ocean Pines Yacht Club\, Ropewalk\, Papa Grandes & much more! \n \n $10 donation at the door benefiting Worcester Youth & Family Services. 
URL:https://tidesinnoc.com/event/soup-er-bowl-throwdown/
LOCATION:45th Street Taphouse Bar & Grille\, 4507 Coastal Hwy\, Ocean City\, MD\, 21842\, United States
END:VEVENT
BEGIN:VEVENT
DTSTART;TZID=America/New_York:20190209T080000
DTEND;TZID=America/New_York:20190209T110000
DTSTAMP:20260425T190159
CREATED:20190209T185156Z
LAST-MODIFIED:20190209T185156Z
UID:16148-1549699200-1549710000@tidesinnoc.com
SUMMARY:Pancakes for Seaside Christian Academy's Playground
DESCRIPTION:Join Seaside Christian Academy at Happy Jack Pancake House for an exciting breakfast fundraiser. The pancake breakfast is $12 for adults and $7 for children. This event is cash only. Please consider attending as it raises money for a new playground.
URL:https://tidesinnoc.com/event/pancakes-for-seaside-christian-academys-playground-2/
LOCATION:Happy Jack Pancake House\, 2504 Philadelphia Ave\, Ocean City\, MD\, 21842\, United States
END:VEVENT
BEGIN:VEVENT
DTSTART;TZID=America/New_York:20190209T080000
DTEND;TZID=America/New_York:20190209T110000
DTSTAMP:20260425T190159
CREATED:20190209T065019Z
LAST-MODIFIED:20190209T065019Z
UID:16147-1549699200-1549710000@tidesinnoc.com
SUMMARY:Pancakes for Seaside Christian Academy's Playground
DESCRIPTION:Join Seaside Christian Academy at Happy Jack Pancake House for an exciting breakfast fundraiser. The pancake breakfast is $12 for adults and $7 for children. This event is cash only. Please consider attending as it raises money for a new playground.
URL:https://tidesinnoc.com/event/pancakes-for-seaside-christian-academys-playground/
LOCATION:Happy Jack Pancake House\, 2504 Philadelphia Ave\, Ocean City\, MD\, 21842\, United States
END:VEVENT
BEGIN:VEVENT
DTSTART;VALUE=DATE:20190208
DTEND;VALUE=DATE:20190209
DTSTAMP:20260425T190159
CREATED:20190208T184957Z
LAST-MODIFIED:20190208T184957Z
UID:16145-1549584000-1549670399@tidesinnoc.com
SUMMARY:Ocean City Indoor Soccer Cup
DESCRIPTION:Checkout a new version of the same tournament everyone has\nadmired in recent years. The same exciting action will occur prior to the heat\nhitting Ocean City\, Maryland this upcoming spring and summer season.  \nTEAM ENTRY FEE:  $400 non-refundable fee must accompany\nteam entry form. \nRegistration Deadline: February 20\, 2019 or when the\ntournament fills whichever is first \nMail to:  200-125th Street\, Ocean City\, MD 21842 \nAttn:  St. Patrick’s Soccer Tournament \nChecks Payable to:  The Town of Ocean City\, Fax\nto:  410-250-5409\, E-Mail to: tournaments@oceancitymd.gov
URL:https://tidesinnoc.com/event/ocean-city-indoor-soccer-cup-2/
LOCATION:Northside Park\, 125th St. and the Bay\, 200 125th Street\, Ocean City\, MD\, 21842\, United States
END:VEVENT
BEGIN:VEVENT
DTSTART;VALUE=DATE:20190208
DTEND;VALUE=DATE:20190209
DTSTAMP:20260425T190159
CREATED:20190208T065148Z
LAST-MODIFIED:20190208T065148Z
UID:16144-1549584000-1549670399@tidesinnoc.com
SUMMARY:Ocean City Indoor Soccer Cup
DESCRIPTION:Checkout a new version of the same tournament everyone has\nadmired in recent years. The same exciting action will occur prior to the heat\nhitting Ocean City\, Maryland this upcoming spring and summer season.  \nTEAM ENTRY FEE:  $400 non-refundable fee must accompany\nteam entry form. \nRegistration Deadline: February 20\, 2019 or when the\ntournament fills whichever is first \nMail to:  200-125th Street\, Ocean City\, MD 21842 \nAttn:  St. Patrick’s Soccer Tournament \nChecks Payable to:  The Town of Ocean City\, Fax\nto:  410-250-5409\, E-Mail to: tournaments@oceancitymd.gov
URL:https://tidesinnoc.com/event/ocean-city-indoor-soccer-cup/
LOCATION:Northside Park\, 125th St. and the Bay\, 200 125th Street\, Ocean City\, MD\, 21842\, United States
END:VEVENT
BEGIN:VEVENT
DTSTART;TZID=America/New_York:20190207T100000
DTEND;TZID=America/New_York:20190207T130000
DTSTAMP:20260425T190159
CREATED:20190207T185317Z
LAST-MODIFIED:20190207T185317Z
UID:16142-1549533600-1549544400@tidesinnoc.com
SUMMARY:Local Colors\, Watercolors Class With Geri Gaskill
DESCRIPTION:Watch watercolor demonstrations and try your hand as you paint along with Geri! Have fun while you learn to capture the “local color” in watercolors.\n \nAll levels welcome. Bring your own supplies or rent a complete watercolor kit for $10\n \n\nInstructor Gerilyn Gaskill\n$25 for members\, $30 for non-members\n\n 
URL:https://tidesinnoc.com/event/local-colors-watercolors-class-with-geri-gaskill-4/
LOCATION:Art League of Ocean City\, 502 94th St\, Ocean City\, MD\, 21842\, United States
END:VEVENT
BEGIN:VEVENT
DTSTART;TZID=America/New_York:20190207T100000
DTEND;TZID=America/New_York:20190207T130000
DTSTAMP:20260425T190159
CREATED:20190207T065201Z
LAST-MODIFIED:20190207T065201Z
UID:16141-1549533600-1549544400@tidesinnoc.com
SUMMARY:Local Colors\, Watercolors Class With Geri Gaskill
DESCRIPTION:Watch watercolor demonstrations and try your hand as you paint along with Geri! Have fun while you learn to capture the “local color” in watercolors.\n \nAll levels welcome. Bring your own supplies or rent a complete watercolor kit for $10\n \n\nInstructor Gerilyn Gaskill\n$25 for members\, $30 for non-members\n\n 
URL:https://tidesinnoc.com/event/local-colors-watercolors-class-with-geri-gaskill-3/
LOCATION:Art League of Ocean City\, 502 94th St\, Ocean City\, MD\, 21842\, United States
END:VEVENT
BEGIN:VEVENT
DTSTART;TZID=America/New_York:20190206T070000
DTEND;TZID=America/New_York:20190206T120000
DTSTAMP:20260425T190159
CREATED:20190206T185044Z
LAST-MODIFIED:20190206T185044Z
UID:16140-1549436400-1549454400@tidesinnoc.com
SUMMARY:First Presbyterian Church of Ocean City
DESCRIPTION:Come to First Presbyterian Church of Ocean City for a Grace Parker “All-You-Can-Eat-Breakfast.” Enjoy eggs of any style\, pancakes\, buckwheat pancakes\, sausage\, ham\, biscuits\, hashbrown potatoes\, grits\, coffee and tea. The cost for this event is $9\, carry out is $7.\n \nFor more information\, please call 410-289-9340. 
URL:https://tidesinnoc.com/event/first-presbyterian-church-of-ocean-city-2/
LOCATION:First Presbyterian Church\, 1301 Philadelphia Avenue\, Ocean City\, MD\, 21842\, United States
END:VEVENT
BEGIN:VEVENT
DTSTART;TZID=America/New_York:20190206T070000
DTEND;TZID=America/New_York:20190206T120000
DTSTAMP:20260425T190159
CREATED:20190206T064948Z
LAST-MODIFIED:20190206T064948Z
UID:16139-1549436400-1549454400@tidesinnoc.com
SUMMARY:First Presbyterian Church of Ocean City
DESCRIPTION:Come to First Presbyterian Church of Ocean City for a Grace Parker “All-You-Can-Eat-Breakfast.” Enjoy eggs of any style\, pancakes\, buckwheat pancakes\, sausage\, ham\, biscuits\, hashbrown potatoes\, grits\, coffee and tea. The cost for this event is $9\, carry out is $7.\n \nFor more information\, please call 410-289-9340. 
URL:https://tidesinnoc.com/event/first-presbyterian-church-of-ocean-city/
LOCATION:First Presbyterian Church\, 1301 Philadelphia Avenue\, Ocean City\, MD\, 21842\, United States
END:VEVENT
END:VCALENDAR