BEGIN:VCALENDAR
VERSION:2.0
PRODID:-//Ocean City MD Rooms | The Tides Inn OC Vacations - ECPv6.15.13//NONSGML v1.0//EN
CALSCALE:GREGORIAN
METHOD:PUBLISH
X-WR-CALNAME:Ocean City MD Rooms | The Tides Inn OC Vacations
X-ORIGINAL-URL:https://tidesinnoc.com
X-WR-CALDESC:Events for Ocean City MD Rooms | The Tides Inn OC Vacations
REFRESH-INTERVAL;VALUE=DURATION:PT1H
X-Robots-Tag:noindex
X-PUBLISHED-TTL:PT1H
BEGIN:VTIMEZONE
TZID:America/New_York
BEGIN:DAYLIGHT
TZOFFSETFROM:-0500
TZOFFSETTO:-0400
TZNAME:EDT
DTSTART:20180311T070000
END:DAYLIGHT
BEGIN:STANDARD
TZOFFSETFROM:-0400
TZOFFSETTO:-0500
TZNAME:EST
DTSTART:20181104T060000
END:STANDARD
BEGIN:DAYLIGHT
TZOFFSETFROM:-0500
TZOFFSETTO:-0400
TZNAME:EDT
DTSTART:20190310T070000
END:DAYLIGHT
BEGIN:STANDARD
TZOFFSETFROM:-0400
TZOFFSETTO:-0500
TZNAME:EST
DTSTART:20191103T060000
END:STANDARD
BEGIN:DAYLIGHT
TZOFFSETFROM:-0500
TZOFFSETTO:-0400
TZNAME:EDT
DTSTART:20200308T070000
END:DAYLIGHT
BEGIN:STANDARD
TZOFFSETFROM:-0400
TZOFFSETTO:-0500
TZNAME:EST
DTSTART:20201101T060000
END:STANDARD
END:VTIMEZONE
BEGIN:VEVENT
DTSTART;TZID=America/New_York:20190603T180000
DTEND;TZID=America/New_York:20190603T220000
DTSTAMP:20260425T081158
CREATED:20190501T185751Z
LAST-MODIFIED:20190501T185751Z
UID:27445-1559584800-1559599200@tidesinnoc.com
SUMMARY:Deeley Insurance Guest Bartenders Supporting Believe in Tomorrow
DESCRIPTION:Enjoy drinks and live music as we raise money for one of our spot light charities\, Believe in Tomorrow. Deeley employees will be behind the bar with live music provided by Side Project. 
URL:https://tidesinnoc.com/event/deeley-insurance-guest-bartenders-supporting-believe-in-tomorrow/
LOCATION:Burley Oak Brewing Company\, 10016 Old Ocean City Blvd\, Berlin\, MD\, 21811\, United States
END:VEVENT
BEGIN:VEVENT
DTSTART;TZID=America/New_York:20190603T160000
DTEND;TZID=America/New_York:20190603T200000
DTSTAMP:20260425T081158
CREATED:20190324T065156Z
LAST-MODIFIED:20190324T065156Z
UID:21309-1559577600-1559592000@tidesinnoc.com
SUMMARY:Bob Wilkinson and Joe Smooth
DESCRIPTION:Bob Wilkinson and Joe Smooth team up for a great musical endeavor at Coconuts Beach Bar and Grill.  Bob and Joe will be playing live on the outdoor patio while you enjoy the beachfront restaurant\, great specials and time with your family and friends. 
URL:https://tidesinnoc.com/event/bob-wilkinson-and-joe-smooth-4/
LOCATION:Coconuts Beach Bar & Grill\, 3701 Atlantic Ave\, Ocean City\, MD\, 21842\, United States
END:VEVENT
BEGIN:VEVENT
DTSTART;TZID=America/New_York:20190601T180000
DTEND;TZID=America/New_York:20190601T220000
DTSTAMP:20260425T081158
CREATED:20190403T065219Z
LAST-MODIFIED:20190403T065219Z
UID:22960-1559412000-1559426400@tidesinnoc.com
SUMMARY:Tranzfusion at Ocean Pines Yacht Club
DESCRIPTION:This group of talented musicians has been together for years.  They primarily play rock music.  In 2009\, Tranzfusion won the Coconut Times’ Entertainer of the Year Award.  In 2008 the band won the Daily Times’ #1 All-time Favorite Band Award.
URL:https://tidesinnoc.com/event/tranzfusion-at-ocean-pines-yacht-club-2/
LOCATION:Ocean Pines Yacht Club\, 1 Mumford's Landing Road\, Ocean Pines\, MD\, 21811\, United States
END:VEVENT
BEGIN:VEVENT
DTSTART;TZID=America/New_York:20190529T103000
DTEND;TZID=America/New_York:20190529T120000
DTSTAMP:20260425T081158
CREATED:20190310T065242Z
LAST-MODIFIED:20190310T065242Z
UID:18555-1559125800-1559131200@tidesinnoc.com
SUMMARY:Story Time "Beach"
DESCRIPTION:Families\, grab your kids and head to the Ocean City Branch of the Worcester County Library before heading to the beach. This week’s theme is “beach\,” so your kids will be totally ready to enjoy some fun in the sun.  
URL:https://tidesinnoc.com/event/story-time-beach/
LOCATION:Worcester County Library – Ocean City Branch\, 10003 Coastal Hwy\, Ocean City\, MD\, 21842\, United States
END:VEVENT
BEGIN:VEVENT
DTSTART;TZID=America/New_York:20190525T220000
DTEND;TZID=America/New_York:20190525T220000
DTSTAMP:20260425T081158
CREATED:20190403T185203Z
LAST-MODIFIED:20190403T185203Z
UID:23053-1558821600-1558821600@tidesinnoc.com
SUMMARY:Identity Crisis at Original Greene Turtle
DESCRIPTION:Identity Crisis is a band consisting of “Four Ole Guys\,” who enjoy rocking at the beach bars all year long. Catch band members Ray Perrone\, drums; Jay Rus\, guitar and vocals; Charlie Reppa\, guitar and vocals; and Keith Radke\, bass and vocals.
URL:https://tidesinnoc.com/event/identity-crisis-at-original-greene-turtle/
LOCATION:The Original Greene Turtle\, 11601 Coastal Hwy\, Ocean City\, MD\, 21842\, United States
END:VEVENT
BEGIN:VEVENT
DTSTART;TZID=America/New_York:20190516T090000
DTEND;TZID=America/New_York:20190516T170000
DTSTAMP:20260425T081158
CREATED:20190309T065350Z
LAST-MODIFIED:20190309T065350Z
UID:18345-1557997200-1558026000@tidesinnoc.com
SUMMARY:Cruisin' Ocean City
DESCRIPTION:This popular car show features over 3\,400 hot rods\, customs\, classics\, street machines\, muscle cars and more. Live entertainment\, celebrity guests\, special attractions\, boardwalk parades\, manufacturers vendor midway and more.  Boardwalk Parades.  So many things to see and do\, so make sure you cruise on down to Ocean City\, MD! \n \nAdmission $10/day Thursday and Sunday\, $15/day Friday and Saturday.  Children under 14 are free with an adult. \n \nFor additional information\, visit www.cruisinoceancity.com.
URL:https://tidesinnoc.com/event/cruisin-ocean-city-5/
LOCATION:Convention Center and Inlet Lot\, 4001 Coastal Highway\, Ocean City\, MD\, 21842\, United States
END:VEVENT
BEGIN:VEVENT
DTSTART;TZID=America/New_York:20190504T180000
DTEND;TZID=America/New_York:20190504T200000
DTSTAMP:20260425T081158
CREATED:20190320T185150Z
LAST-MODIFIED:20190320T185150Z
UID:20714-1556992800-1557000000@tidesinnoc.com
SUMMARY:DJ Kutt at Springfest
DESCRIPTION:DJ Kutt will be keeping the energy alive at Springfest 2019. Enjoy some of your favorite hits and dance the night away with family and friends beginning at 6:00PM. Bring in your Spring in Ocean City\, Maryland!
URL:https://tidesinnoc.com/event/dj-kutt-at-springfest-2/
LOCATION:Hugh T. Cropper Inlet Parking Lot\, 809 S Atlantic Avenue\, Ocean City\, MD\, 21842\, United States
END:VEVENT
BEGIN:VEVENT
DTSTART;TZID=America/New_York:20190504T100000
DTEND;TZID=America/New_York:20190504T120000
DTSTAMP:20260425T081158
CREATED:20190308T065403Z
LAST-MODIFIED:20190308T065403Z
UID:18056-1556964000-1556971200@tidesinnoc.com
SUMMARY:First Saturday Writers
DESCRIPTION:Enjoy sharing your prose and poetry during this open writers session. This structure will include appreciation\, critique\, market leads and writing exercises.  
URL:https://tidesinnoc.com/event/first-saturday-writers-2/
LOCATION:Berlin Branch – Worcester County Library\, Ocean City\, MD\, United States
END:VEVENT
BEGIN:VEVENT
DTSTART;TZID=America/New_York:20190426T170000
DTEND;TZID=America/New_York:20190426T200000
DTSTAMP:20260425T081158
CREATED:20190307T185245Z
LAST-MODIFIED:20190307T185245Z
UID:17890-1556298000-1556308800@tidesinnoc.com
SUMMARY:Lauren Glick and Dave Tarlecki Performance
DESCRIPTION:Lauren Glick can deliver just about any style of music\, but she is known as the “Janis Joplin” of the beach. Lauren sings from the heart and soul\, giving it all she’s got. On the other side of the spectrum\, her original music is influenced by Tori Amos\, Kate Bush\, Sara McLaughlin\, and Amy Mann.\n 
URL:https://tidesinnoc.com/event/lauren-glick-and-dave-tarlecki-performance-4/
LOCATION:The Original Crabcake Factory\, 12000 Coastal Hwy\, Ocean City\, MD\, 21842\, United States
ATTACH;FMTTYPE=:
END:VEVENT
BEGIN:VEVENT
DTSTART;TZID=America/New_York:20190412T180000
DTEND;TZID=America/New_York:20190412T200000
DTSTAMP:20260425T081158
CREATED:20190306T185332Z
LAST-MODIFIED:20190306T185332Z
UID:17479-1555092000-1555099200@tidesinnoc.com
SUMMARY:Family Movie Night “Hop” (2011)
DESCRIPTION:Join us for a night of family fun! Watch a\nmovie and enjoy some snacks provided by the Friends of the Ocean Pines Library.\nPlease register for this event by calling the Ocean Pines Branch at\n410-208-4014\, see you there! 
URL:https://tidesinnoc.com/event/family-movie-night-hop-2011/
LOCATION:Worcester County Library – Ocean Pines Branch\, 11107 Cathell Rd\, Berlin\, MD\, 21811\, United States
END:VEVENT
BEGIN:VEVENT
DTSTART;TZID=America/New_York:20190328T170000
DTEND;TZID=America/New_York:20190328T180000
DTSTAMP:20260425T081158
CREATED:20190305T185408Z
LAST-MODIFIED:20190305T185408Z
UID:16922-1553792400-1553796000@tidesinnoc.com
SUMMARY:Junior NBA Girls Basketball
DESCRIPTION:The JR NBA girls basketball league will help 3rd and 4th grade girls learn the basics of basketball. This league is designed for both the beginner and the skilled player. The JR NBA girls basketball league is a clinic style program for both the skilled player and beginner.  
URL:https://tidesinnoc.com/event/junior-nba-girls-basketball-4/
LOCATION:MD
END:VEVENT
BEGIN:VEVENT
DTSTART;TZID=America/New_York:20190317T150000
DTEND;TZID=America/New_York:20190317T190000
DTSTAMP:20260425T081158
CREATED:20190305T065152Z
LAST-MODIFIED:20190305T065152Z
UID:16543-1552834800-1552849200@tidesinnoc.com
SUMMARY:St. Patrick's Day at Buxy's
DESCRIPTION:Join Buxy’s Salty Dog Saloon and Dry Dock 28 for an exciting afternoon with the West King String Band. The West King String Band originated in Florida\, and consists of a couple of local guys that always enjoy performing in their hometown roots.
URL:https://tidesinnoc.com/event/st-patricks-day-at-buxys/
LOCATION:Buxy’s Salty Dog Saloon\, 2707 Philadelphia Ave\, Ocean City\, MD\, 21842\, United States
END:VEVENT
BEGIN:VEVENT
DTSTART;TZID=America/New_York:20190304T100000
DTEND;TZID=America/New_York:20190304T120000
DTSTAMP:20260425T081158
CREATED:20190304T185033Z
LAST-MODIFIED:20190304T185033Z
UID:16214-1551693600-1551700800@tidesinnoc.com
SUMMARY:Hypertension Clinic
DESCRIPTION:Join doctors from Atlantic General Hospital on the first Monday of every month at Apple Discount Drug in Berlin for a hypertension clinic. These clinics allow members of the community have a blood pressure screening at no-cost.
URL:https://tidesinnoc.com/event/hypertension-clinic-2/
LOCATION:Atlantic General Hospital\, 9733 Healthway Drive\, Berlin\, MD\, 21811\, United States
END:VEVENT
BEGIN:VEVENT
DTSTART;TZID=America/New_York:20190304T100000
DTEND;TZID=America/New_York:20190304T120000
DTSTAMP:20260425T081158
CREATED:20190304T065112Z
LAST-MODIFIED:20190304T065112Z
UID:16213-1551693600-1551700800@tidesinnoc.com
SUMMARY:Hypertension Clinic
DESCRIPTION:Join doctors from Atlantic General Hospital on the first Monday of every month at Apple Discount Drug in Berlin for a hypertension clinic. These clinics allow members of the community have a blood pressure screening at no-cost.
URL:https://tidesinnoc.com/event/hypertension-clinic/
LOCATION:Atlantic General Hospital\, 9733 Healthway Drive\, Berlin\, MD\, 21811\, United States
END:VEVENT
BEGIN:VEVENT
DTSTART;TZID=America/New_York:20190303T130000
DTEND;TZID=America/New_York:20190303T160000
DTSTAMP:20260425T081158
CREATED:20190303T185215Z
LAST-MODIFIED:20190303T185215Z
UID:16211-1551618000-1551628800@tidesinnoc.com
SUMMARY:7th Annual Eastern Shore OC Bridal Show
DESCRIPTION:Brides\, mark your calendars for the 7th Annual Bridal Expo at Harrison’s Harbor Watch at the Inlet Village in West Ocean City.  Participants can win a gown at the registered cost of $2\,000. Every registered bride will receive a swag bag. 
URL:https://tidesinnoc.com/event/7th-annual-eastern-shore-oc-bridal-show-2/
LOCATION:Harrison’s Harbor Watch\, 806 S Atlantic Ave\, Ocean City\, MD\, 21842\, United States
END:VEVENT
BEGIN:VEVENT
DTSTART;TZID=America/New_York:20190303T130000
DTEND;TZID=America/New_York:20190303T160000
DTSTAMP:20260425T081158
CREATED:20190303T065232Z
LAST-MODIFIED:20190303T065232Z
UID:16210-1551618000-1551628800@tidesinnoc.com
SUMMARY:7th Annual Eastern Shore OC Bridal Show
DESCRIPTION:Brides\, mark your calendars for the 7th Annual Bridal Expo at Harrison’s Harbor Watch at the Inlet Village in West Ocean City.  Participants can win a gown at the registered cost of $2\,000. Every registered bride will receive a swag bag. 
URL:https://tidesinnoc.com/event/7th-annual-eastern-shore-oc-bridal-show/
LOCATION:Harrison’s Harbor Watch\, 806 S Atlantic Ave\, Ocean City\, MD\, 21842\, United States
END:VEVENT
BEGIN:VEVENT
DTSTART;TZID=America/New_York:20190302T090000
DTEND;TZID=America/New_York:20190302T100000
DTSTAMP:20260425T081158
CREATED:20190302T185005Z
LAST-MODIFIED:20190302T185005Z
UID:16208-1551517200-1551520800@tidesinnoc.com
SUMMARY:Rick and Lennon LaRicci at Skye Bar
DESCRIPTION:Hear Rick and Lennon LaRicci at Skye Bar and Grille\, located on 66th Street\, on the roof. Rick and Lennon La Ricci are a father and son duo; performing all over the Ocean City Area with Lennon the piano/keyboard and Rick playing the guitar.
URL:https://tidesinnoc.com/event/rick-and-lennon-laricci-at-skye-bar-2/
LOCATION:Skye Bar & Grille\, 6601 Coastal Hwy\, Ocean City\, MD\, 21842\, United States
END:VEVENT
BEGIN:VEVENT
DTSTART;TZID=America/New_York:20190302T090000
DTEND;TZID=America/New_York:20190302T100000
DTSTAMP:20260425T081158
CREATED:20190302T064953Z
LAST-MODIFIED:20190302T064953Z
UID:16206-1551517200-1551520800@tidesinnoc.com
SUMMARY:Rick and Lennon LaRicci at Skye Bar
DESCRIPTION:Hear Rick and Lennon LaRicci at Skye Bar and Grille\, located on 66th Street\, on the roof. Rick and Lennon La Ricci are a father and son duo; performing all over the Ocean City Area with Lennon the piano/keyboard and Rick playing the guitar.
URL:https://tidesinnoc.com/event/rick-and-lennon-laricci-at-skye-bar/
LOCATION:Skye Bar & Grille\, 6601 Coastal Hwy\, Ocean City\, MD\, 21842\, United States
END:VEVENT
BEGIN:VEVENT
DTSTART;TZID=America/New_York:20190301T000000
DTEND;TZID=America/New_York:20190301T000000
DTSTAMP:20260425T081158
CREATED:20190301T185143Z
LAST-MODIFIED:20190301T185143Z
UID:16204-1551398400-1551398400@tidesinnoc.com
SUMMARY:Nowhere Slow
DESCRIPTION:Come Party With Nowhere Slow! \nNo Where Slow has reached new heights with Listen/Love\, its fourth and most ambitious studio album. Blending pop sensibility with tight harmonies and melodic songwriting\, the four-piece band has branched out in every way\, exploring new sounds.\n 
URL:https://tidesinnoc.com/event/nowhere-slow-2/
LOCATION:Seacrets Jamaica USA\, 117 49th St\, Ocean City\, MD\, 21842\, United States
END:VEVENT
BEGIN:VEVENT
DTSTART;TZID=America/New_York:20190301T000000
DTEND;TZID=America/New_York:20190301T000000
DTSTAMP:20260425T081158
CREATED:20190301T064948Z
LAST-MODIFIED:20190301T064948Z
UID:16203-1551398400-1551398400@tidesinnoc.com
SUMMARY:Nowhere Slow
DESCRIPTION:Come Party With Nowhere Slow! \nNo Where Slow has reached new heights with Listen/Love\, its fourth and most ambitious studio album. Blending pop sensibility with tight harmonies and melodic songwriting\, the four-piece band has branched out in every way\, exploring new sounds.\n 
URL:https://tidesinnoc.com/event/nowhere-slow/
LOCATION:Seacrets Jamaica USA\, 117 49th St\, Ocean City\, MD\, 21842\, United States
END:VEVENT
BEGIN:VEVENT
DTSTART;TZID=America/New_York:20190228T100000
DTEND;TZID=America/New_York:20190228T110000
DTSTAMP:20260425T081158
CREATED:20190228T184951Z
LAST-MODIFIED:20190228T184951Z
UID:16202-1551348000-1551351600@tidesinnoc.com
SUMMARY:Yoga
DESCRIPTION:Come and rejuvenate your body with gentle yoga adapted especially for beginners as well as Seniors. An excellent way to keep both mind and body healthy and strong.  
URL:https://tidesinnoc.com/event/yoga-2/
LOCATION:Ocean City Recreation and Parks Department\, 200-125th St & Bay\, Ocean City\, MD\, 21842\, United States
END:VEVENT
BEGIN:VEVENT
DTSTART;TZID=America/New_York:20190228T100000
DTEND;TZID=America/New_York:20190228T110000
DTSTAMP:20260425T081158
CREATED:20190228T065152Z
LAST-MODIFIED:20190228T065152Z
UID:16201-1551348000-1551351600@tidesinnoc.com
SUMMARY:Yoga
DESCRIPTION:Come and rejuvenate your body with gentle yoga adapted especially for beginners as well as Seniors. An excellent way to keep both mind and body healthy and strong.  
URL:https://tidesinnoc.com/event/yoga/
LOCATION:Ocean City Recreation and Parks Department\, 200-125th St & Bay\, Ocean City\, MD\, 21842\, United States
END:VEVENT
BEGIN:VEVENT
DTSTART;TZID=America/New_York:20190227T143000
DTEND;TZID=America/New_York:20190227T163000
DTSTAMP:20260425T081158
CREATED:20190227T185127Z
LAST-MODIFIED:20190227T185127Z
UID:16199-1551277800-1551285000@tidesinnoc.com
SUMMARY:Canning
DESCRIPTION:Learn how to\nsafely preserve summer bounty at home while enjoying the fresh flavors of home\ncooked food. The class is taught by the University of Maryland Extension Office\nand includes USDA approved preservation guidelines with demonstrations and\nactivities.
URL:https://tidesinnoc.com/event/canning-2/
LOCATION:Berlin Branch – Worcester County Library\, Ocean City\, MD\, United States
END:VEVENT
BEGIN:VEVENT
DTSTART;TZID=America/New_York:20190227T143000
DTEND;TZID=America/New_York:20190227T163000
DTSTAMP:20260425T081158
CREATED:20190227T065016Z
LAST-MODIFIED:20190227T065016Z
UID:16198-1551277800-1551285000@tidesinnoc.com
SUMMARY:Canning
DESCRIPTION:Learn how to\nsafely preserve summer bounty at home while enjoying the fresh flavors of home\ncooked food. The class is taught by the University of Maryland Extension Office\nand includes USDA approved preservation guidelines with demonstrations and\nactivities.
URL:https://tidesinnoc.com/event/canning/
LOCATION:Berlin Branch – Worcester County Library\, Ocean City\, MD\, United States
END:VEVENT
BEGIN:VEVENT
DTSTART;TZID=America/New_York:20190226T090000
DTEND;TZID=America/New_York:20190226T150000
DTSTAMP:20260425T081158
CREATED:20190226T185031Z
LAST-MODIFIED:20190226T185031Z
UID:16197-1551171600-1551193200@tidesinnoc.com
SUMMARY:Art Class
DESCRIPTION:Check out the art classes starting at 9 a.m.  \n \nFor more information\, please contact Evan Fitzgerald. Evan is currently an adjunct professor at Salisbury University. 
URL:https://tidesinnoc.com/event/art-class-5/
LOCATION:Red Doors Community Center\, 10959 Worcester Hwy\, Berlin\, MD\, 21811\, United States
END:VEVENT
BEGIN:VEVENT
DTSTART;TZID=America/New_York:20190226T090000
DTEND;TZID=America/New_York:20190226T150000
DTSTAMP:20260425T081158
CREATED:20190226T065213Z
LAST-MODIFIED:20190226T065213Z
UID:16196-1551171600-1551193200@tidesinnoc.com
SUMMARY:Art Class
DESCRIPTION:Check out the art classes starting at 9 a.m.  \n \nFor more information\, please contact Evan Fitzgerald. Evan is currently an adjunct professor at Salisbury University. 
URL:https://tidesinnoc.com/event/art-class-4/
LOCATION:Red Doors Community Center\, 10959 Worcester Hwy\, Berlin\, MD\, 21811\, United States
END:VEVENT
BEGIN:VEVENT
DTSTART;TZID=America/New_York:20190225T103000
DTEND;TZID=America/New_York:20190225T110000
DTSTAMP:20260425T081158
CREATED:20190225T185044Z
LAST-MODIFIED:20190225T185044Z
UID:16195-1551090600-1551092400@tidesinnoc.com
SUMMARY:Little Learners Program
DESCRIPTION:Little Learners program children will learn about local history and wildlife through story time\, crafts\, live animal encounters and hands on activities. \n \nAdmission: \nFree for members; non-members standard museum admission rates apply. Children 6 and under are free\n \nLittle Learners Program is held every 2nd and 4th Mondays of the month\, excluding holidays.
URL:https://tidesinnoc.com/event/little-learners-program-7/
LOCATION:Ocean City Life-Saving Station Museum\, 813 S Atlantic Ave\, Ocean City\, MD\, 21842\, United States
END:VEVENT
BEGIN:VEVENT
DTSTART;TZID=America/New_York:20190225T103000
DTEND;TZID=America/New_York:20190225T110000
DTSTAMP:20260425T081158
CREATED:20190225T065354Z
LAST-MODIFIED:20190225T065354Z
UID:16194-1551090600-1551092400@tidesinnoc.com
SUMMARY:Little Learners Program
DESCRIPTION:Little Learners program children will learn about local history and wildlife through story time\, crafts\, live animal encounters and hands on activities. \n \nAdmission: \nFree for members; non-members standard museum admission rates apply. Children 6 and under are free\n \nLittle Learners Program is held every 2nd and 4th Mondays of the month\, excluding holidays.
URL:https://tidesinnoc.com/event/little-learners-program-6/
LOCATION:Ocean City Life-Saving Station Museum\, 813 S Atlantic Ave\, Ocean City\, MD\, 21842\, United States
END:VEVENT
BEGIN:VEVENT
DTSTART;TZID=America/New_York:20190224T110000
DTEND;TZID=America/New_York:20190224T130000
DTSTAMP:20260425T081158
CREATED:20190224T185013Z
LAST-MODIFIED:20190224T185013Z
UID:16193-1551006000-1551013200@tidesinnoc.com
SUMMARY:Table Games Brunch
DESCRIPTION:Learn how to play Table Games with first-hand help from our Dealers and enjoy Breakfast at Poseidon’s Pub at this free event at the Ocean Downs Casino.  \n \nPlease RSVP if you are planning to attend.  
URL:https://tidesinnoc.com/event/table-games-brunch-2/
LOCATION:Ocean Downs Casino\, 10218 Racetrack Road\, Berlin\, MD\, 21811\, United States
END:VEVENT
BEGIN:VEVENT
DTSTART;TZID=America/New_York:20190224T110000
DTEND;TZID=America/New_York:20190224T130000
DTSTAMP:20260425T081158
CREATED:20190224T065033Z
LAST-MODIFIED:20190224T065033Z
UID:16192-1551006000-1551013200@tidesinnoc.com
SUMMARY:Table Games Brunch
DESCRIPTION:Learn how to play Table Games with first-hand help from our Dealers and enjoy Breakfast at Poseidon’s Pub at this free event at the Ocean Downs Casino.  \n \nPlease RSVP if you are planning to attend.  
URL:https://tidesinnoc.com/event/table-games-brunch/
LOCATION:Ocean Downs Casino\, 10218 Racetrack Road\, Berlin\, MD\, 21811\, United States
END:VEVENT
END:VCALENDAR