BEGIN:VCALENDAR
VERSION:2.0
PRODID:-//Ocean City MD Rooms | The Tides Inn OC Vacations - ECPv6.15.13//NONSGML v1.0//EN
CALSCALE:GREGORIAN
METHOD:PUBLISH
X-WR-CALNAME:Ocean City MD Rooms | The Tides Inn OC Vacations
X-ORIGINAL-URL:https://tidesinnoc.com
X-WR-CALDESC:Events for Ocean City MD Rooms | The Tides Inn OC Vacations
REFRESH-INTERVAL;VALUE=DURATION:PT1H
X-Robots-Tag:noindex
X-PUBLISHED-TTL:PT1H
BEGIN:VTIMEZONE
TZID:America/New_York
BEGIN:DAYLIGHT
TZOFFSETFROM:-0500
TZOFFSETTO:-0400
TZNAME:EDT
DTSTART:20250309T070000
END:DAYLIGHT
BEGIN:STANDARD
TZOFFSETFROM:-0400
TZOFFSETTO:-0500
TZNAME:EST
DTSTART:20251102T060000
END:STANDARD
BEGIN:DAYLIGHT
TZOFFSETFROM:-0500
TZOFFSETTO:-0400
TZNAME:EDT
DTSTART:20260308T070000
END:DAYLIGHT
BEGIN:STANDARD
TZOFFSETFROM:-0400
TZOFFSETTO:-0500
TZNAME:EST
DTSTART:20261101T060000
END:STANDARD
BEGIN:DAYLIGHT
TZOFFSETFROM:-0500
TZOFFSETTO:-0400
TZNAME:EDT
DTSTART:20270314T070000
END:DAYLIGHT
BEGIN:STANDARD
TZOFFSETFROM:-0400
TZOFFSETTO:-0500
TZNAME:EST
DTSTART:20271107T060000
END:STANDARD
END:VTIMEZONE
BEGIN:VEVENT
DTSTART;TZID=America/New_York:20260808T170000
DTEND;TZID=America/New_York:20260808T210000
DTSTAMP:20260423T182205
CREATED:20260126T185101Z
LAST-MODIFIED:20260423T185025Z
UID:315998-1786208400-1786222800@tidesinnoc.com
SUMMARY:Phil Perdue - "The Piano Man"
DESCRIPTION:Enjoy Phil Perdue “The Piano Man” on the grand piano at the Captain’s Table in Ocean City\, Maryland.  Enjoy fine dining at its best with South African lobster tails\, delicious crab cakes\, certified angus beef steaks and great selection from the bar. Phil’s smooth sounds on the grand piano are a local’s favorite on Friday and Saturday nights.  
URL:https://tidesinnoc.com/event/phil-perdue-the-piano-man-57/
LOCATION:Captain’s Table Restaurant and Bar\, 2 15th St\, Ocean City\, MD\, 21842\, United States
ATTACH;FMTTYPE=:
END:VEVENT
BEGIN:VEVENT
DTSTART;TZID=America/New_York:20260808T193000
DTEND;TZID=America/New_York:20260808T230000
DTSTAMP:20260423T182205
CREATED:20260218T185013Z
LAST-MODIFIED:20260423T185028Z
UID:316908-1786217400-1786230000@tidesinnoc.com
SUMMARY:Whiskey Graves Band
DESCRIPTION:With influences like Neil Diamond who encouraged songs that were authentic and true\, Whiskey Graves found music intoxicating.  Come see this dynamic band play live at High Stakes Bar and Grille in Fenwick Island which always features some of the best local talent! 
URL:https://tidesinnoc.com/event/whiskey-graves-band-2/
LOCATION:High Stakes Bar & Grill\, 5799 Lighthouse Cove Ln\, Fenwick Island\, DE\, 19944\, United States
ATTACH;FMTTYPE=:
END:VEVENT
BEGIN:VEVENT
DTSTART;TZID=America/New_York:20260814T170000
DTEND;TZID=America/New_York:20260814T210000
DTSTAMP:20260423T182205
CREATED:20260126T185102Z
LAST-MODIFIED:20260423T185028Z
UID:315999-1786726800-1786741200@tidesinnoc.com
SUMMARY:Phil Perdue - "The Piano Man"
DESCRIPTION:Enjoy Phil Perdue “The Piano Man” on the grand piano at the Captain’s Table in Ocean City\, Maryland.  Enjoy fine dining at its best with South African lobster tails\, delicious crab cakes\, certified angus beef steaks and great selection from the bar. Phil’s smooth sounds on the grand piano are a local’s favorite on Friday and Saturday nights.  
URL:https://tidesinnoc.com/event/phil-perdue-the-piano-man-58/
LOCATION:Captain’s Table Restaurant and Bar\, 2 15th St\, Ocean City\, MD\, 21842\, United States
ATTACH;FMTTYPE=:
END:VEVENT
BEGIN:VEVENT
DTSTART;TZID=America/New_York:20260815T170000
DTEND;TZID=America/New_York:20260815T210000
DTSTAMP:20260423T182205
CREATED:20260126T185102Z
LAST-MODIFIED:20260423T185028Z
UID:316000-1786813200-1786827600@tidesinnoc.com
SUMMARY:Phil Perdue - "The Piano Man"
DESCRIPTION:Enjoy Phil Perdue “The Piano Man” on the grand piano at the Captain’s Table in Ocean City\, Maryland.  Enjoy fine dining at its best with South African lobster tails\, delicious crab cakes\, certified angus beef steaks and great selection from the bar. Phil’s smooth sounds on the grand piano are a local’s favorite on Friday and Saturday nights.  
URL:https://tidesinnoc.com/event/phil-perdue-the-piano-man-59/
LOCATION:Captain’s Table Restaurant and Bar\, 2 15th St\, Ocean City\, MD\, 21842\, United States
ATTACH;FMTTYPE=:
END:VEVENT
BEGIN:VEVENT
DTSTART;TZID=America/New_York:20260821T170000
DTEND;TZID=America/New_York:20260821T210000
DTSTAMP:20260423T182205
CREATED:20260126T185103Z
LAST-MODIFIED:20260423T185028Z
UID:316001-1787331600-1787346000@tidesinnoc.com
SUMMARY:Phil Perdue - "The Piano Man"
DESCRIPTION:Enjoy Phil Perdue “The Piano Man” on the grand piano at the Captain’s Table in Ocean City\, Maryland.  Enjoy fine dining at its best with South African lobster tails\, delicious crab cakes\, certified angus beef steaks and great selection from the bar. Phil’s smooth sounds on the grand piano are a local’s favorite on Friday and Saturday nights.  
URL:https://tidesinnoc.com/event/phil-perdue-the-piano-man-60/
LOCATION:Captain’s Table Restaurant and Bar\, 2 15th St\, Ocean City\, MD\, 21842\, United States
ATTACH;FMTTYPE=:
END:VEVENT
BEGIN:VEVENT
DTSTART;TZID=America/New_York:20260822T170000
DTEND;TZID=America/New_York:20260822T210000
DTSTAMP:20260423T182205
CREATED:20260126T185103Z
LAST-MODIFIED:20260423T185029Z
UID:316002-1787418000-1787432400@tidesinnoc.com
SUMMARY:Phil Perdue - "The Piano Man"
DESCRIPTION:Enjoy Phil Perdue “The Piano Man” on the grand piano at the Captain’s Table in Ocean City\, Maryland.  Enjoy fine dining at its best with South African lobster tails\, delicious crab cakes\, certified angus beef steaks and great selection from the bar. Phil’s smooth sounds on the grand piano are a local’s favorite on Friday and Saturday nights.  
URL:https://tidesinnoc.com/event/phil-perdue-the-piano-man-61/
LOCATION:Captain’s Table Restaurant and Bar\, 2 15th St\, Ocean City\, MD\, 21842\, United States
ATTACH;FMTTYPE=:
END:VEVENT
BEGIN:VEVENT
DTSTART;TZID=America/New_York:20260828T170000
DTEND;TZID=America/New_York:20260828T210000
DTSTAMP:20260423T182205
CREATED:20260126T185103Z
LAST-MODIFIED:20260423T185029Z
UID:316003-1787936400-1787950800@tidesinnoc.com
SUMMARY:Phil Perdue - "The Piano Man"
DESCRIPTION:Enjoy Phil Perdue “The Piano Man” on the grand piano at the Captain’s Table in Ocean City\, Maryland.  Enjoy fine dining at its best with South African lobster tails\, delicious crab cakes\, certified angus beef steaks and great selection from the bar. Phil’s smooth sounds on the grand piano are a local’s favorite on Friday and Saturday nights.  
URL:https://tidesinnoc.com/event/phil-perdue-the-piano-man-62/
LOCATION:Captain’s Table Restaurant and Bar\, 2 15th St\, Ocean City\, MD\, 21842\, United States
ATTACH;FMTTYPE=:
END:VEVENT
BEGIN:VEVENT
DTSTART;TZID=America/New_York:20260829T170000
DTEND;TZID=America/New_York:20260829T210000
DTSTAMP:20260423T182205
CREATED:20260126T185104Z
LAST-MODIFIED:20260423T185029Z
UID:316004-1788022800-1788037200@tidesinnoc.com
SUMMARY:Phil Perdue - "The Piano Man"
DESCRIPTION:Enjoy Phil Perdue “The Piano Man” on the grand piano at the Captain’s Table in Ocean City\, Maryland.  Enjoy fine dining at its best with South African lobster tails\, delicious crab cakes\, certified angus beef steaks and great selection from the bar. Phil’s smooth sounds on the grand piano are a local’s favorite on Friday and Saturday nights.  
URL:https://tidesinnoc.com/event/phil-perdue-the-piano-man-63/
LOCATION:Captain’s Table Restaurant and Bar\, 2 15th St\, Ocean City\, MD\, 21842\, United States
ATTACH;FMTTYPE=:
END:VEVENT
BEGIN:VEVENT
DTSTART;TZID=America/New_York:20260904T170000
DTEND;TZID=America/New_York:20260904T210000
DTSTAMP:20260423T182205
CREATED:20260126T185104Z
LAST-MODIFIED:20260423T185029Z
UID:316005-1788541200-1788555600@tidesinnoc.com
SUMMARY:Phil Perdue - "The Piano Man"
DESCRIPTION:Enjoy Phil Perdue “The Piano Man” on the grand piano at the Captain’s Table in Ocean City\, Maryland.  Enjoy fine dining at its best with South African lobster tails\, delicious crab cakes\, certified angus beef steaks and great selection from the bar. Phil’s smooth sounds on the grand piano are a local’s favorite on Friday and Saturday nights.  
URL:https://tidesinnoc.com/event/phil-perdue-the-piano-man-64/
LOCATION:Captain’s Table Restaurant and Bar\, 2 15th St\, Ocean City\, MD\, 21842\, United States
ATTACH;FMTTYPE=:
END:VEVENT
BEGIN:VEVENT
DTSTART;TZID=America/New_York:20260905T170000
DTEND;TZID=America/New_York:20260905T210000
DTSTAMP:20260423T182205
CREATED:20260126T185104Z
LAST-MODIFIED:20260423T185029Z
UID:316006-1788627600-1788642000@tidesinnoc.com
SUMMARY:Phil Perdue - "The Piano Man"
DESCRIPTION:Enjoy Phil Perdue “The Piano Man” on the grand piano at the Captain’s Table in Ocean City\, Maryland.  Enjoy fine dining at its best with South African lobster tails\, delicious crab cakes\, certified angus beef steaks and great selection from the bar. Phil’s smooth sounds on the grand piano are a local’s favorite on Friday and Saturday nights.  
URL:https://tidesinnoc.com/event/phil-perdue-the-piano-man-65/
LOCATION:Captain’s Table Restaurant and Bar\, 2 15th St\, Ocean City\, MD\, 21842\, United States
ATTACH;FMTTYPE=:
END:VEVENT
BEGIN:VEVENT
DTSTART;TZID=America/New_York:20260911T170000
DTEND;TZID=America/New_York:20260911T210000
DTSTAMP:20260423T182205
CREATED:20260126T185105Z
LAST-MODIFIED:20260423T185029Z
UID:316007-1789146000-1789160400@tidesinnoc.com
SUMMARY:Phil Perdue - "The Piano Man"
DESCRIPTION:Enjoy Phil Perdue “The Piano Man” on the grand piano at the Captain’s Table in Ocean City\, Maryland.  Enjoy fine dining at its best with South African lobster tails\, delicious crab cakes\, certified angus beef steaks and great selection from the bar. Phil’s smooth sounds on the grand piano are a local’s favorite on Friday and Saturday nights.  
URL:https://tidesinnoc.com/event/phil-perdue-the-piano-man-66/
LOCATION:Captain’s Table Restaurant and Bar\, 2 15th St\, Ocean City\, MD\, 21842\, United States
ATTACH;FMTTYPE=:
END:VEVENT
BEGIN:VEVENT
DTSTART;TZID=America/New_York:20260912T170000
DTEND;TZID=America/New_York:20260912T210000
DTSTAMP:20260423T182205
CREATED:20260126T185105Z
LAST-MODIFIED:20260423T185029Z
UID:316008-1789232400-1789246800@tidesinnoc.com
SUMMARY:Phil Perdue - "The Piano Man"
DESCRIPTION:Enjoy Phil Perdue “The Piano Man” on the grand piano at the Captain’s Table in Ocean City\, Maryland.  Enjoy fine dining at its best with South African lobster tails\, delicious crab cakes\, certified angus beef steaks and great selection from the bar. Phil’s smooth sounds on the grand piano are a local’s favorite on Friday and Saturday nights.  
URL:https://tidesinnoc.com/event/phil-perdue-the-piano-man-67/
LOCATION:Captain’s Table Restaurant and Bar\, 2 15th St\, Ocean City\, MD\, 21842\, United States
ATTACH;FMTTYPE=:
END:VEVENT
BEGIN:VEVENT
DTSTART;TZID=America/New_York:20260912T193000
DTEND;TZID=America/New_York:20260912T230000
DTSTAMP:20260423T182205
CREATED:20260121T065020Z
LAST-MODIFIED:20260423T185033Z
UID:315740-1789241400-1789254000@tidesinnoc.com
SUMMARY:Monkee Paw
DESCRIPTION:Catch Monkee Paw at High Stakes Bar & Grille in Fenwick Island\, Delaware! Monkee Paw’s musical style ranges from duo to quartet\, and they have spent almost a decade performing in Fenwick and Ocean City. Spanning a wide variety of genres\, with a strong focus on vocal harmony. Band members include: Mike Givens\, Rick Smith\, Joseph Wirt\, Ray Perrone\, Dean Haemel and Adam Ask.  
URL:https://tidesinnoc.com/event/monkee-paw-5/
LOCATION:High Stakes Bar & Grill\, 5799 Lighthouse Cove Ln\, Fenwick Island\, DE\, 19944\, United States
ATTACH;FMTTYPE=:
END:VEVENT
BEGIN:VEVENT
DTSTART;TZID=America/New_York:20260918T170000
DTEND;TZID=America/New_York:20260918T210000
DTSTAMP:20260423T182205
CREATED:20260126T185106Z
LAST-MODIFIED:20260423T185033Z
UID:316010-1789750800-1789765200@tidesinnoc.com
SUMMARY:Phil Perdue - "The Piano Man"
DESCRIPTION:Enjoy Phil Perdue “The Piano Man” on the grand piano at the Captain’s Table in Ocean City\, Maryland.  Enjoy fine dining at its best with South African lobster tails\, delicious crab cakes\, certified angus beef steaks and great selection from the bar. Phil’s smooth sounds on the grand piano are a local’s favorite on Friday and Saturday nights.  
URL:https://tidesinnoc.com/event/phil-perdue-the-piano-man-68/
LOCATION:Captain’s Table Restaurant and Bar\, 2 15th St\, Ocean City\, MD\, 21842\, United States
ATTACH;FMTTYPE=:
END:VEVENT
BEGIN:VEVENT
DTSTART;TZID=America/New_York:20260919T170000
DTEND;TZID=America/New_York:20260919T210000
DTSTAMP:20260423T182205
CREATED:20260126T185106Z
LAST-MODIFIED:20260423T185033Z
UID:316011-1789837200-1789851600@tidesinnoc.com
SUMMARY:Phil Perdue - "The Piano Man"
DESCRIPTION:Enjoy Phil Perdue “The Piano Man” on the grand piano at the Captain’s Table in Ocean City\, Maryland.  Enjoy fine dining at its best with South African lobster tails\, delicious crab cakes\, certified angus beef steaks and great selection from the bar. Phil’s smooth sounds on the grand piano are a local’s favorite on Friday and Saturday nights.  
URL:https://tidesinnoc.com/event/phil-perdue-the-piano-man-69/
LOCATION:Captain’s Table Restaurant and Bar\, 2 15th St\, Ocean City\, MD\, 21842\, United States
ATTACH;FMTTYPE=:
END:VEVENT
BEGIN:VEVENT
DTSTART;TZID=America/New_York:20260925T170000
DTEND;TZID=America/New_York:20260925T210000
DTSTAMP:20260423T182205
CREATED:20260126T185106Z
LAST-MODIFIED:20260423T185033Z
UID:316012-1790355600-1790370000@tidesinnoc.com
SUMMARY:Phil Perdue - "The Piano Man"
DESCRIPTION:Enjoy Phil Perdue “The Piano Man” on the grand piano at the Captain’s Table in Ocean City\, Maryland.  Enjoy fine dining at its best with South African lobster tails\, delicious crab cakes\, certified angus beef steaks and great selection from the bar. Phil’s smooth sounds on the grand piano are a local’s favorite on Friday and Saturday nights.  
URL:https://tidesinnoc.com/event/phil-perdue-the-piano-man-70/
LOCATION:Captain’s Table Restaurant and Bar\, 2 15th St\, Ocean City\, MD\, 21842\, United States
ATTACH;FMTTYPE=:
END:VEVENT
BEGIN:VEVENT
DTSTART;TZID=America/New_York:20260926T170000
DTEND;TZID=America/New_York:20260926T210000
DTSTAMP:20260423T182205
CREATED:20260126T185107Z
LAST-MODIFIED:20260423T185033Z
UID:316013-1790442000-1790456400@tidesinnoc.com
SUMMARY:Phil Perdue - "The Piano Man"
DESCRIPTION:Enjoy Phil Perdue “The Piano Man” on the grand piano at the Captain’s Table in Ocean City\, Maryland.  Enjoy fine dining at its best with South African lobster tails\, delicious crab cakes\, certified angus beef steaks and great selection from the bar. Phil’s smooth sounds on the grand piano are a local’s favorite on Friday and Saturday nights.  
URL:https://tidesinnoc.com/event/phil-perdue-the-piano-man-71/
LOCATION:Captain’s Table Restaurant and Bar\, 2 15th St\, Ocean City\, MD\, 21842\, United States
ATTACH;FMTTYPE=:
END:VEVENT
BEGIN:VEVENT
DTSTART;TZID=America/New_York:20261002T170000
DTEND;TZID=America/New_York:20261002T210000
DTSTAMP:20260423T182205
CREATED:20260126T185107Z
LAST-MODIFIED:20260423T185034Z
UID:316014-1790960400-1790974800@tidesinnoc.com
SUMMARY:Phil Perdue - "The Piano Man"
DESCRIPTION:Enjoy Phil Perdue “The Piano Man” on the grand piano at the Captain’s Table in Ocean City\, Maryland.  Enjoy fine dining at its best with South African lobster tails\, delicious crab cakes\, certified angus beef steaks and great selection from the bar. Phil’s smooth sounds on the grand piano are a local’s favorite on Friday and Saturday nights.  
URL:https://tidesinnoc.com/event/phil-perdue-the-piano-man-72/
LOCATION:Captain’s Table Restaurant and Bar\, 2 15th St\, Ocean City\, MD\, 21842\, United States
ATTACH;FMTTYPE=:
END:VEVENT
BEGIN:VEVENT
DTSTART;TZID=America/New_York:20261003T170000
DTEND;TZID=America/New_York:20261003T210000
DTSTAMP:20260423T182205
CREATED:20260126T185107Z
LAST-MODIFIED:20260423T185034Z
UID:316015-1791046800-1791061200@tidesinnoc.com
SUMMARY:Phil Perdue - "The Piano Man"
DESCRIPTION:Enjoy Phil Perdue “The Piano Man” on the grand piano at the Captain’s Table in Ocean City\, Maryland.  Enjoy fine dining at its best with South African lobster tails\, delicious crab cakes\, certified angus beef steaks and great selection from the bar. Phil’s smooth sounds on the grand piano are a local’s favorite on Friday and Saturday nights.  
URL:https://tidesinnoc.com/event/phil-perdue-the-piano-man-73/
LOCATION:Captain’s Table Restaurant and Bar\, 2 15th St\, Ocean City\, MD\, 21842\, United States
ATTACH;FMTTYPE=:
END:VEVENT
BEGIN:VEVENT
DTSTART;TZID=America/New_York:20261009T170000
DTEND;TZID=America/New_York:20261009T210000
DTSTAMP:20260423T182205
CREATED:20260126T185108Z
LAST-MODIFIED:20260423T185034Z
UID:316016-1791565200-1791579600@tidesinnoc.com
SUMMARY:Phil Perdue - "The Piano Man"
DESCRIPTION:Enjoy Phil Perdue “The Piano Man” on the grand piano at the Captain’s Table in Ocean City\, Maryland.  Enjoy fine dining at its best with South African lobster tails\, delicious crab cakes\, certified angus beef steaks and great selection from the bar. Phil’s smooth sounds on the grand piano are a local’s favorite on Friday and Saturday nights.  
URL:https://tidesinnoc.com/event/phil-perdue-the-piano-man-74/
LOCATION:Captain’s Table Restaurant and Bar\, 2 15th St\, Ocean City\, MD\, 21842\, United States
ATTACH;FMTTYPE=:
END:VEVENT
BEGIN:VEVENT
DTSTART;TZID=America/New_York:20261010T170000
DTEND;TZID=America/New_York:20261010T210000
DTSTAMP:20260423T182205
CREATED:20260126T185108Z
LAST-MODIFIED:20260423T185034Z
UID:316017-1791651600-1791666000@tidesinnoc.com
SUMMARY:Phil Perdue - "The Piano Man"
DESCRIPTION:Enjoy Phil Perdue “The Piano Man” on the grand piano at the Captain’s Table in Ocean City\, Maryland.  Enjoy fine dining at its best with South African lobster tails\, delicious crab cakes\, certified angus beef steaks and great selection from the bar. Phil’s smooth sounds on the grand piano are a local’s favorite on Friday and Saturday nights.  
URL:https://tidesinnoc.com/event/phil-perdue-the-piano-man-75/
LOCATION:Captain’s Table Restaurant and Bar\, 2 15th St\, Ocean City\, MD\, 21842\, United States
ATTACH;FMTTYPE=:
END:VEVENT
BEGIN:VEVENT
DTSTART;TZID=America/New_York:20261010T193000
DTEND;TZID=America/New_York:20261010T230000
DTSTAMP:20260423T182205
CREATED:20260218T185018Z
LAST-MODIFIED:20260423T185037Z
UID:316911-1791660600-1791673200@tidesinnoc.com
SUMMARY:Monkee Paw
DESCRIPTION:Catch Monkee Paw at High Stakes Bar & Grille in Fenwick Island\, Delaware! Monkee Paw’s musical style ranges from duo to quartet\, and they have spent almost a decade performing in Fenwick and Ocean City. Spanning a wide variety of genres\, with a strong focus on vocal harmony. Band members include: Mike Givens\, Rick Smith\, Joseph Wirt\, Ray Perrone\, Dean Haemel and Adam Ask.  
URL:https://tidesinnoc.com/event/monkee-paw-6/
LOCATION:High Stakes Bar & Grill\, 5799 Lighthouse Cove Ln\, Fenwick Island\, DE\, 19944\, United States
ATTACH;FMTTYPE=:
END:VEVENT
BEGIN:VEVENT
DTSTART;TZID=America/New_York:20261016T170000
DTEND;TZID=America/New_York:20261016T210000
DTSTAMP:20260423T182205
CREATED:20260126T185108Z
LAST-MODIFIED:20260423T185037Z
UID:316018-1792170000-1792184400@tidesinnoc.com
SUMMARY:Phil Perdue - "The Piano Man"
DESCRIPTION:Enjoy Phil Perdue “The Piano Man” on the grand piano at the Captain’s Table in Ocean City\, Maryland.  Enjoy fine dining at its best with South African lobster tails\, delicious crab cakes\, certified angus beef steaks and great selection from the bar. Phil’s smooth sounds on the grand piano are a local’s favorite on Friday and Saturday nights.  
URL:https://tidesinnoc.com/event/phil-perdue-the-piano-man-76/
LOCATION:Captain’s Table Restaurant and Bar\, 2 15th St\, Ocean City\, MD\, 21842\, United States
ATTACH;FMTTYPE=:
END:VEVENT
BEGIN:VEVENT
DTSTART;TZID=America/New_York:20261017T170000
DTEND;TZID=America/New_York:20261017T210000
DTSTAMP:20260423T182205
CREATED:20260126T185108Z
LAST-MODIFIED:20260423T185037Z
UID:316019-1792256400-1792270800@tidesinnoc.com
SUMMARY:Phil Perdue - "The Piano Man"
DESCRIPTION:Enjoy Phil Perdue “The Piano Man” on the grand piano at the Captain’s Table in Ocean City\, Maryland.  Enjoy fine dining at its best with South African lobster tails\, delicious crab cakes\, certified angus beef steaks and great selection from the bar. Phil’s smooth sounds on the grand piano are a local’s favorite on Friday and Saturday nights.  
URL:https://tidesinnoc.com/event/phil-perdue-the-piano-man-77/
LOCATION:Captain’s Table Restaurant and Bar\, 2 15th St\, Ocean City\, MD\, 21842\, United States
ATTACH;FMTTYPE=:
END:VEVENT
BEGIN:VEVENT
DTSTART;TZID=America/New_York:20261023T170000
DTEND;TZID=America/New_York:20261023T210000
DTSTAMP:20260423T182205
CREATED:20260126T185109Z
LAST-MODIFIED:20260423T185037Z
UID:316020-1792774800-1792789200@tidesinnoc.com
SUMMARY:Phil Perdue - "The Piano Man"
DESCRIPTION:Enjoy Phil Perdue “The Piano Man” on the grand piano at the Captain’s Table in Ocean City\, Maryland.  Enjoy fine dining at its best with South African lobster tails\, delicious crab cakes\, certified angus beef steaks and great selection from the bar. Phil’s smooth sounds on the grand piano are a local’s favorite on Friday and Saturday nights.  
URL:https://tidesinnoc.com/event/phil-perdue-the-piano-man-78/
LOCATION:Captain’s Table Restaurant and Bar\, 2 15th St\, Ocean City\, MD\, 21842\, United States
ATTACH;FMTTYPE=:
END:VEVENT
BEGIN:VEVENT
DTSTART;TZID=America/New_York:20261024T170000
DTEND;TZID=America/New_York:20261024T210000
DTSTAMP:20260423T182205
CREATED:20260126T185109Z
LAST-MODIFIED:20260423T185037Z
UID:316021-1792861200-1792875600@tidesinnoc.com
SUMMARY:Phil Perdue - "The Piano Man"
DESCRIPTION:Enjoy Phil Perdue “The Piano Man” on the grand piano at the Captain’s Table in Ocean City\, Maryland.  Enjoy fine dining at its best with South African lobster tails\, delicious crab cakes\, certified angus beef steaks and great selection from the bar. Phil’s smooth sounds on the grand piano are a local’s favorite on Friday and Saturday nights.  
URL:https://tidesinnoc.com/event/phil-perdue-the-piano-man-79/
LOCATION:Captain’s Table Restaurant and Bar\, 2 15th St\, Ocean City\, MD\, 21842\, United States
ATTACH;FMTTYPE=:
END:VEVENT
BEGIN:VEVENT
DTSTART;TZID=America/New_York:20261024T193000
DTEND;TZID=America/New_York:20261024T230000
DTSTAMP:20260423T182205
CREATED:20260121T065021Z
LAST-MODIFIED:20260423T185041Z
UID:315742-1792870200-1792882800@tidesinnoc.com
SUMMARY:Lowercase Blues Band
DESCRIPTION:Lowercase\nBlues plays blues-based rock with a funkified rhythm – lyrical melodies above\npercussive bass lines woven around a jazzy drumbeat. Come see the band live at High Stakes Bar and Grill in Fenwick Island which always features some of the best local talent!
URL:https://tidesinnoc.com/event/lowercase-blues-band-3/
LOCATION:High Stakes Bar & Grill\, 5799 Lighthouse Cove Ln\, Fenwick Island\, DE\, 19944\, United States
ATTACH;FMTTYPE=:
END:VEVENT
BEGIN:VEVENT
DTSTART;TZID=America/New_York:20261030T170000
DTEND;TZID=America/New_York:20261030T210000
DTSTAMP:20260423T182205
CREATED:20260126T185110Z
LAST-MODIFIED:20260423T185041Z
UID:316023-1793379600-1793394000@tidesinnoc.com
SUMMARY:Phil Perdue - "The Piano Man"
DESCRIPTION:Enjoy Phil Perdue “The Piano Man” on the grand piano at the Captain’s Table in Ocean City\, Maryland.  Enjoy fine dining at its best with South African lobster tails\, delicious crab cakes\, certified angus beef steaks and great selection from the bar. Phil’s smooth sounds on the grand piano are a local’s favorite on Friday and Saturday nights.  
URL:https://tidesinnoc.com/event/phil-perdue-the-piano-man-80/
LOCATION:Captain’s Table Restaurant and Bar\, 2 15th St\, Ocean City\, MD\, 21842\, United States
ATTACH;FMTTYPE=:
END:VEVENT
BEGIN:VEVENT
DTSTART;TZID=America/New_York:20261031T170000
DTEND;TZID=America/New_York:20261031T210000
DTSTAMP:20260423T182205
CREATED:20260126T185110Z
LAST-MODIFIED:20260423T185041Z
UID:316024-1793466000-1793480400@tidesinnoc.com
SUMMARY:Phil Perdue - "The Piano Man"
DESCRIPTION:Enjoy Phil Perdue “The Piano Man” on the grand piano at the Captain’s Table in Ocean City\, Maryland.  Enjoy fine dining at its best with South African lobster tails\, delicious crab cakes\, certified angus beef steaks and great selection from the bar. Phil’s smooth sounds on the grand piano are a local’s favorite on Friday and Saturday nights.  
URL:https://tidesinnoc.com/event/phil-perdue-the-piano-man-81/
LOCATION:Captain’s Table Restaurant and Bar\, 2 15th St\, Ocean City\, MD\, 21842\, United States
ATTACH;FMTTYPE=:
END:VEVENT
BEGIN:VEVENT
DTSTART;TZID=America/New_York:20261106T170000
DTEND;TZID=America/New_York:20261106T210000
DTSTAMP:20260423T182205
CREATED:20260126T185110Z
LAST-MODIFIED:20260423T185041Z
UID:316025-1793984400-1793998800@tidesinnoc.com
SUMMARY:Phil Perdue - "The Piano Man"
DESCRIPTION:Enjoy Phil Perdue “The Piano Man” on the grand piano at the Captain’s Table in Ocean City\, Maryland.  Enjoy fine dining at its best with South African lobster tails\, delicious crab cakes\, certified angus beef steaks and great selection from the bar. Phil’s smooth sounds on the grand piano are a local’s favorite on Friday and Saturday nights.  
URL:https://tidesinnoc.com/event/phil-perdue-the-piano-man-82/
LOCATION:Captain’s Table Restaurant and Bar\, 2 15th St\, Ocean City\, MD\, 21842\, United States
ATTACH;FMTTYPE=:
END:VEVENT
END:VCALENDAR