BEGIN:VCALENDAR
VERSION:2.0
PRODID:-//Ocean City MD Rooms | The Tides Inn OC Vacations - ECPv6.15.13//NONSGML v1.0//EN
CALSCALE:GREGORIAN
METHOD:PUBLISH
X-WR-CALNAME:Ocean City MD Rooms | The Tides Inn OC Vacations
X-ORIGINAL-URL:https://tidesinnoc.com
X-WR-CALDESC:Events for Ocean City MD Rooms | The Tides Inn OC Vacations
REFRESH-INTERVAL;VALUE=DURATION:PT1H
X-Robots-Tag:noindex
X-PUBLISHED-TTL:PT1H
BEGIN:VTIMEZONE
TZID:America/New_York
BEGIN:DAYLIGHT
TZOFFSETFROM:-0500
TZOFFSETTO:-0400
TZNAME:EDT
DTSTART:20180311T070000
END:DAYLIGHT
BEGIN:STANDARD
TZOFFSETFROM:-0400
TZOFFSETTO:-0500
TZNAME:EST
DTSTART:20181104T060000
END:STANDARD
BEGIN:DAYLIGHT
TZOFFSETFROM:-0500
TZOFFSETTO:-0400
TZNAME:EDT
DTSTART:20190310T070000
END:DAYLIGHT
BEGIN:STANDARD
TZOFFSETFROM:-0400
TZOFFSETTO:-0500
TZNAME:EST
DTSTART:20191103T060000
END:STANDARD
BEGIN:DAYLIGHT
TZOFFSETFROM:-0500
TZOFFSETTO:-0400
TZNAME:EDT
DTSTART:20200308T070000
END:DAYLIGHT
BEGIN:STANDARD
TZOFFSETFROM:-0400
TZOFFSETTO:-0500
TZNAME:EST
DTSTART:20201101T060000
END:STANDARD
END:VTIMEZONE
BEGIN:VEVENT
DTSTART;TZID=America/New_York:20190719T160000
DTEND;TZID=America/New_York:20190719T200000
DTSTAMP:20260425T120348
CREATED:20190704T185252Z
LAST-MODIFIED:20190704T185252Z
UID:37142-1563552000-1563566400@tidesinnoc.com
SUMMARY:Joey Harkum at Ropewalk
DESCRIPTION:Joey Harkum is a singer songwriter hailing from Pasadena\, MD. For over a decade\, Joey has performed all around the country as the lead singer of the band Pasadena. Joey has a unique way of connecting with his fans through deep\, poignant lyrics which tell stories of happiness\, love\, loss and sadness. Joey is currently embarking on his first solo venture and will be touring the nation performing his own special brand of americana\, folk rock.
URL:https://tidesinnoc.com/event/joey-harkum-at-ropewalk-2/
LOCATION:Ropewalk Restaurant\, 8203 Coastal Hwy\, Ocean City\, MD\, 21842\, United States
END:VEVENT
BEGIN:VEVENT
DTSTART;TZID=America/New_York:20190719T100000
DTEND;TZID=America/New_York:20190719T103000
DTSTAMP:20260425T120348
CREATED:20190630T065254Z
LAST-MODIFIED:20190630T065254Z
UID:36376-1563530400-1563532200@tidesinnoc.com
SUMMARY:Free Summer Family Programs
DESCRIPTION:Gather outside the Ocean City Lifesaving Station Museum on the south end of the Boardwalk to learn fun facts and topics about Ocean City Maryland \n \nLearn about different subjects each day.  Topics include beach safety\, aquarium feeding\, knot tying\, Ocean City history\, and all about sharks.\n \nThis free family program is available every day from July 1 through August 24 at 10am.  No program on July 4th.    \n\n\n \n\n\n\n\nFor more information\, contact Sandy at 410-289-4991 or email sandy@ocmuseum.org. \n \n 
URL:https://tidesinnoc.com/event/free-summer-family-programs-18/
LOCATION:Ocean City Life Saving Museum\, 813 S Atlantic Ave\, Ocean City\, MD\, 21842\, United States
ATTACH;FMTTYPE=:
END:VEVENT
BEGIN:VEVENT
DTSTART;TZID=America/New_York:20190719T090000
DTEND;TZID=America/New_York:20190719T100000
DTSTAMP:20260425T120348
CREATED:20190704T065302Z
LAST-MODIFIED:20190704T065302Z
UID:37079-1563526800-1563530400@tidesinnoc.com
SUMMARY:Aerobics Low Impact
DESCRIPTION:Join this low impact aerobics class every Monday\, Wednesday and Friday starting May 22. This class is a great start to getting your heart pumping with an energizing workout! Work at your own pace\, which makes this peppy program perfect for all ages and fitness levels. The class includes a 40-minute aerobic workout\, ending with resistance training with hand weights and an optional abdominal routine. \n \nThe cost for this course is $68 for Ocean City Residents and $82 for Non-Ocean City Residents. 
URL:https://tidesinnoc.com/event/aerobics-low-impact-26/
LOCATION:Ocean City Recreation and Parks Department\, 200-125th St & Bay\, Ocean City\, MD\, 21842\, United States
END:VEVENT
BEGIN:VEVENT
DTSTART;TZID=America/New_York:20190718T170000
DTEND;TZID=America/New_York:20190718T190000
DTSTAMP:20260425T120348
CREATED:20190703T185412Z
LAST-MODIFIED:20190703T185412Z
UID:36993-1563469200-1563476400@tidesinnoc.com
SUMMARY:Sunset Splash Pool Party
DESCRIPTION:Join Hoop Tea and Deep Eddy Vodka at Aloft’s pool for a chic\, Vegas style pool party! Featuring trendy drinks and drink specials\, snaps at a GIF photo booth\, glitter and braid bar with local beautician Andrea Bounds\, DJ performance by DJ Wax and dancing\, a mermaid performance\, giveaways\, and more. 
URL:https://tidesinnoc.com/event/sunset-splash-pool-party-4/
LOCATION:Aloft Ocean City\, 4501 Coastal Hwy\, Ocean City\, MD\, 21842\, United States
END:VEVENT
BEGIN:VEVENT
DTSTART;TZID=America/New_York:20190716T180000
DTEND;TZID=America/New_York:20190716T200000
DTSTAMP:20260425T120348
CREATED:20190703T065225Z
LAST-MODIFIED:20190703T065225Z
UID:36880-1563300000-1563307200@tidesinnoc.com
SUMMARY:Tuesday Evening Adult Pottery Class
DESCRIPTION:Students will explore hand building techniques to make fun and functional art.  Perfect for all levels of students from beginner to more advanced. Adults and teens welcome.\n \nRegistration:\n$35 for members and $45 for non-members\nSign up for six sessions $180 (members) – $230 (non-members)\n\nAdvanced reservation is required to guarantee your spot.\n \n 
URL:https://tidesinnoc.com/event/tuesday-evening-adult-pottery-class-11/
LOCATION:Art League of Ocean City\, 502 94th St\, Ocean City\, MD\, 21842\, United States
END:VEVENT
BEGIN:VEVENT
DTSTART;TZID=America/New_York:20190712T200000
DTEND;TZID=America/New_York:20190712T200000
DTSTAMP:20260425T120348
CREATED:20190629T185212Z
LAST-MODIFIED:20190629T185212Z
UID:36217-1562961600-1562961600@tidesinnoc.com
SUMMARY:Randy Lee Ashcraft and the Saltwater Cowboys
DESCRIPTION:Randy Lee Ashcraft has been entertaining people all over the country for over 20 years and has returned home to the Eastern Shore to perform for his favorite fans! His music is often referred to as “beach country”. A former Green Beret in the United States Army\, Randy has released five albums\, which combined have sold over 20\,000 copies to places as far reaching as Europe. In 1999\, he received a citation from Governor Parris Glendening of Maryland honoring his “dedicated efforts to share the beauty of the Eastern Shore of Maryland region through his music and the song ‘Shore Thing'”.  Randy is also the ’02\, ’03\, ’04\, and ’05 winner for Best Entertainer/Singer of the Eastern Shore\, the ’03\, ’04\, and ’05 winner for Best Singer/Songwriter on Delmarva\, and the ’08 Entertainer of the Year as presented by the Coconut Times.\n 
URL:https://tidesinnoc.com/event/randy-lee-ashcraft-and-the-saltwater-cowboys-19/
LOCATION:Smitty McGee’s Raw Bar\, 37234 Lighthouse Rd\, Selbyville\, DE\, 19975\, United States
END:VEVENT
BEGIN:VEVENT
DTSTART;TZID=America/New_York:20190712T100000
DTEND;TZID=America/New_York:20190712T103000
DTSTAMP:20260425T120348
CREATED:20190626T185643Z
LAST-MODIFIED:20190626T185643Z
UID:35728-1562925600-1562927400@tidesinnoc.com
SUMMARY:Free Summer Family Programs
DESCRIPTION:Gather outside the Ocean City Lifesaving Station Museum on the south end of the Boardwalk to learn fun facts and topics about Ocean City Maryland \n \nLearn about different subjects each day.  Topics include beach safety\, aquarium feeding\, knot tying\, Ocean City history\, and all about sharks.\n \nThis free family program is available every day from July 1 through August 24 at 10am.  No program on July 4th.    \n\n\n \n\n\n\n\nFor more information\, contact Sandy at 410-289-4991 or email sandy@ocmuseum.org. \n \n 
URL:https://tidesinnoc.com/event/free-summer-family-programs-11/
LOCATION:Ocean City Life Saving Museum\, 813 S Atlantic Ave\, Ocean City\, MD\, 21842\, United States
END:VEVENT
BEGIN:VEVENT
DTSTART;TZID=America/New_York:20190710T120000
DTEND;TZID=America/New_York:20190710T140000
DTSTAMP:20260425T120348
CREATED:20190629T065254Z
LAST-MODIFIED:20190629T065254Z
UID:36093-1562760000-1562767200@tidesinnoc.com
SUMMARY:Swim with the Mermaids
DESCRIPTION:Swim with Mermaids at Splash Mountain Water Park!  Enjoy this unique experience your children will be talking about all summer long! \n \nSplash Mountain Waterpark admission required. 
URL:https://tidesinnoc.com/event/swim-with-the-mermaids-27/
LOCATION:Splash Mountain Water Park\, 2901 Coastal Hwy\, Ocean City\, MD\, 21842\, United States
END:VEVENT
BEGIN:VEVENT
DTSTART;TZID=America/New_York:20190709T193000
DTEND;TZID=America/New_York:20190709T213000
DTSTAMP:20260425T120348
CREATED:20190628T065238Z
LAST-MODIFIED:20190628T065238Z
UID:35921-1562700600-1562707800@tidesinnoc.com
SUMMARY:Lollipop the Clown
DESCRIPTION:Join us at Jolly Roger Amusement Parks in Ocean City\, MD for some good times and laughter when Lollipop the Clown comes to visit. Lollipop the Clown will be joining us at the 30th Street Amusement Park Monday thru Thursday from 7:30 to 9:30 PM starting June 11th thru the end of summer.
URL:https://tidesinnoc.com/event/lollipop-the-clown-18/
LOCATION:Jolly Roger Amusement Park\, 2901 Coastal Hwy\, Ocean City\, MD\, 21842\, United States
END:VEVENT
BEGIN:VEVENT
DTSTART;TZID=America/New_York:20190709T190000
DTEND;TZID=America/New_York:20190709T210000
DTSTAMP:20260425T120348
CREATED:20190628T185333Z
LAST-MODIFIED:20190628T185333Z
UID:36014-1562698800-1562706000@tidesinnoc.com
SUMMARY:Ocean City Beach Dance Party
DESCRIPTION:Let’s Dance! Bring the family for a fun\, free Ocean City dance party every Tuesday from 7pm – 9pm during July and August on the beach at Caroline Street\, just off the Ocean City MD Boardwalk. Family friendly dance music will be played by local Ocean City DJs. Join in the crowd dancing on the beach! Bring your friends\, beach chair and blanket and head to downtown Ocean City Maryland for good music and fun times!\n \nThis event is for all ages. \n \nSave the Dates – 2019 Schedule:\n \nJuly 2: DJ Batman (OC’s Legendary DJ)\nJuly 9: DJ Knappy (Premier DJ)\nJuly 16: DJ Batman (OC’s Legendary DJ)\nJuly 23: DJ BK (from 97.1 The Wave)\nAugust 6: DJ Batman (OC’s Legendary DJ)\nAugust: 13: DJ Kutt (Premier DJ)\nAugust 20: DJ BK (from 97.1 The Wave)\nAugust 27: DJ Knappy (Premier DJ)\n \n \nFor more information\, please contact the Ocean City Recreation and Park Department at 410-250-0125\, or the Ocean City Visitors Cener at 800-626-2326. \n \nPlease consider using public transportation as parking is limited in the downtown area.\n \n 
URL:https://tidesinnoc.com/event/ocean-city-beach-dance-party-2/
LOCATION:On the Beach at the Caroline Street Stage\, 1 Caroline Street\, Ocean City\, MD\, 21842\, United States
END:VEVENT
BEGIN:VEVENT
DTSTART;TZID=America/New_York:20190705T120000
DTEND;TZID=America/New_York:20190705T140000
DTSTAMP:20260425T120348
CREATED:20190625T185328Z
LAST-MODIFIED:20190625T185328Z
UID:35462-1562328000-1562335200@tidesinnoc.com
SUMMARY:Swim with the Mermaids
DESCRIPTION:Swim with Mermaids at Splash Mountain Water Park!  Enjoy this unique experience your children will be talking about all summer long! \n \nSplash Mountain Waterpark admission required. 
URL:https://tidesinnoc.com/event/swim-with-the-mermaids-22/
LOCATION:Splash Mountain Water Park\, 2901 Coastal Hwy\, Ocean City\, MD\, 21842\, United States
END:VEVENT
BEGIN:VEVENT
DTSTART;VALUE=DATE:20190704
DTEND;VALUE=DATE:20190705
DTSTAMP:20260425T120348
CREATED:20190318T065305Z
LAST-MODIFIED:20190318T065305Z
UID:20239-1562198400-1562284799@tidesinnoc.com
SUMMARY:StarPower Believe Dance Competition
DESCRIPTION:Dance athletic teams compete for prizes\, scholarships and more! Who’s got spirit? They sure do! \n \nFor more information\, visit believetalent.com\, contact Grace Wakefield at 301-870-9550 or email garystarpower@aol.com.
URL:https://tidesinnoc.com/event/starpower-believe-dance-competition-4/
LOCATION:Roland E Powell Convention Center\, 4001 Coastal Highway\, Ocean City\, MD\, 21842\, United States
END:VEVENT
BEGIN:VEVENT
DTSTART;TZID=America/New_York:20190702T193000
DTEND;TZID=America/New_York:20190702T213000
DTSTAMP:20260425T120348
CREATED:20190528T065256Z
LAST-MODIFIED:20190528T065256Z
UID:31422-1562095800-1562103000@tidesinnoc.com
SUMMARY:Lollipop the Clown
DESCRIPTION:Join us at Jolly Roger Amusement Parks in Ocean City\, MD for some good times and laughter when Lollipop the Clown comes to visit. Lollipop the Clown will be joining us at the 30th Street Amusement Park Monday thru Thursday from 7:30 to 9:30 PM starting June 11th thru the end of summer.
URL:https://tidesinnoc.com/event/lollipop-the-clown-13/
LOCATION:Jolly Roger Amusement Park\, 2901 Coastal Hwy\, Ocean City\, MD\, 21842\, United States
END:VEVENT
BEGIN:VEVENT
DTSTART;TZID=America/New_York:20190701T120000
DTEND;TZID=America/New_York:20190701T140000
DTSTAMP:20260425T120348
CREATED:20190623T065216Z
LAST-MODIFIED:20190623T065216Z
UID:34980-1561982400-1561989600@tidesinnoc.com
SUMMARY:Swim with the Mermaids
DESCRIPTION:Swim with Mermaids at Splash Mountain Water Park!  Enjoy this unique experience your children will be talking about all summer long! \n \nSplash Mountain Waterpark admission required. 
URL:https://tidesinnoc.com/event/swim-with-the-mermaids-19/
LOCATION:MD
END:VEVENT
BEGIN:VEVENT
DTSTART;TZID=America/New_York:20190630T170000
DTEND;TZID=America/New_York:20190630T210000
DTSTAMP:20260425T120348
CREATED:20190622T185253Z
LAST-MODIFIED:20190622T185253Z
UID:34916-1561914000-1561928400@tidesinnoc.com
SUMMARY:Triple Rail Turn Live at Seacrets!
DESCRIPTION: See Triple Rail Turn live at Seacrets! A modern country band with musicians from varying backgrounds and talents\, Triple Rail Turn brings energy and talent to all of their performances. Dance the night away with a cold drink at Seacrets and make memories that will last a lifetime. 
URL:https://tidesinnoc.com/event/triple-rail-turn-live-at-seacrets-3/
LOCATION:Seacrets Jamaica USA\, 117 49th St\, Ocean City\, MD\, 21842\, United States
END:VEVENT
BEGIN:VEVENT
DTSTART;TZID=America/New_York:20190630T090000
DTEND;TZID=America/New_York:20190630T130000
DTSTAMP:20260425T120348
CREATED:20190505T185306Z
LAST-MODIFIED:20190505T185306Z
UID:27989-1561885200-1561899600@tidesinnoc.com
SUMMARY:Berlin Farmers Market
DESCRIPTION:The Berlin Farmers Market starts on May 5 and goes until the 29th. Check out the new vendors. Check out some of the new vendors including Del Vecchio’s Bakery\, The Bay Mushrooms\, Johnson Bay Oyster Company\, Artisan’s Aromas\, homemade bbq sauce from Bratten Farms & more!
URL:https://tidesinnoc.com/event/berlin-farmers-market-10/
LOCATION:Berlin Farmers Market\, 14 S Main St\, Berlin\, MD 21811-1427\, Berlin\, MD\, 21811\, United States
END:VEVENT
BEGIN:VEVENT
DTSTART;TZID=America/New_York:20190629T220000
DTEND;TZID=America/New_York:20190629T220000
DTSTAMP:20260425T120348
CREATED:20190618T065233Z
LAST-MODIFIED:20190618T065233Z
UID:34601-1561845600-1561845600@tidesinnoc.com
SUMMARY:Ounce of Pain (Guns n' Roses Tribute) at the Original Greene Turtle
DESCRIPTION:Come to the Original Greene Turtle for a special Guns n’ Roses tribute show by Ounce of Pain! Sweet Child o’ Mine – Welcome to the Jungle – the list of iconic Guns n’ Roses songs are endless. You’ll be rocking all night to faithfully covered tunes from Guns n’ Roses with one of the Greene Turtle’s signature drinks in your hand.
URL:https://tidesinnoc.com/event/ounce-of-pain-guns-n-roses-tribute-at-the-original-greene-turtle/
LOCATION:The Original Greene Turtle\, 11601 Coastal Hwy\, Ocean City\, MD\, 21842\, United States
END:VEVENT
BEGIN:VEVENT
DTSTART;TZID=America/New_York:20190629T220000
DTEND;TZID=America/New_York:20190629T220000
DTSTAMP:20260425T120348
CREATED:20190616T185404Z
LAST-MODIFIED:20190616T185404Z
UID:34392-1561845600-1561845600@tidesinnoc.com
SUMMARY:DJ Bobby-O at Seacrets
DESCRIPTION:It’s a dance party at the Main Bar featuring DJ Bobby-O! Dance away to your favorite dance and club hits at Seacrets. Bring some friends and grab some drinks – it’ll be a night you won’t want to miss!
URL:https://tidesinnoc.com/event/dj-bobby-o-at-seacrets-4/
LOCATION:Seacrets Jamaica USA\, 117 49th St\, Ocean City\, MD\, 21842\, United States
END:VEVENT
BEGIN:VEVENT
DTSTART;TZID=America/New_York:20190629T160000
DTEND;TZID=America/New_York:20190629T190000
DTSTAMP:20260425T120348
CREATED:20190416T065231Z
LAST-MODIFIED:20190416T065231Z
UID:24975-1561824000-1561834800@tidesinnoc.com
SUMMARY:Jungle Bar presents 33 RPM Rockin the Beach
DESCRIPTION:Join 33 RPM\, the Maryland based\, rock and roll brand specializing in classic vinyl rock\, the good stuff that’s more than 60 seconds of fluff. We also play some current tunes as well. 
URL:https://tidesinnoc.com/event/jungle-bar-presents-33-rpm-rockin-the-beach-2/
LOCATION:The Jungle Bar & Restaurant\, 9800 Coastal Hwy\, Ocean City\, MD\, 21842\, United States
END:VEVENT
BEGIN:VEVENT
DTSTART;TZID=America/New_York:20190627T160000
DTEND;TZID=America/New_York:20190627T210000
DTSTAMP:20260425T120348
CREATED:20190311T065155Z
LAST-MODIFIED:20190311T065155Z
UID:18930-1561651200-1561669200@tidesinnoc.com
SUMMARY:On The Edge plays at Lenny's Beach Bar and Grill at the Clarion Hotel
DESCRIPTION: The band On The Edge was formed in 1984. They became one of Maryland Eastern Shore’s favorite dance band. On The Edge’s busy schedule takes them up and down the East Coast. The band is popular for their high energy presentation\, and entertains their audiences with a wide variety of Pop hits from 60’s Motown to modern Pop tunes.\nThe band\, now in it’s 30 years of existence have entertained in numerous high profile performances in D.C.\, N. Y.\, N J. Atlanta\, Indiana\, Florida & Jamaica. Currently they stay busy working Casinos\, Private Events\, Festivals\, Weddings and they also are regulars at The Clarion Resort Hotel in Ocean City\, MD. 
URL:https://tidesinnoc.com/event/on-the-edge-plays-at-lennys-beach-bar-and-grill-at-the-clarion-hotel-16/
LOCATION:Lenny’s Beach Bar & Grill\, 10100 Coastal Hwy\, Ocean City\, MD\, 21842\, United States
END:VEVENT
BEGIN:VEVENT
DTSTART;TZID=America/New_York:20190625T210000
DTEND;TZID=America/New_York:20190625T210000
DTSTAMP:20260425T120348
CREATED:20190330T185209Z
LAST-MODIFIED:20190330T185209Z
UID:22404-1561496400-1561496400@tidesinnoc.com
SUMMARY:Hirie
DESCRIPTION:Hirie will be coming to Seacrets for a free concert. The front woman of the exhilarating band HIRIE – grew up a global citizen. This band’s sounds swirl together earthy island touches of its singer’s beloved home. The H stands for Hawaii\, and the IRIE means good in Jamaican. 
URL:https://tidesinnoc.com/event/hirie/
LOCATION:Seacrets Jamaica USA\, 117 49th St\, Ocean City\, MD\, 21842\, United States
END:VEVENT
BEGIN:VEVENT
DTSTART;TZID=America/New_York:20190621T170000
DTEND;TZID=America/New_York:20190621T210000
DTSTAMP:20260425T120348
CREATED:20190604T185231Z
LAST-MODIFIED:20190604T185231Z
UID:32704-1561136400-1561150800@tidesinnoc.com
SUMMARY:Jim Long Band Live at Seacrets
DESCRIPTION:Check out The Jim Long Band live at Seacrets in Ocean City. Jim Long is a singer/songwriter and multi-instrumentalist who truly entertains during his shows. Bring a few friends and grab a drink at the Beach Stage and enjoy the night’s performance.
URL:https://tidesinnoc.com/event/jim-long-band-live-at-seacrets/
LOCATION:Seacrets Jamaica USA\, 117 49th St\, Ocean City\, MD\, 21842\, United States
END:VEVENT
BEGIN:VEVENT
DTSTART;TZID=America/New_York:20190620T183000
DTEND;TZID=America/New_York:20190620T190000
DTSTAMP:20260425T120348
CREATED:20190407T065450Z
LAST-MODIFIED:20190407T065450Z
UID:23608-1561055400-1561057200@tidesinnoc.com
SUMMARY:Free Live Ice Show | Featuring The Next Ice Age at Carousel Oceanfront Hotel
DESCRIPTION:Don’t miss our nightly Live Ice Shows at the Carousel Oceanfront Hotel’s Ice Rink featuring The Next Ice Age Dance Company beginning at 6:30pm (please note there will be no Friday performances).  \n \nFor the best seats in the house\, make reservations for rink-side dining by calling 410-524-1000 ext 7195
URL:https://tidesinnoc.com/event/free-live-ice-show-featuring-the-next-ice-age-at-carousel-oceanfront-hotel-8/
LOCATION:Carousel Skating Rink\, 11700 Coastal Hwy\, Ocean City\, MD\, 21842\, United States
END:VEVENT
BEGIN:VEVENT
DTSTART;TZID=America/New_York:20190615T210000
DTEND;TZID=America/New_York:20190615T210000
DTSTAMP:20260425T120348
CREATED:20190325T065220Z
LAST-MODIFIED:20190325T065220Z
UID:21486-1560632400-1560632400@tidesinnoc.com
SUMMARY:Dublin 5
DESCRIPTION:Dublin 5 has taken the Celtic music scene by storm thanks to an eclectic mix of traditional roots and blazing instrumentals with an amped up rock twist. Their musicianship and show is nothing short of high octane. \n \nHit the beach with Dublin 5 at Shenanigan’s Ocean City\, MD
URL:https://tidesinnoc.com/event/dublin-5-2/
LOCATION:Shenanigan’s Irish Pub\, 309 North Atlantic Avenue\, Ocean City\, MD\, 21842\, United States
END:VEVENT
BEGIN:VEVENT
DTSTART;TZID=America/New_York:20190603T180000
DTEND;TZID=America/New_York:20190603T220000
DTSTAMP:20260425T120348
CREATED:20190501T185751Z
LAST-MODIFIED:20190501T185751Z
UID:27445-1559584800-1559599200@tidesinnoc.com
SUMMARY:Deeley Insurance Guest Bartenders Supporting Believe in Tomorrow
DESCRIPTION:Enjoy drinks and live music as we raise money for one of our spot light charities\, Believe in Tomorrow. Deeley employees will be behind the bar with live music provided by Side Project. 
URL:https://tidesinnoc.com/event/deeley-insurance-guest-bartenders-supporting-believe-in-tomorrow/
LOCATION:Burley Oak Brewing Company\, 10016 Old Ocean City Blvd\, Berlin\, MD\, 21811\, United States
END:VEVENT
BEGIN:VEVENT
DTSTART;TZID=America/New_York:20190603T160000
DTEND;TZID=America/New_York:20190603T200000
DTSTAMP:20260425T120348
CREATED:20190324T065156Z
LAST-MODIFIED:20190324T065156Z
UID:21309-1559577600-1559592000@tidesinnoc.com
SUMMARY:Bob Wilkinson and Joe Smooth
DESCRIPTION:Bob Wilkinson and Joe Smooth team up for a great musical endeavor at Coconuts Beach Bar and Grill.  Bob and Joe will be playing live on the outdoor patio while you enjoy the beachfront restaurant\, great specials and time with your family and friends. 
URL:https://tidesinnoc.com/event/bob-wilkinson-and-joe-smooth-4/
LOCATION:Coconuts Beach Bar & Grill\, 3701 Atlantic Ave\, Ocean City\, MD\, 21842\, United States
END:VEVENT
BEGIN:VEVENT
DTSTART;TZID=America/New_York:20190601T180000
DTEND;TZID=America/New_York:20190601T220000
DTSTAMP:20260425T120348
CREATED:20190403T065219Z
LAST-MODIFIED:20190403T065219Z
UID:22960-1559412000-1559426400@tidesinnoc.com
SUMMARY:Tranzfusion at Ocean Pines Yacht Club
DESCRIPTION:This group of talented musicians has been together for years.  They primarily play rock music.  In 2009\, Tranzfusion won the Coconut Times’ Entertainer of the Year Award.  In 2008 the band won the Daily Times’ #1 All-time Favorite Band Award.
URL:https://tidesinnoc.com/event/tranzfusion-at-ocean-pines-yacht-club-2/
LOCATION:Ocean Pines Yacht Club\, 1 Mumford's Landing Road\, Ocean Pines\, MD\, 21811\, United States
END:VEVENT
BEGIN:VEVENT
DTSTART;TZID=America/New_York:20190529T103000
DTEND;TZID=America/New_York:20190529T120000
DTSTAMP:20260425T120348
CREATED:20190310T065242Z
LAST-MODIFIED:20190310T065242Z
UID:18555-1559125800-1559131200@tidesinnoc.com
SUMMARY:Story Time "Beach"
DESCRIPTION:Families\, grab your kids and head to the Ocean City Branch of the Worcester County Library before heading to the beach. This week’s theme is “beach\,” so your kids will be totally ready to enjoy some fun in the sun.  
URL:https://tidesinnoc.com/event/story-time-beach/
LOCATION:Worcester County Library – Ocean City Branch\, 10003 Coastal Hwy\, Ocean City\, MD\, 21842\, United States
END:VEVENT
BEGIN:VEVENT
DTSTART;TZID=America/New_York:20190525T220000
DTEND;TZID=America/New_York:20190525T220000
DTSTAMP:20260425T120348
CREATED:20190403T185203Z
LAST-MODIFIED:20190403T185203Z
UID:23053-1558821600-1558821600@tidesinnoc.com
SUMMARY:Identity Crisis at Original Greene Turtle
DESCRIPTION:Identity Crisis is a band consisting of “Four Ole Guys\,” who enjoy rocking at the beach bars all year long. Catch band members Ray Perrone\, drums; Jay Rus\, guitar and vocals; Charlie Reppa\, guitar and vocals; and Keith Radke\, bass and vocals.
URL:https://tidesinnoc.com/event/identity-crisis-at-original-greene-turtle/
LOCATION:The Original Greene Turtle\, 11601 Coastal Hwy\, Ocean City\, MD\, 21842\, United States
END:VEVENT
BEGIN:VEVENT
DTSTART;TZID=America/New_York:20190516T090000
DTEND;TZID=America/New_York:20190516T170000
DTSTAMP:20260425T120348
CREATED:20190309T065350Z
LAST-MODIFIED:20190309T065350Z
UID:18345-1557997200-1558026000@tidesinnoc.com
SUMMARY:Cruisin' Ocean City
DESCRIPTION:This popular car show features over 3\,400 hot rods\, customs\, classics\, street machines\, muscle cars and more. Live entertainment\, celebrity guests\, special attractions\, boardwalk parades\, manufacturers vendor midway and more.  Boardwalk Parades.  So many things to see and do\, so make sure you cruise on down to Ocean City\, MD! \n \nAdmission $10/day Thursday and Sunday\, $15/day Friday and Saturday.  Children under 14 are free with an adult. \n \nFor additional information\, visit www.cruisinoceancity.com.
URL:https://tidesinnoc.com/event/cruisin-ocean-city-5/
LOCATION:Convention Center and Inlet Lot\, 4001 Coastal Highway\, Ocean City\, MD\, 21842\, United States
END:VEVENT
END:VCALENDAR