BEGIN:VCALENDAR
VERSION:2.0
PRODID:-//Ocean City MD Rooms | The Tides Inn OC Vacations - ECPv6.15.13//NONSGML v1.0//EN
CALSCALE:GREGORIAN
METHOD:PUBLISH
X-WR-CALNAME:Ocean City MD Rooms | The Tides Inn OC Vacations
X-ORIGINAL-URL:https://tidesinnoc.com
X-WR-CALDESC:Events for Ocean City MD Rooms | The Tides Inn OC Vacations
REFRESH-INTERVAL;VALUE=DURATION:PT1H
X-Robots-Tag:noindex
X-PUBLISHED-TTL:PT1H
BEGIN:VTIMEZONE
TZID:America/New_York
BEGIN:DAYLIGHT
TZOFFSETFROM:-0500
TZOFFSETTO:-0400
TZNAME:EDT
DTSTART:20180311T070000
END:DAYLIGHT
BEGIN:STANDARD
TZOFFSETFROM:-0400
TZOFFSETTO:-0500
TZNAME:EST
DTSTART:20181104T060000
END:STANDARD
BEGIN:DAYLIGHT
TZOFFSETFROM:-0500
TZOFFSETTO:-0400
TZNAME:EDT
DTSTART:20190310T070000
END:DAYLIGHT
BEGIN:STANDARD
TZOFFSETFROM:-0400
TZOFFSETTO:-0500
TZNAME:EST
DTSTART:20191103T060000
END:STANDARD
BEGIN:DAYLIGHT
TZOFFSETFROM:-0500
TZOFFSETTO:-0400
TZNAME:EDT
DTSTART:20200308T070000
END:DAYLIGHT
BEGIN:STANDARD
TZOFFSETFROM:-0400
TZOFFSETTO:-0500
TZNAME:EST
DTSTART:20201101T060000
END:STANDARD
END:VTIMEZONE
BEGIN:VEVENT
DTSTART;TZID=America/New_York:20190902T220000
DTEND;TZID=America/New_York:20190902T220000
DTSTAMP:20260425T114335
CREATED:20190821T065514Z
LAST-MODIFIED:20190821T065514Z
UID:44777-1567461600-1567461600@tidesinnoc.com
SUMMARY:Karaoke with DJ Wood
DESCRIPTION:It’s time for you to take the mic; have fun with your friends and Karaoke with DJ Wood at The Original Greene Turtle! While you are here have a craft draft and a snack or late dinner! Karaoke will begin right at the beginning of Turtle Power Hour at 10pm\, featuring $3 FIREBALLS!!! You won’t want to miss the greatest party in North OC!\n\n 
URL:https://tidesinnoc.com/event/karaoke-with-dj-wood-11/
LOCATION:The Original Greene Turtle\, 11601 Coastal Hwy\, Ocean City\, MD\, 21842\, United States
END:VEVENT
BEGIN:VEVENT
DTSTART;TZID=America/New_York:20190831T100000
DTEND;TZID=America/New_York:20190831T120000
DTSTAMP:20260425T114335
CREATED:20190820T193823Z
LAST-MODIFIED:20190820T193823Z
UID:44619-1567245600-1567252800@tidesinnoc.com
SUMMARY:The Pretty Crazies
DESCRIPTION:The Pretty Crazies are a mother-daughter trio\, consisting of Amy\, Vianna and Lucia Spampinato. They are accompanied by The Daddy Jam Band\, made of Dan Robinson and Brad Whitenight.
URL:https://tidesinnoc.com/event/the-pretty-crazies/
LOCATION:The Freeman Stage at Bayside\, 36097 Sand Cove Rd\, Selbyville\, DE\, 19975\, United States
END:VEVENT
BEGIN:VEVENT
DTSTART;TZID=America/New_York:20190831T080000
DTEND;TZID=America/New_York:20190831T090000
DTSTAMP:20260425T114335
CREATED:20190820T065251Z
LAST-MODIFIED:20190820T065251Z
UID:44541-1567238400-1567242000@tidesinnoc.com
SUMMARY:YouYoga YogaRise
DESCRIPTION:Start your morning off right with yoga on the beach. YogaRise is a class for all to experience the foundations of yoga while experiencing Ocean City’s beach. Unite your mind\, body and soul towards a relaxing state. All levels are welcome!
URL:https://tidesinnoc.com/event/youyoga-yogarise-42/
LOCATION:Dunes Manor Hotel\, Court & Suites\, 2800 Baltimore Ave\, Ocean City\, MD\, 21842\, United States
END:VEVENT
BEGIN:VEVENT
DTSTART;TZID=America/New_York:20190830T220000
DTEND;TZID=America/New_York:20190830T220000
DTSTAMP:20260425T114335
CREATED:20190819T065359Z
LAST-MODIFIED:20190819T065359Z
UID:44353-1567202400-1567202400@tidesinnoc.com
SUMMARY:DJ Casper Performing at Macky's
DESCRIPTION:Macky’s is your favorite location to visit in Ocean City\, Maryland. A famous location known for its food\, bar-specials\, live entertainment and staff! Head over on May 14th and listen to the talented DJ Casper perform live! See you on the dance floor!
URL:https://tidesinnoc.com/event/dj-casper-performing-at-mackys-13/
LOCATION:Macky’s\, 5311 Coastal Hwy\, Ocean City\, MD\, 21842\, United States
END:VEVENT
BEGIN:VEVENT
DTSTART;TZID=America/New_York:20190830T120000
DTEND;TZID=America/New_York:20190830T160000
DTSTAMP:20260425T114335
CREATED:20190819T190850Z
LAST-MODIFIED:20190819T190850Z
UID:44432-1567166400-1567180800@tidesinnoc.com
SUMMARY:Darin Engh
DESCRIPTION:Darin Engh is usually caught playing in his band Opposite Directions\, but his solo act is just as amazing! \n \nCome down to the Coconuts Beach Bar & Grill at noon for some great live entertainment!
URL:https://tidesinnoc.com/event/darin-engh-5/
LOCATION:Coconuts Beach Bar & Grill\, 3701 Atlantic Ave\, Ocean City\, MD\, 21842\, United States
END:VEVENT
BEGIN:VEVENT
DTSTART;TZID=America/New_York:20190829T170000
DTEND;TZID=America/New_York:20190829T220000
DTSTAMP:20260425T114335
CREATED:20190808T065221Z
LAST-MODIFIED:20190808T065221Z
UID:42216-1567098000-1567116000@tidesinnoc.com
SUMMARY:On The Edge plays at Lenny's Beach Bar and Grill at the Clarion Hotel
DESCRIPTION: The band On The Edge was formed in 1984. They became one of Maryland Eastern Shore’s favorite dance band. On The Edge’s busy schedule takes them up and down the East Coast. The band is popular for their high energy presentation\, and entertains their audiences with a wide variety of Pop hits from 60’s Motown to modern Pop tunes.\nThe band\, now in it’s 30 years of existence have entertained in numerous high profile performances in D.C.\, N. Y.\, N J. Atlanta\, Indiana\, Florida & Jamaica. Currently they stay busy working Casinos\, Private Events\, Festivals\, Weddings and they also are regulars at The Clarion Resort Hotel in Ocean City\, MD. 
URL:https://tidesinnoc.com/event/on-the-edge-plays-at-lennys-beach-bar-and-grill-at-the-clarion-hotel-57/
LOCATION:Lenny’s Beach Bar & Grill\, 10100 Coastal Hwy\, Ocean City\, MD\, 21842\, United States
END:VEVENT
BEGIN:VEVENT
DTSTART;TZID=America/New_York:20190828T120000
DTEND;TZID=America/New_York:20190828T140000
DTSTAMP:20260425T114335
CREATED:20190818T065356Z
LAST-MODIFIED:20190818T065356Z
UID:44187-1566993600-1567000800@tidesinnoc.com
SUMMARY:Swim with the Mermaids
DESCRIPTION:Swim with Mermaids at Splash Mountain Water Park!  Enjoy this unique experience your children will be talking about all summer long! \n \nSplash Mountain Waterpark admission required. 
URL:https://tidesinnoc.com/event/swim-with-the-mermaids-64/
LOCATION:MD
END:VEVENT
BEGIN:VEVENT
DTSTART;TZID=America/New_York:20190827T183000
DTEND;TZID=America/New_York:20190827T210000
DTSTAMP:20260425T114335
CREATED:20190814T065202Z
LAST-MODIFIED:20190814T065202Z
UID:43354-1566930600-1566939600@tidesinnoc.com
SUMMARY:Meet Pip the Beach Cat at Ocean Gallery!
DESCRIPTION:It’s a Pip-Up Shop at the Ocean Gallery\, right on the Ocean City Boardwalk! \n \nMeet Pip the Beach Cat\, the most famous rescue kitten in the world! Purchase a copy of his book\, Pip’s Guide to Ocean City\, and purchase Pip merchandise\, like stickers\, magnets\, toys\, and more. 
URL:https://tidesinnoc.com/event/meet-pip-the-beach-cat-at-ocean-gallery-36/
LOCATION:Ocean Gallery\, 201 N Boardwalk\, Ocean City\, MD\, 21842\, United States
END:VEVENT
BEGIN:VEVENT
DTSTART;TZID=America/New_York:20190825T090000
DTEND;TZID=America/New_York:20190825T130000
DTSTAMP:20260425T114335
CREATED:20190816T185521Z
LAST-MODIFIED:20190816T185521Z
UID:43894-1566723600-1566738000@tidesinnoc.com
SUMMARY:Berlin's Farmers Market
DESCRIPTION:Come to the Berlin Farmer’s Market every Sunday from May 5 through September 29. There will be different events happening each Sunday. Of course\, be prepared to purchase delicious local fruits and vegetables.  
URL:https://tidesinnoc.com/event/berlins-farmers-market-17/
LOCATION:Berlin Farmers Market\, 14 S Main St\, Berlin\, MD 21811-1427\, Berlin\, MD\, 21811\, United States
END:VEVENT
BEGIN:VEVENT
DTSTART;VALUE=DATE:20190825
DTEND;VALUE=DATE:20190826
DTSTAMP:20260425T114335
CREATED:20190813T185444Z
LAST-MODIFIED:20190813T185444Z
UID:43206-1566691200-1566777599@tidesinnoc.com
SUMMARY:2019 Ocean City Jeep Week
DESCRIPTION:Are you a Jeep owner or a Jeep lover? Come to Ocean City Jeep Week and see over 250 Jeeps in town! You don’t need to own a Jeep to enjoy this family-friendly event. Get more info at https://www.oceancityjeepweek.com/
URL:https://tidesinnoc.com/event/2019-ocean-city-jeep-week-4/
LOCATION:Unnamed Venue\, Ocean City\, MD\, 21842\, United States
END:VEVENT
BEGIN:VEVENT
DTSTART;TZID=America/New_York:20190824T220000
DTEND;TZID=America/New_York:20190824T220000
DTSTAMP:20260425T114335
CREATED:20190816T065326Z
LAST-MODIFIED:20190816T065326Z
UID:43821-1566684000-1566684000@tidesinnoc.com
SUMMARY:DJ Tuff at Seacrets
DESCRIPTION:Come dance the night away to beats from DJ Tuff at Seacrets in Ocean City\, MD. Enjoy a cold drink with a few friends while jamming along to your favorite club tunes.
URL:https://tidesinnoc.com/event/dj-tuff-at-seacrets-33/
LOCATION:Seacrets Jamaica USA\, 117 49th St\, Ocean City\, MD\, 21842\, United States
END:VEVENT
BEGIN:VEVENT
DTSTART;TZID=America/New_York:20190824T071500
DTEND;TZID=America/New_York:20190824T075000
DTSTAMP:20260425T114335
CREATED:20190815T065409Z
LAST-MODIFIED:20190815T065409Z
UID:43617-1566630900-1566633000@tidesinnoc.com
SUMMARY:YouYoga AquaCoreFit
DESCRIPTION:Try something different and make a splash! 40 minutes of full body training in the pool. Water builds stamina and strength with least resistance and joint pain. 10 minutes of warm-up\, 20 minutes of cardio/exercise\, and 10 minutes to cool-down\, float\, and relax. All levels are welcome! \n\nLocated in the Dunes Manor Hotel pool.
URL:https://tidesinnoc.com/event/youyoga-aquacorefit-16/
LOCATION:Dunes Manor Hotel\, Court & Suites\, 2800 Baltimore Ave\, Ocean City\, MD\, 21842\, United States
END:VEVENT
BEGIN:VEVENT
DTSTART;TZID=America/New_York:20190815T220000
DTEND;TZID=America/New_York:20190815T220000
DTSTAMP:20260425T114335
CREATED:20190811T065221Z
LAST-MODIFIED:20190811T065221Z
UID:42687-1565906400-1565906400@tidesinnoc.com
SUMMARY:College Night at Brew River
DESCRIPTION:Brew River is proud to celebrate college students and all of their hard workout throughout their educational career. Head over on selected Thursday Nights for College Night. Enjoy bar-specials\, amazing tunes\, and more! 
URL:https://tidesinnoc.com/event/college-night-at-brew-river-6/
LOCATION:Brew River\, 502 W Main St\, Salisbury\, MD\, 21801\, United States
END:VEVENT
BEGIN:VEVENT
DTSTART;TZID=America/New_York:20190814T193000
DTEND;TZID=America/New_York:20190814T204500
DTSTAMP:20260425T114335
CREATED:20190809T065339Z
LAST-MODIFIED:20190809T065339Z
UID:42350-1565811000-1565815500@tidesinnoc.com
SUMMARY:Free Pirate Theater at Jolly Roger® Amusement Park
DESCRIPTION:Grab the kids and sail over to Jolly Roger® Amusement Park on 30th St Bayside for a FREE Pirate Theater! Every Monday-Thursday\, with two nightly showings at 7:30pm and 8:45pm\, there’s plenty of chances for you to see the infamous Jolly Roger® pirates in action! Pirates abound during the show… so be on the lookout for plenty of fun and excitement! \n \nShowings July 1-September 1 Monday through Thursday\n \nTwo shows per night – 7:30pm and 8:45pm
URL:https://tidesinnoc.com/event/free-pirate-theater-at-jolly-roger-amusement-park-28/
LOCATION:Jolly Roger® Amusement Park\, 2901 Coastal Hwy\, Ocean City\, MD\, 21842\, United States
END:VEVENT
BEGIN:VEVENT
DTSTART;TZID=America/New_York:20190813T170000
DTEND;TZID=America/New_York:20190813T220000
DTSTAMP:20260425T114335
CREATED:20190806T065233Z
LAST-MODIFIED:20190806T065233Z
UID:42015-1565715600-1565733600@tidesinnoc.com
SUMMARY:On The Edge plays at Lenny's Beach Bar and Grill at the Clarion Hotel
DESCRIPTION: The band On The Edge was formed in 1984. They became one of Maryland Eastern Shore’s favorite dance band. On The Edge’s busy schedule takes them up and down the East Coast. The band is popular for their high energy presentation\, and entertains their audiences with a wide variety of Pop hits from 60’s Motown to modern Pop tunes.\nThe band\, now in it’s 30 years of existence have entertained in numerous high profile performances in D.C.\, N. Y.\, N J. Atlanta\, Indiana\, Florida & Jamaica. Currently they stay busy working Casinos\, Private Events\, Festivals\, Weddings and they also are regulars at The Clarion Resort Hotel in Ocean City\, MD. 
URL:https://tidesinnoc.com/event/on-the-edge-plays-at-lennys-beach-bar-and-grill-at-the-clarion-hotel-51/
LOCATION:Lenny’s Beach Bar & Grill\, 10100 Coastal Hwy\, Ocean City\, MD\, 21842\, United States
END:VEVENT
BEGIN:VEVENT
DTSTART;TZID=America/New_York:20190812T193000
DTEND;TZID=America/New_York:20190812T213000
DTSTAMP:20260425T114335
CREATED:20190808T185507Z
LAST-MODIFIED:20190808T185507Z
UID:42287-1565638200-1565645400@tidesinnoc.com
SUMMARY:Lollipop the Clown
DESCRIPTION:Join us at Jolly Roger Amusement Parks in Ocean City\, MD for some good times and laughter when Lollipop the Clown comes to visit. Lollipop the Clown will be joining us at the 30th Street Amusement Park Monday thru Thursday from 7:30 to 9:30 PM starting June 11th thru the end of summer.
URL:https://tidesinnoc.com/event/lollipop-the-clown-38/
LOCATION:Jolly Roger Amusement Park\, 2901 Coastal Hwy\, Ocean City\, MD\, 21842\, United States
END:VEVENT
BEGIN:VEVENT
DTSTART;TZID=America/New_York:20190812T150000
DTEND;TZID=America/New_York:20190812T180000
DTSTAMP:20260425T114335
CREATED:20190804T185501Z
LAST-MODIFIED:20190804T185501Z
UID:41835-1565622000-1565632800@tidesinnoc.com
SUMMARY:Barn Hill Preserve Mobile Zoo
DESCRIPTION:The Barn Hill Preserve Mobile Zoo will be visiting the Carousel Hotel’s tropical lawn every Monday this summer!  Come and meet a variety of exotic animals\, learn exciting facts about each one and if you are brave you can even hold an animal and have a photo taken for $10!\n \nZoo You Soon!
URL:https://tidesinnoc.com/event/barn-hill-preserve-mobile-zoo-24/
LOCATION:Carousel Hotel\, 11700 Coastal Hwy\, Ocean City\, MD\, 21842\, United States
END:VEVENT
BEGIN:VEVENT
DTSTART;TZID=America/New_York:20190811T080000
DTEND;TZID=America/New_York:20190811T090000
DTSTAMP:20260425T114335
CREATED:20190731T065243Z
LAST-MODIFIED:20190731T065243Z
UID:41130-1565510400-1565514000@tidesinnoc.com
SUMMARY:YouYoga YogaRise
DESCRIPTION:Start your morning off right with yoga on the beach. YogaRise is a class for all to experience the foundations of yoga while experiencing Ocean City’s beach. Unite your mind\, body and soul towards a relaxing state. All levels are welcome!
URL:https://tidesinnoc.com/event/youyoga-yogarise-21/
LOCATION:MD
END:VEVENT
BEGIN:VEVENT
DTSTART;TZID=America/New_York:20190808T170000
DTEND;TZID=America/New_York:20190808T200000
DTSTAMP:20260425T114335
CREATED:20190730T065237Z
LAST-MODIFIED:20190730T065237Z
UID:40948-1565283600-1565294400@tidesinnoc.com
SUMMARY:Jam Session with Otto & Company
DESCRIPTION:Come to Loca Madre to hear Otto and Company’ weekday Jam Session.  There will be Thursday night specials on Natural Light\, Orange Crush and Loca Margaritas. Loca Madre is proud to have the kindest Jam Band on the Eastern shore every Thursday night.  Check out Otto Grundman and friends playing your favorite Jimi Hendrix\, Grateful Dead and more!
URL:https://tidesinnoc.com/event/jam-session-with-otto-company-14/
LOCATION:Crabcake Factory’s Loca Madre\, 11805 Coastal Hwy\, Ocean City\, MD\, 21842\, United States
END:VEVENT
BEGIN:VEVENT
DTSTART;TZID=America/New_York:20190807T100000
DTEND;TZID=America/New_York:20190807T103000
DTSTAMP:20260425T114335
CREATED:20190727T065503Z
LAST-MODIFIED:20190727T065503Z
UID:40600-1565172000-1565173800@tidesinnoc.com
SUMMARY:Knot Tying
DESCRIPTION:Have you always wanted to learn how to tie nautical knots? Swing by the Boardwalk Tram Station and join the Ocean City Life-saving Station Museum and the U.S. Coast Guard Auxiliary and become an expert! Learn how to tie a bowline to how to secure a cleat at this free summer program!
URL:https://tidesinnoc.com/event/knot-tying-5/
LOCATION:Ocean City Life-Saving Station Museum\, 813 S Atlantic Ave\, Ocean City\, MD\, 21842\, United States
END:VEVENT
BEGIN:VEVENT
DTSTART;TZID=America/New_York:20190805T160000
DTEND;TZID=America/New_York:20190805T200000
DTSTAMP:20260425T114335
CREATED:20190726T065324Z
LAST-MODIFIED:20190726T065324Z
UID:40388-1565020800-1565035200@tidesinnoc.com
SUMMARY:Bob Wilkinson and Joe Smooth
DESCRIPTION:Bob Wilkinson and Joe Smooth team up for a great musical endeavor at Coconuts Beach Bar and Grill.  Bob and Joe will be playing live on the outdoor patio while you enjoy the beachfront restaurant\, great specials and time with your family and friends. 
URL:https://tidesinnoc.com/event/bob-wilkinson-and-joe-smooth-11/
LOCATION:Coconuts Beach Bar & Grill\, 3701 Atlantic Ave\, Ocean City\, MD\, 21842\, United States
END:VEVENT
BEGIN:VEVENT
DTSTART;TZID=America/New_York:20190805T100000
DTEND;TZID=America/New_York:20190805T103000
DTSTAMP:20260425T114335
CREATED:20190725T185920Z
LAST-MODIFIED:20190725T185920Z
UID:40300-1564999200-1565001000@tidesinnoc.com
SUMMARY:Free Summer Family Programs
DESCRIPTION:Gather outside the Ocean City Lifesaving Station Museum on the south end of the Boardwalk to learn fun facts and topics about Ocean City Maryland \n \nLearn about different subjects each day.  Topics include beach safety\, aquarium feeding\, knot tying\, Ocean City history\, and all about sharks.\n \nThis free family program is available every day from July 1 through August 24 at 10am.  No program on July 4th.    \n\n\n \n\n\n\n\nFor more information\, contact Sandy at 410-289-4991 or email sandy@ocmuseum.org. \n \n 
URL:https://tidesinnoc.com/event/free-summer-family-programs-35/
LOCATION:Ocean City Life Saving Museum\, 813 S Atlantic Ave\, Ocean City\, MD\, 21842\, United States
END:VEVENT
BEGIN:VEVENT
DTSTART;TZID=America/New_York:20190805T080000
DTEND;TZID=America/New_York:20190805T090000
DTSTAMP:20260425T114335
CREATED:20190724T065213Z
LAST-MODIFIED:20190724T065213Z
UID:39989-1564992000-1564995600@tidesinnoc.com
SUMMARY:YouYoga YogaRise
DESCRIPTION:Start your morning off right with yoga on the beach. YogaRise is a class for all to experience the foundations of yoga while experiencing Ocean City’s beach. Unite your mind\, body and soul towards a relaxing state. All levels are welcome!
URL:https://tidesinnoc.com/event/youyoga-yogarise-14/
LOCATION:Dunes Manor Hotel\, Court & Suites\, 2800 Baltimore Ave\, Ocean City\, MD\, 21842\, United States
END:VEVENT
BEGIN:VEVENT
DTSTART;TZID=America/New_York:20190804T190000
DTEND;TZID=America/New_York:20190804T210000
DTSTAMP:20260425T114335
CREATED:20190724T185550Z
LAST-MODIFIED:20190724T185550Z
UID:40124-1564945200-1564952400@tidesinnoc.com
SUMMARY:Sundaes in the Park in Ocean City MD
DESCRIPTION:Sundaes in the Park is the perfect way to wrap up the weekend in Ocean City MD. Bring the family to Northside Park in North Ocean City each Sunday evening in the summer for free live concert\, family fun activities\, and delicious ice cream sundaes. \n \nBring your picnic basket and beach chairs and watch the Ocean City sunset over the bay while enjoying live music for every taste\, from country to rock and tribute bands to oldies. During the concert\, enjoy ice cream and family activities for the kids. \n \nThe night ends with a fireworks display at approximately 9pm. \n \nSave the Dates – 2019 Schedule:\n \nJune 16: Panama Rex (The Ultimate Jam Buffett Band)\nJune 23: DJ Magellan\, Melissa Alesi & King Schascha\nJune 30: Bob Lougheed & the Memphis Mafia (Tribute to Elvis)\nJuly 7: Kick It Out (A Tribute to Heart)\nJuly 14: Mike Hines & The Look (High Energy Dance Music)\nJuly 21: Kittyback (Classic & Country Rock)\nJuly 28: Guys in Thin Ties (80s Music)\nAugust 4: Vertigo Red (Party Rock)\nAugust 11: Front Page News (Rock)\nAugust 18: The Janglebachs (Music of Woodstock)\nAugust 25: Jaded Love (American Rock Tribute)\nSeptember 1: Sapphire (80s Music)\n \nIn the event of inclement weather\, the concert may be moved inside. For more information\, call 800-626-2326.\n\n 
URL:https://tidesinnoc.com/event/sundaes-in-the-park-in-ocean-city-md-9/
LOCATION:Northside Park\, 200 125th St\, Ocean City\, MD\, 21842\, United States
END:VEVENT
BEGIN:VEVENT
DTSTART;TZID=America/New_York:20190804T170000
DTEND;TZID=America/New_York:20190804T213000
DTSTAMP:20260425T114335
CREATED:20190720T065227Z
LAST-MODIFIED:20190720T065227Z
UID:39312-1564938000-1564954200@tidesinnoc.com
SUMMARY:Free Circus at Jolly Roger® Amusement Park
DESCRIPTION:Complete your trip to the beach with a free circus at Jolly Roger® Amusement Park on 30th Street Bayside! Starting June 28th and running through September 2nd\, every night Jolly Roger® will be offering a free circus. Take a break from your rides and enjoy acrobats\, jugglers\, and other circus acts. You’ll even see Circus Smile featuring the Wheel of Death with the Morales Family!  \n \nThe show will be offered every night\, June 28-September 2. \n \nThere are two shows each night – 5:00pm and 9:30pm.\n \nPark hours are 2pm-11pm.
URL:https://tidesinnoc.com/event/free-circus-at-jolly-roger-amusement-park-49/
LOCATION:Jolly Roger Amusement Park\, 2901 Coastal Hwy\, Ocean City\, MD\, 21842\, United States
END:VEVENT
BEGIN:VEVENT
DTSTART;TZID=America/New_York:20190804T120000
DTEND;TZID=America/New_York:20190804T140000
DTSTAMP:20260425T114335
CREATED:20190721T185326Z
LAST-MODIFIED:20190721T185326Z
UID:39578-1564920000-1564927200@tidesinnoc.com
SUMMARY:Swim with the Mermaids
DESCRIPTION:Swim with Mermaids at Splash Mountain Water Park!  Enjoy this unique experience your children will be talking about all summer long! \n \nSplash Mountain Waterpark admission required. 
URL:https://tidesinnoc.com/event/swim-with-the-mermaids-46/
LOCATION:Splash Mountain Water Park\, 2901 Coastal Hwy\, Ocean City\, MD\, 21842\, United States
END:VEVENT
BEGIN:VEVENT
DTSTART;TZID=America/New_York:20190802T183000
DTEND;TZID=America/New_York:20190802T210000
DTSTAMP:20260425T114335
CREATED:20190723T185258Z
LAST-MODIFIED:20190723T185258Z
UID:39890-1564770600-1564779600@tidesinnoc.com
SUMMARY:Meet Pip the Beach Cat at Ocean Gallery!
DESCRIPTION:It’s a Pip-Up Shop at the Ocean Gallery\, right on the Ocean City Boardwalk! \n \nMeet Pip the Beach Cat\, the most famous rescue kitten in the world! Purchase a copy of his book\, Pip’s Guide to Ocean City\, and purchase Pip merchandise\, like stickers\, magnets\, toys\, and more. 
URL:https://tidesinnoc.com/event/meet-pip-the-beach-cat-at-ocean-gallery-13/
LOCATION:Ocean Gallery\, 201 N Boardwalk\, Ocean City\, MD\, 21842\, United States
END:VEVENT
BEGIN:VEVENT
DTSTART;TZID=America/New_York:20190802T173000
DTEND;TZID=America/New_York:20190802T203000
DTSTAMP:20260425T114335
CREATED:20190723T065232Z
LAST-MODIFIED:20190723T065232Z
UID:39818-1564767000-1564777800@tidesinnoc.com
SUMMARY:Slappy Hour
DESCRIPTION:Slappy Hour is the musical collaboration of Benjamin Davis\,\nNathan Nasteff\, and Lukas Saylor. Music for the people\, from the shed to the\nstreets. This local band is fresh out of Salisbury\, Maryland and heading to the Pool Bar at Rio Grande on Friday night!  Are you ready for a great time?
URL:https://tidesinnoc.com/event/slappy-hour-10/
LOCATION:Rio Grande Cafe & Tiki Bar\, 14502 Coastal Highway\, Ocean City\, MD\, 21842\, United States
END:VEVENT
BEGIN:VEVENT
DTSTART;TZID=America/New_York:20190801T183000
DTEND;TZID=America/New_York:20190801T190000
DTSTAMP:20260425T114335
CREATED:20190720T185448Z
LAST-MODIFIED:20190720T185448Z
UID:39426-1564684200-1564686000@tidesinnoc.com
SUMMARY:Free Live Ice Show | Featuring The Next Ice Age at Carousel Oceanfront Hotel
DESCRIPTION:Don’t miss our nightly Live Ice Shows at the Carousel Oceanfront Hotel’s Ice Rink featuring The Next Ice Age Dance Company beginning at 6:30pm (please note there will be no Friday performances).  \n \nFor the best seats in the house\, make reservations for rink-side dining by calling 410-524-1000 ext 7195
URL:https://tidesinnoc.com/event/free-live-ice-show-featuring-the-next-ice-age-at-carousel-oceanfront-hotel-46/
LOCATION:Carousel Skating Rink\, 11700 Coastal Hwy\, Ocean City\, MD\, 21842\, United States
END:VEVENT
BEGIN:VEVENT
DTSTART;TZID=America/New_York:20190801T170000
DTEND;TZID=America/New_York:20190801T220000
DTSTAMP:20260425T114335
CREATED:20190718T065255Z
LAST-MODIFIED:20190718T065255Z
UID:39019-1564678800-1564696800@tidesinnoc.com
SUMMARY:On The Edge plays at Lenny's Beach Bar and Grill at the Clarion Hotel
DESCRIPTION: The band On The Edge was formed in 1984. They became one of Maryland Eastern Shore’s favorite dance band. On The Edge’s busy schedule takes them up and down the East Coast. The band is popular for their high energy presentation\, and entertains their audiences with a wide variety of Pop hits from 60’s Motown to modern Pop tunes.\nThe band\, now in it’s 30 years of existence have entertained in numerous high profile performances in D.C.\, N. Y.\, N J. Atlanta\, Indiana\, Florida & Jamaica. Currently they stay busy working Casinos\, Private Events\, Festivals\, Weddings and they also are regulars at The Clarion Resort Hotel in Ocean City\, MD. 
URL:https://tidesinnoc.com/event/on-the-edge-plays-at-lennys-beach-bar-and-grill-at-the-clarion-hotel-39/
LOCATION:Lenny’s Beach Bar & Grill\, 10100 Coastal Hwy\, Ocean City\, MD\, 21842\, United States
END:VEVENT
END:VCALENDAR