BEGIN:VCALENDAR
VERSION:2.0
PRODID:-//Ocean City MD Rooms | The Tides Inn OC Vacations - ECPv6.15.13//NONSGML v1.0//EN
CALSCALE:GREGORIAN
METHOD:PUBLISH
X-WR-CALNAME:Ocean City MD Rooms | The Tides Inn OC Vacations
X-ORIGINAL-URL:https://tidesinnoc.com
X-WR-CALDESC:Events for Ocean City MD Rooms | The Tides Inn OC Vacations
REFRESH-INTERVAL;VALUE=DURATION:PT1H
X-Robots-Tag:noindex
X-PUBLISHED-TTL:PT1H
BEGIN:VTIMEZONE
TZID:America/New_York
BEGIN:DAYLIGHT
TZOFFSETFROM:-0500
TZOFFSETTO:-0400
TZNAME:EDT
DTSTART:20180311T070000
END:DAYLIGHT
BEGIN:STANDARD
TZOFFSETFROM:-0400
TZOFFSETTO:-0500
TZNAME:EST
DTSTART:20181104T060000
END:STANDARD
BEGIN:DAYLIGHT
TZOFFSETFROM:-0500
TZOFFSETTO:-0400
TZNAME:EDT
DTSTART:20190310T070000
END:DAYLIGHT
BEGIN:STANDARD
TZOFFSETFROM:-0400
TZOFFSETTO:-0500
TZNAME:EST
DTSTART:20191103T060000
END:STANDARD
BEGIN:DAYLIGHT
TZOFFSETFROM:-0500
TZOFFSETTO:-0400
TZNAME:EDT
DTSTART:20200308T070000
END:DAYLIGHT
BEGIN:STANDARD
TZOFFSETFROM:-0400
TZOFFSETTO:-0500
TZNAME:EST
DTSTART:20201101T060000
END:STANDARD
END:VTIMEZONE
BEGIN:VEVENT
DTSTART;TZID=America/New_York:20191207T100000
DTEND;TZID=America/New_York:20191207T160000
DTSTAMP:20260425T072709
CREATED:20191107T065245Z
LAST-MODIFIED:20191107T065245Z
UID:54970-1575712800-1575734400@tidesinnoc.com
SUMMARY:Annual Christmas Bazaar
DESCRIPTION:Have some fun and get your holiday shopping done at Most Blessed Sacrament Catholic School’s Christmas Bazaar and Fundraiser to benefit the Grace Center for Maternal and Women’s Health.  This holiday bazaar will showcase local crafters of handmade items\, a raffle table and baked goods.  Eat in or carry-out your lunch.  For more information\, contact Bobbi Hauck at 443-513-4124.    \n 
URL:https://tidesinnoc.com/event/annual-christmas-bazaar/
LOCATION:Most Blessed Sacrament Catholic School
END:VEVENT
BEGIN:VEVENT
DTSTART;TZID=America/New_York:20191122T210000
DTEND;TZID=America/New_York:20191122T210000
DTSTAMP:20260425T072709
CREATED:20191028T185240Z
LAST-MODIFIED:20191028T185240Z
UID:53941-1574456400-1574456400@tidesinnoc.com
SUMMARY:DJ Tuff at Seacrets
DESCRIPTION:Come dance the night away to beats from DJ Tuff at Seacrets in Ocean City\, MD. Enjoy a cold drink with a few friends while jamming along to your favorite club tunes.
URL:https://tidesinnoc.com/event/dj-tuff-at-seacrets-9/
LOCATION:Seacrets Jamaica USA\, 117 49th St\, Ocean City\, MD\, 21842\, United States
END:VEVENT
BEGIN:VEVENT
DTSTART;TZID=America/New_York:20191122T063000
DTEND;TZID=America/New_York:20191122T071500
DTSTAMP:20260425T072709
CREATED:20190913T185226Z
LAST-MODIFIED:20190913T185226Z
UID:48073-1574404200-1574406900@tidesinnoc.com
SUMMARY:YouYoga SaltYoga Practice in Himalayan Salt Room
DESCRIPTION:Friday mornings from 6:30am-7:15am  Start off your day and weekend by balancing your body\,mind & spirit to find ease and stillness to allow optimal health to flourish. The salt room provides healing salt. All levels welcome! Instructor: Jenny Lind\, RYT 500. \n$15.00 Drop-in fee. Mats are provided.\n \nhttps://www.schedulicity.com/scheduling/IVG4VW/classes?fbclid=IwAR1_T9BhPb6j8RIz-nmEXI8jHcGqgXQP2r4eE3-B4eMMPzlFOT_EQa4Vxyg
URL:https://tidesinnoc.com/event/youyoga-saltyoga-practice-in-himalayan-salt-room-12/
LOCATION:Ocean Elements Salt Spa & Float Center\, 11934 Ocean Gateway\, Ocean City\, MD\, 21842\, United States
END:VEVENT
BEGIN:VEVENT
DTSTART;TZID=America/New_York:20191121T173000
DTEND;TZID=America/New_York:20191121T183000
DTSTAMP:20260425T072709
CREATED:20191018T065544Z
LAST-MODIFIED:20191018T065544Z
UID:52594-1574357400-1574361000@tidesinnoc.com
SUMMARY:Winterfest Of Lights Opening Ceremony and Tree Lighting
DESCRIPTION:The 26th Anniversary for Ocean City’s beloved holiday festival is shaping up to be bigger and better than ever!  A brand new 50 foot Christmas tree and a new look inside the Winterfest Pavillion\, you will be treated to a holiday experience like never before.  \nAt the special opening ceremony\, which kicks off at 5:30pm on Thursday\, November 21 at Northside Park; Ocean City Elementary School’s “OC Stars” will perform holiday songs and dance.  In addition\, Mayor Rick Meehan will “flip the switch” to light the Christmas tree and officially open Winterfest of Lights.  The special opening ceremony is FREE and open to the public.  \nSanta will even make a surprise appearance for the opening ceremony\, which will feature free rides on the Winterfest Express train for the remainder of the evening! 
URL:https://tidesinnoc.com/event/winterfest-of-lights-opening-ceremony-and-tree-lighting/
LOCATION:Northside Park\, 200 125th St\, Ocean City\, MD\, 21842\, United States
END:VEVENT
BEGIN:VEVENT
DTSTART;TZID=America/New_York:20191120T190000
DTEND;TZID=America/New_York:20191120T210000
DTSTAMP:20260425T072709
CREATED:20190928T185219Z
LAST-MODIFIED:20190928T185219Z
UID:50042-1574276400-1574283600@tidesinnoc.com
SUMMARY:Beach Bingo with DJ Adam Dutch & DJ Kimberly
DESCRIPTION:Grab your dabbers; it’s time for Beach Bingo with DJ Adam Dutch and DJ Kimberly at the Taphouse Tavern! Order a drink and enjoy half off flatbreads all night long.  
URL:https://tidesinnoc.com/event/beach-bingo-with-dj-adam-dutch-dj-kimberly-8/
LOCATION:Taphouse Tavern\, 13729 Coastal Hwy\, Ocean City\, MD\, 21842\, United States
END:VEVENT
BEGIN:VEVENT
DTSTART;TZID=America/New_York:20191118T190000
DTEND;TZID=America/New_York:20191118T210000
DTSTAMP:20260425T072709
CREATED:20191022T065321Z
LAST-MODIFIED:20191022T065321Z
UID:53147-1574103600-1574110800@tidesinnoc.com
SUMMARY:Monday Night Trivia
DESCRIPTION:It’s time for Trivia at the West Ocean Dough Roller!  Test your knowledge\, have some fun with facts while you dine and take advantage of the drink specials. 
URL:https://tidesinnoc.com/event/monday-night-trivia-9/
LOCATION:The Dough Roller\, 606 S Atlantic Ave\, Ocean City\, MD\, 21842\, United States
END:VEVENT
BEGIN:VEVENT
DTSTART;TZID=America/New_York:20191109T210000
DTEND;TZID=America/New_York:20191109T210000
DTSTAMP:20260425T072709
CREATED:20190903T065257Z
LAST-MODIFIED:20190903T065257Z
UID:46732-1573333200-1573333200@tidesinnoc.com
SUMMARY:Tranzfusion Band at Beach Barrels
DESCRIPTION:Come to Beach Barrels Bar on 138th Street to hear Tranzfusion play. This group of talented musicians has been together for years.  They primarily play rock music.  In 2009\, Tranzfusion won the Coconut Times’ Entertainer of the Year Award.  In 2008 the band won the Daily Times’ #1 All-time Favorite Band Award.
URL:https://tidesinnoc.com/event/tranzfusion-band-at-beach-barrels-7/
LOCATION:Beach Barrels\, 13207 Coastal Hwy\, Ocean City\, MD\, 21842\, United States
END:VEVENT
BEGIN:VEVENT
DTSTART;TZID=America/New_York:20191108T210000
DTEND;TZID=America/New_York:20191108T210000
DTSTAMP:20260425T072709
CREATED:20191016T065258Z
LAST-MODIFIED:20191016T065258Z
UID:52353-1573246800-1573246800@tidesinnoc.com
SUMMARY:Tor & Coastal Storm at Harpoon Hannah's
DESCRIPTION:Coastal Storm plays to a audience between the ages of 25 to 80.  The music is from the 60’s\, 70’s\, 80’s and today.   The band performs in a high energy style which many have called flamboyant. Exceptional vocals and high quality instrumentals keeps this group in high demand.  \n\n 
URL:https://tidesinnoc.com/event/tor-coastal-storm-at-harpoon-hannahs-2/
LOCATION:Harpoon Hanna’s\, 39064 Harpoon Road\, Fenwick Island\, DE\, 19944\, United States
END:VEVENT
BEGIN:VEVENT
DTSTART;TZID=America/New_York:20191108T210000
DTEND;TZID=America/New_York:20191108T210000
DTSTAMP:20260425T072709
CREATED:20191015T185337Z
LAST-MODIFIED:20191015T185337Z
UID:52296-1573246800-1573246800@tidesinnoc.com
SUMMARY:Tor & Coastal Storm at Harpoon Hannah's
DESCRIPTION:Coastal Storm plays to a audience between the ages of 25 to 80.  The music is from the 60’s\, 70’s\, 80’s and today.   The band performs in a high energy style which many have called flamboyant. Exceptional vocals and high quality instrumentals keeps this group in high demand.  \n\n 
URL:https://tidesinnoc.com/event/tor-coastal-storm-at-harpoon-hannahs/
LOCATION:Harpoon Hanna’s\, 39064 Harpoon Road\, Fenwick Island\, DE\, 19944\, United States
END:VEVENT
BEGIN:VEVENT
DTSTART;TZID=America/New_York:20191106T180000
DTEND;TZID=America/New_York:20191106T210000
DTSTAMP:20260425T072709
CREATED:20191001T185449Z
LAST-MODIFIED:20191001T185449Z
UID:50437-1573063200-1573074000@tidesinnoc.com
SUMMARY:Bingo Night
DESCRIPTION:Stop by Beach Barrels every Wednesday for an exciting bingo night hosted by DJ Rupe. DJ Rupe will play our favorite dance tunes and keep us entertained all night long. 
URL:https://tidesinnoc.com/event/bingo-night-6/
LOCATION:Beach Barrels\, 13207 Coastal Hwy\, Ocean City\, MD\, 21842\, United States
END:VEVENT
BEGIN:VEVENT
DTSTART;TZID=America/New_York:20191105T180000
DTEND;TZID=America/New_York:20191105T200000
DTSTAMP:20260425T072709
CREATED:20191009T185329Z
LAST-MODIFIED:20191009T185329Z
UID:51483-1572976800-1572984000@tidesinnoc.com
SUMMARY:Strictly Sangiovese Wine Tasting
DESCRIPTION:Tuesday Wine Tastings at Sello’s Italian Oven Bar & Grille includes lite fare menu and minimum of 4 wines to taste throughout the evening. On this Tuesday Tasting\, Jessica from Bacchus will share “Strictly Sangiovese”.  When in Italy\, it all starts with the Sangiovese grape. Try some remarkable Chiantis that will bring out your Italian!      \n \nYour wine tasting tickets also affords you the opportunity to purchase wines to take home at 20% below the retail cost and automatically enters you to wine door prizes. \n\n \nTickets:\nLocker Member Price ~ Complimentary\nLoyalty Card Member Price ~ $10\nPublic Price ~ $15\n\n \nLimited to 14 persons. Must RSVP and purchase tickets in avance. 
URL:https://tidesinnoc.com/event/strictly-sangiovese-wine-tasting/
LOCATION:Sello’s Italian Oven & Bar\, 9802 Golf Course Rd\, Ocean City\, MD\, 21842\, United States
END:VEVENT
BEGIN:VEVENT
DTSTART;TZID=America/New_York:20191030T180000
DTEND;TZID=America/New_York:20191030T210000
DTSTAMP:20260425T072709
CREATED:20191011T185200Z
LAST-MODIFIED:20191011T185200Z
UID:51769-1572458400-1572469200@tidesinnoc.com
SUMMARY:Pub Party & Trivia Night
DESCRIPTION:Assemble your team and get ready to test your knowledge! \nSign in for team trivia at 6:00pm in our Main Bar\n \nTrivia starts at 6:30pm; win gift cards and giveaways  \n \nHappy Hour Food and Drink Specials for Trivia Players\n$2.25 Miller Lite Draft\n$2.25 Coors Lt Draft\n$2.50 Yuengling\n$5.00 Craft Beers\n$6.00 Crushes\n$4.00 Rail Drinks\n$4.50 Call Drinks\n \n$7.99 Wings\n$7.99 1/2 Lb. Steamed Shrimp\n$7.99 Jerk Chicken\n$7.99 Spring Rolls\n$8.99 Shrimp Salad Sliders\n$2.00 Off Any Burger\n$8.99 Jerk Chicken Wrap\n$8.99 Cheese Pizza\n \n 
URL:https://tidesinnoc.com/event/pub-party-trivia-night-3/
LOCATION:Harpoon Hanna’s\, 39064 Harpoon Road\, Fenwick Island\, DE\, 19944\, United States
END:VEVENT
BEGIN:VEVENT
DTSTART;TZID=America/New_York:20191026T180000
DTEND;TZID=America/New_York:20191026T200000
DTSTAMP:20260425T072709
CREATED:20190902T185247Z
LAST-MODIFIED:20190902T185247Z
UID:46634-1572112800-1572120000@tidesinnoc.com
SUMMARY:Identity Crisis Band
DESCRIPTION:Identity Crisis\, formed in 2000\, progressed from a three piece accoustic trio\, into a five piece electric/acoustic\, multi-genre dance band aimed toward crowd entertainment with the emphasis on fun!  \nCome see the band live at the VFW in Ocean View DE. 
URL:https://tidesinnoc.com/event/identity-crisis-band-17/
LOCATION:VFW Ocean View\, 29265 Marshy Hope Way\, Ocean View\, DE\, 21842\, United States
END:VEVENT
BEGIN:VEVENT
DTSTART;TZID=America/New_York:20191026T173000
DTEND;TZID=America/New_York:20191026T213000
DTSTAMP:20260425T072709
CREATED:20191014T185354Z
LAST-MODIFIED:20191014T185354Z
UID:52127-1572111000-1572125400@tidesinnoc.com
SUMMARY:DJ RobCee
DESCRIPTION:Returning to the area after several successful stints doing in-house DJ residencies at some of the hottest dance clubs in the D.C\, and Baltimore area. Rob’s unique DJ mixing skills prove why he remains one of the best in the business. Spinning everything from new-school hits to old-school jams and the hottest in international dance trax.\n 
URL:https://tidesinnoc.com/event/dj-robcee-5/
LOCATION:Fager’s Island\, 201 60th St\, Ocean City\, MD\, 21842\, United States
END:VEVENT
BEGIN:VEVENT
DTSTART;TZID=America/New_York:20191025T063000
DTEND;TZID=America/New_York:20191025T071500
DTSTAMP:20260425T072709
CREATED:20190912T065335Z
LAST-MODIFIED:20190912T065335Z
UID:47869-1571985000-1571987700@tidesinnoc.com
SUMMARY:YouYoga SaltYoga Practice in Himalayan Salt Room
DESCRIPTION:Friday mornings from 6:30am-7:15am  Start off your day and weekend by balancing your body\,mind & spirit to find ease and stillness to allow optimal health to flourish. The salt room provides healing salt. All levels welcome! Instructor: Jenny Lind\, RYT 500. \n$15.00 Drop-in fee. Mats are provided.\n \nhttps://www.schedulicity.com/scheduling/IVG4VW/classes?fbclid=IwAR1_T9BhPb6j8RIz-nmEXI8jHcGqgXQP2r4eE3-B4eMMPzlFOT_EQa4Vxyg
URL:https://tidesinnoc.com/event/youyoga-saltyoga-practice-in-himalayan-salt-room-7/
LOCATION:Ocean Elements Salt Spa & Float Center\, 11934 Ocean Gateway\, Ocean City\, MD\, 21842\, United States
END:VEVENT
BEGIN:VEVENT
DTSTART;VALUE=DATE:20191024
DTEND;VALUE=DATE:20191025
DTSTAMP:20260425T072709
CREATED:20190901T185237Z
LAST-MODIFIED:20190901T185237Z
UID:46444-1571875200-1571961599@tidesinnoc.com
SUMMARY:Fall Restaurant Week
DESCRIPTION:Many spectacular restaurants will create special menus designed to tempt your taste buds. Special\, fixed-priced menus will be offered throughout the two-week event. No passes\, tickets or coupons are required. Just simply choose a participating restaurant and dine out during the dates of the promotion. \n \n For information call the Hotel-Motel-Restaurant Association at 1-800-626-2326 x 2\,visit  http://www.oceancityrestaurantweek.com or email inquire@ocvisitor.com
URL:https://tidesinnoc.com/event/fall-restaurant-week-12/
LOCATION:Townwide and West Ocean City\, Townwide and West Ocean City\, Ocean City\, MD\, 21842\, United States
END:VEVENT
BEGIN:VEVENT
DTSTART;TZID=America/New_York:20191021T190000
DTEND;TZID=America/New_York:20191021T200000
DTSTAMP:20260425T072709
CREATED:20190902T065218Z
LAST-MODIFIED:20190902T065218Z
UID:46541-1571684400-1571688000@tidesinnoc.com
SUMMARY:Ravens Rap Show
DESCRIPTION:Ravens Rap Show Live – all you need to know about your hometown team!  \n \n Join your hosts Mike Bradley of 92.7 FM with his special guests each week for expert analysis\, fun commentary and insider information. \n \nThe Ravens Rap Show is filmed LIVE every Monday night from 7-8pm at The Original Greene Turtle!  Every show you attend gets you more chances to win Ravens Tickets to home Ravens games vs the Bears\, the Dolphins\, the Lions and the Colts (must be present to win) and other giveaways from sponsors!\n \nWhile you are here\, you might as well have a cold beer; $2.75 Miller Lite and Coors Light Bottles and Drafts and $2.75 Rail Drinks. \n \n\n \n 
URL:https://tidesinnoc.com/event/ravens-rap-show-7/
LOCATION:The Original Greene Turtle\, 11601 Coastal Hwy\, Ocean City\, MD\, 21842\, United States
END:VEVENT
BEGIN:VEVENT
DTSTART;TZID=America/New_York:20191019T200000
DTEND;TZID=America/New_York:20191019T200000
DTSTAMP:20260425T072709
CREATED:20190927T185400Z
LAST-MODIFIED:20190927T185400Z
UID:49872-1571515200-1571515200@tidesinnoc.com
SUMMARY:Ripley's Believe It or Not! Ghost Tour
DESCRIPTION:Join Ripley’s Believe It or Not! on the Boardwalk to investigate paronormal activity on Friday and Saturday nights for a limited time!   As a ghost seeker\, you will have the opportunity to embark on a guided tour where you will discover authentic evidence collected by professional paranormal investigators.   When the lights are out\, and the music is silenced\, tales of Ripley’s haunted exhibits join the rich history of Ocean City ghosts in an adventure that might bright ghost seekers face-to-face with unseen guests. \n \nTours start at $15 per person\nNew this year\, VIP Tours from 11:00 pm – 2:00 am include the opportunity to use paranormal seeking equipment in a private guided setting. \n \n \n 
URL:https://tidesinnoc.com/event/ripleys-believe-it-or-not-ghost-tour-8/
LOCATION:Ripley’s Believe It or Not!\, 401 S Atlantic Ave\, Ocean City\, MD\, 21842\, United States
END:VEVENT
BEGIN:VEVENT
DTSTART;TZID=America/New_York:20191018T220000
DTEND;TZID=America/New_York:20191018T220000
DTSTAMP:20260425T072709
CREATED:20191004T185222Z
LAST-MODIFIED:20191004T185222Z
UID:50904-1571436000-1571436000@tidesinnoc.com
SUMMARY:DJ BK at The Original Greene Turtle
DESCRIPTION:Come party at the Original Greene Turtle in North OC with DJ BK! DJ BK’s set will start right at the beginning of Turtle Power Hour at 10pm\, featuring $3 FIREBALLS!!! You won’t want to miss the greatest party in North OC!
URL:https://tidesinnoc.com/event/dj-bk-at-the-original-greene-turtle-3/
LOCATION:The Original Greene Turtle\, 11601 Coastal Hwy\, Ocean City\, MD\, 21842\, United States
END:VEVENT
BEGIN:VEVENT
DTSTART;TZID=America/New_York:20191012T090000
DTEND;TZID=America/New_York:20191012T170000
DTSTAMP:20260425T072709
CREATED:20190901T065232Z
LAST-MODIFIED:20190901T065232Z
UID:46368-1570870800-1570899600@tidesinnoc.com
SUMMARY:OC Beach Classic
DESCRIPTION:OC Beach Classic is a 2-day beach ultimate frisbee tournament featuring 28 teams from the Mid-Atlantic\, North East\, and South East regions!  \n \nIf you’ve never seen beach ultimate frisbee before\, it’s a non-contact\, fast paced sport played with a flying disc. Beach Ultimate is co-ed and values “spirit of the game”\, encouraging sportsmanship\, camaraderie\, and fun! Players can’t run with their disc\, and to score a point\, they have to catch a pass from their team in the end zone. \n \nSpectating is FREE! Family-Friendly!
URL:https://tidesinnoc.com/event/oc-beach-classic/
LOCATION:Somerset St Beach\, Somerset St\, Ocean City\, MD\, 21842\, United States
END:VEVENT
BEGIN:VEVENT
DTSTART;TZID=America/New_York:20190928T180000
DTEND;TZID=America/New_York:20190928T200000
DTSTAMP:20260425T072709
CREATED:20190830T065234Z
LAST-MODIFIED:20190830T065234Z
UID:46068-1569693600-1569700800@tidesinnoc.com
SUMMARY:Identity Crisis Band
DESCRIPTION:Identity Crisis\, formed in 2000\, progressed from a three piece accoustic trio\, into a five piece electric/acoustic\, multi-genre dance band aimed toward crowd entertainment with the emphasis on fun!  \nCome see the band live at the VFW in Ocean View DE. 
URL:https://tidesinnoc.com/event/identity-crisis-band-14/
LOCATION:MD
END:VEVENT
BEGIN:VEVENT
DTSTART;TZID=America/New_York:20190924T180000
DTEND;TZID=America/New_York:20190924T190000
DTSTAMP:20260425T072709
CREATED:20190829T185747Z
LAST-MODIFIED:20190829T185747Z
UID:45965-1569348000-1569351600@tidesinnoc.com
SUMMARY:Yoga Class at Chesapeake Martial Arts
DESCRIPTION:Come explore a balanced and nuanced approach to yoga in a welcoming\, friendly environment. No matter your age\, ability\, injury\, size or condition\, we are here to support you\, and your yoga practice.
URL:https://tidesinnoc.com/event/yoga-class-at-chesapeake-martial-arts-30/
LOCATION:Chesapeake Martial Arts\, 11070 Cathell Rd\, Berlin\, MD\, 21811\, United States
END:VEVENT
BEGIN:VEVENT
DTSTART;TZID=America/New_York:20190920T210000
DTEND;TZID=America/New_York:20190920T210000
DTSTAMP:20260425T072709
CREATED:20190828T065226Z
LAST-MODIFIED:20190828T065226Z
UID:45821-1569013200-1569013200@tidesinnoc.com
SUMMARY:Tranzfusion Band
DESCRIPTION:Catch Tranzfusion band members: Bobby Malaby on the drums\, percussion and vocals; Tom Malaby on the bass guitar\, lead\, rhythm guitar and vocals; Hank Koeing playing lead guitar\, slide lead\, harmonica and vocals; and Bob Davis on the keyboards\, bass guitar\, harmonica and vocals\, at BJ’s on the Water\, 75th Street\, bayside. 
URL:https://tidesinnoc.com/event/tranzfusion-band-8/
LOCATION:BJ’s on the Water\, 115 75th St\, Ocean City\, MD\, 21842\, United States
END:VEVENT
BEGIN:VEVENT
DTSTART;TZID=America/New_York:20190918T210000
DTEND;TZID=America/New_York:20190918T210000
DTSTAMP:20260425T072709
CREATED:20190827T190911Z
LAST-MODIFIED:20190827T190911Z
UID:45742-1568840400-1568840400@tidesinnoc.com
SUMMARY:DJ Cruz at Seacrets
DESCRIPTION:It’s a dance party with DJ Cruz at the Main Bar at Seacrets! Grab your friends and your favorite drink and dance the night away. Listen to popular club and dance hits and have a night to remember.
URL:https://tidesinnoc.com/event/dj-cruz-at-seacrets-19/
LOCATION:Seacrets Jamaica USA\, 117 49th St\, Ocean City\, MD\, 21842\, United States
END:VEVENT
BEGIN:VEVENT
DTSTART;TZID=America/New_York:20190915T200000
DTEND;TZID=America/New_York:20190915T200000
DTSTAMP:20260425T072709
CREATED:20190827T065149Z
LAST-MODIFIED:20190827T065149Z
UID:45665-1568577600-1568577600@tidesinnoc.com
SUMMARY:Worcester County Fair
DESCRIPTION:The Worcester County Fair will happen in Byrd Park in the heart of Snow Hill. It offers a variety of activities and entertainment\, as well as hosting various craft\, education and food vendors that will stimulate the imagination and please the senses.  
URL:https://tidesinnoc.com/event/worcester-county-fair-3/
LOCATION:Byrd Park\, 400 Dighton Ave\, Snow Hill\, MD\, 21863\, United States
END:VEVENT
BEGIN:VEVENT
DTSTART;TZID=America/New_York:20190911T220000
DTEND;TZID=America/New_York:20190911T220000
DTSTAMP:20260425T072709
CREATED:20190826T065445Z
LAST-MODIFIED:20190826T065445Z
UID:45472-1568239200-1568239200@tidesinnoc.com
SUMMARY:Old School with DJ Wiz at The Original Greene Turtle
DESCRIPTION:Throwback Old School with DJ Wiz at The Original Greene Turtle! Dance the night away with a drink in your hand. DJ Wiz’s set will start right at the beginning of Turtle Power Hour at 10pm\, featuring $3 FIREBALLS!!! You won’t want to miss the greatest party in North OC!
URL:https://tidesinnoc.com/event/old-school-with-dj-wiz-at-the-original-greene-turtle-12/
LOCATION:The Original Greene Turtle\, 11601 Coastal Hwy\, Ocean City\, MD\, 21842\, United States
END:VEVENT
BEGIN:VEVENT
DTSTART;TZID=America/New_York:20190910T220000
DTEND;TZID=America/New_York:20190910T220000
DTSTAMP:20260425T072709
CREATED:20190825T185633Z
LAST-MODIFIED:20190825T185633Z
UID:45407-1568152800-1568152800@tidesinnoc.com
SUMMARY:DJ Casper at The Original Greene Turtle
DESCRIPTION:Party with DJ Casper at The Original Greene Turtle! Dance the night away with a drink and a snack. DJ Casper’s set will start right at the beginning of Turtle Power Hour at 10pm\, featuring $3 FIREBALLS!!! You won’t want to miss the greatest party in North OC!
URL:https://tidesinnoc.com/event/dj-casper-at-the-original-greene-turtle-18/
LOCATION:The Original Greene Turtle\, 11601 Coastal Hwy\, Ocean City\, MD\, 21842\, United States
END:VEVENT
BEGIN:VEVENT
DTSTART;VALUE=DATE:20190908
DTEND;VALUE=DATE:20190909
DTSTAMP:20260425T072709
CREATED:20190825T065619Z
LAST-MODIFIED:20190825T065619Z
UID:45321-1567900800-1567987199@tidesinnoc.com
SUMMARY:Flounder Pounder
DESCRIPTION:The Bahia Marina Flounder Pounder is a one day fishing tournament for flounder. This tournament is a lot of fun and great for the kids. \n \nYou may fish from your own boat or rent a skiff\, skimmer\, or pontoon from the marina if you wish.\n \nLocated at the Bahia Marina\, 21st & 22nd Street\, Ocean City\, MD 21842
URL:https://tidesinnoc.com/event/flounder-pounder/
LOCATION:Bahia Marina\, Ocean City\, MD\, 21842\, United States
END:VEVENT
BEGIN:VEVENT
DTSTART;TZID=America/New_York:20190906T210000
DTEND;TZID=America/New_York:20190906T210000
DTSTAMP:20260425T072709
CREATED:20190824T185643Z
LAST-MODIFIED:20190824T185643Z
UID:45242-1567803600-1567803600@tidesinnoc.com
SUMMARY:DJ Tuff at Seacrets
DESCRIPTION:Come dance the night away to beats from DJ Tuff at Seacrets in Ocean City\, MD. Enjoy a cold drink with a few friends while jamming along to your favorite club tunes.
URL:https://tidesinnoc.com/event/dj-tuff-at-seacrets-38/
LOCATION:Seacrets Jamaica USA\, 117 49th St\, Ocean City\, MD\, 21842\, United States
END:VEVENT
BEGIN:VEVENT
DTSTART;TZID=America/New_York:20190904T170000
DTEND;TZID=America/New_York:20190904T200000
DTSTAMP:20260425T072709
CREATED:20190823T065302Z
LAST-MODIFIED:20190823T065302Z
UID:45033-1567616400-1567627200@tidesinnoc.com
SUMMARY:Kevin Poole Band Live at Crabcake Factory Bayside
DESCRIPTION:Kevin has been playing music professionally in Ocean City\, MD since 1993.  Kevin recorded his first album\, Going Home\, in 1996\, a mix of tempos and styles. Kevin’s second album Troubador was released in 2001. Troubador is a very layered and meticulously recorded CD created with a large band and encompassing many musical styles. In 2006 Kevin’s third album\, Scenic Route was released. Scenic Route is a fun lighthearted CD with an eclectic mix of originals and covers\, including covers of the Beatles\, Elvis Costello\, The Church and more. Originals such as A.D.D.\, Stairway to Kevin\, King Midas\, and the crowd favorite\, Redneck Nascar Honey\, which has received a lot of airplay in the Maryland/Delaware area. \n \nMake sure you stop in for Crabcake Factory Bayside’s Happy Hour from 3-5pm. Enjoy an $8 Crab Pizza with a $5 Bloody Mary\, or maybe $6 Wings or Beef Tacos with a $6 Orange Crush.
URL:https://tidesinnoc.com/event/kevin-poole-band-live-at-crabcake-factory-bayside-3/
LOCATION:Crabcake Factory Bayside\, 37314 Lighthouse Rd\, Selbyville\, DE\, 19975\, United States
END:VEVENT
END:VCALENDAR