BEGIN:VCALENDAR
VERSION:2.0
PRODID:-//Ocean City MD Rooms | The Tides Inn OC Vacations - ECPv6.15.13//NONSGML v1.0//EN
CALSCALE:GREGORIAN
METHOD:PUBLISH
X-ORIGINAL-URL:https://tidesinnoc.com
X-WR-CALDESC:Events for Ocean City MD Rooms | The Tides Inn OC Vacations
REFRESH-INTERVAL;VALUE=DURATION:PT1H
X-Robots-Tag:noindex
X-PUBLISHED-TTL:PT1H
BEGIN:VTIMEZONE
TZID:America/New_York
BEGIN:DAYLIGHT
TZOFFSETFROM:-0500
TZOFFSETTO:-0400
TZNAME:EDT
DTSTART:20250309T070000
END:DAYLIGHT
BEGIN:STANDARD
TZOFFSETFROM:-0400
TZOFFSETTO:-0500
TZNAME:EST
DTSTART:20251102T060000
END:STANDARD
BEGIN:DAYLIGHT
TZOFFSETFROM:-0500
TZOFFSETTO:-0400
TZNAME:EDT
DTSTART:20260308T070000
END:DAYLIGHT
BEGIN:STANDARD
TZOFFSETFROM:-0400
TZOFFSETTO:-0500
TZNAME:EST
DTSTART:20261101T060000
END:STANDARD
BEGIN:DAYLIGHT
TZOFFSETFROM:-0500
TZOFFSETTO:-0400
TZNAME:EDT
DTSTART:20270314T070000
END:DAYLIGHT
BEGIN:STANDARD
TZOFFSETFROM:-0400
TZOFFSETTO:-0500
TZNAME:EST
DTSTART:20271107T060000
END:STANDARD
END:VTIMEZONE
BEGIN:VEVENT
DTSTART;TZID=America/New_York:20260430T170000
DTEND;TZID=America/New_York:20260430T210000
DTSTAMP:20260423T120928
CREATED:20260409T065058Z
LAST-MODIFIED:20260423T065032Z
UID:320532-1777568400-1777582800@tidesinnoc.com
SUMMARY:Faith Noel
DESCRIPTION:Faith Noel will be performing multiple genres and your favorite cover tunes\, as well as her own originals at Seacrerts in Ocean City\, MD tonight. Faith’s mix of current and classic covers is sure to please you and your friends. 
URL:https://tidesinnoc.com/event/faith-noel-3/
LOCATION:Seacrets\, 49th Street On The Bay\, Ocean City\, MD\, 21842\, United States
ATTACH;FMTTYPE=:
END:VEVENT
BEGIN:VEVENT
DTSTART;TZID=America/New_York:20260501T170000
DTEND;TZID=America/New_York:20260501T210000
DTSTAMP:20260423T120928
CREATED:20260126T185053Z
LAST-MODIFIED:20260423T065032Z
UID:315968-1777654800-1777669200@tidesinnoc.com
SUMMARY:Phil Perdue - "The Piano Man"
DESCRIPTION:Enjoy Phil Perdue “The Piano Man” on the grand piano at the Captain’s Table in Ocean City\, Maryland.  Enjoy fine dining at its best with South African lobster tails\, delicious crab cakes\, certified angus beef steaks and great selection from the bar. Phil’s smooth sounds on the grand piano are a local’s favorite on Friday and Saturday nights.  
URL:https://tidesinnoc.com/event/phil-perdue-the-piano-man-28/
LOCATION:Captain’s Table Restaurant and Bar\, 2 15th St\, Ocean City\, MD\, 21842\, United States
ATTACH;FMTTYPE=:
END:VEVENT
BEGIN:VEVENT
DTSTART;TZID=America/New_York:20260501T170000
DTEND;TZID=America/New_York:20260501T210000
DTSTAMP:20260423T120928
CREATED:20260409T065101Z
LAST-MODIFIED:20260423T065033Z
UID:320533-1777654800-1777669200@tidesinnoc.com
SUMMARY:Faith Noel
DESCRIPTION:Faith Noel will be performing multiple genres and your favorite cover tunes\, as well as her own originals at Seacrerts in Ocean City\, MD tonight. Faith’s mix of current and classic covers is sure to please you and your friends. 
URL:https://tidesinnoc.com/event/faith-noel-4/
LOCATION:Seacrets\, 49th Street On The Bay\, Ocean City\, MD\, 21842\, United States
ATTACH;FMTTYPE=:
END:VEVENT
BEGIN:VEVENT
DTSTART;TZID=America/New_York:20260502T170000
DTEND;TZID=America/New_York:20260502T210000
DTSTAMP:20260423T120928
CREATED:20260126T185053Z
LAST-MODIFIED:20260423T065032Z
UID:315969-1777741200-1777755600@tidesinnoc.com
SUMMARY:Phil Perdue - "The Piano Man"
DESCRIPTION:Enjoy Phil Perdue “The Piano Man” on the grand piano at the Captain’s Table in Ocean City\, Maryland.  Enjoy fine dining at its best with South African lobster tails\, delicious crab cakes\, certified angus beef steaks and great selection from the bar. Phil’s smooth sounds on the grand piano are a local’s favorite on Friday and Saturday nights.  
URL:https://tidesinnoc.com/event/phil-perdue-the-piano-man-29/
LOCATION:Captain’s Table Restaurant and Bar\, 2 15th St\, Ocean City\, MD\, 21842\, United States
ATTACH;FMTTYPE=:
END:VEVENT
BEGIN:VEVENT
DTSTART;TZID=America/New_York:20260502T170000
DTEND;TZID=America/New_York:20260502T220000
DTSTAMP:20260423T120928
CREATED:20260310T185004Z
LAST-MODIFIED:20260423T065034Z
UID:318201-1777741200-1777759200@tidesinnoc.com
SUMMARY:Live Music at Buxy's Salty Dog Saloon
DESCRIPTION:Buxy’s Salty Dog\, your home away from Pittsburgh presents live music all year long ! Enjoy your summer nights with our crew and be sure to check out our awesome food and drink specials. We are open every day at 11am and look forward to seeing you soon! 
URL:https://tidesinnoc.com/event/live-music-at-buxys-salty-dog-saloon-7/
LOCATION:Buxy’s Salty Dog Saloon\, 2707 Philadelphia Ave\, Ocean City\, MD\, 21842\, United States
ATTACH;FMTTYPE=:
END:VEVENT
BEGIN:VEVENT
DTSTART;TZID=America/New_York:20260508T170000
DTEND;TZID=America/New_York:20260508T210000
DTSTAMP:20260423T120928
CREATED:20260126T185053Z
LAST-MODIFIED:20260423T065035Z
UID:315970-1778259600-1778274000@tidesinnoc.com
SUMMARY:Phil Perdue - "The Piano Man"
DESCRIPTION:Enjoy Phil Perdue “The Piano Man” on the grand piano at the Captain’s Table in Ocean City\, Maryland.  Enjoy fine dining at its best with South African lobster tails\, delicious crab cakes\, certified angus beef steaks and great selection from the bar. Phil’s smooth sounds on the grand piano are a local’s favorite on Friday and Saturday nights.  
URL:https://tidesinnoc.com/event/phil-perdue-the-piano-man-30/
LOCATION:Captain’s Table Restaurant and Bar\, 2 15th St\, Ocean City\, MD\, 21842\, United States
ATTACH;FMTTYPE=:
END:VEVENT
BEGIN:VEVENT
DTSTART;TZID=America/New_York:20260509T170000
DTEND;TZID=America/New_York:20260509T210000
DTSTAMP:20260423T120928
CREATED:20260126T185053Z
LAST-MODIFIED:20260423T065035Z
UID:315971-1778346000-1778360400@tidesinnoc.com
SUMMARY:Phil Perdue - "The Piano Man"
DESCRIPTION:Enjoy Phil Perdue “The Piano Man” on the grand piano at the Captain’s Table in Ocean City\, Maryland.  Enjoy fine dining at its best with South African lobster tails\, delicious crab cakes\, certified angus beef steaks and great selection from the bar. Phil’s smooth sounds on the grand piano are a local’s favorite on Friday and Saturday nights.  
URL:https://tidesinnoc.com/event/phil-perdue-the-piano-man-31/
LOCATION:Captain’s Table Restaurant and Bar\, 2 15th St\, Ocean City\, MD\, 21842\, United States
ATTACH;FMTTYPE=:
END:VEVENT
BEGIN:VEVENT
DTSTART;TZID=America/New_York:20260515T000000
DTEND;TZID=America/New_York:20260515T000000
DTSTAMP:20260423T120928
CREATED:20260310T185005Z
LAST-MODIFIED:20260423T065035Z
UID:318202-1778803200-1778803200@tidesinnoc.com
SUMMARY:Live Music at Buxy's Salty Dog Saloon
DESCRIPTION:Buxy’s Salty Dog\, your home away from Pittsburgh presents live music all year long ! Enjoy your summer nights with our crew and be sure to check out our awesome food and drink specials. We are open every day at 11am and look forward to seeing you soon! 
URL:https://tidesinnoc.com/event/live-music-at-buxys-salty-dog-saloon-8/
LOCATION:Buxy’s Salty Dog Saloon\, 2707 Philadelphia Ave\, Ocean City\, MD\, 21842\, United States
ATTACH;FMTTYPE=:
END:VEVENT
BEGIN:VEVENT
DTSTART;TZID=America/New_York:20260515T170000
DTEND;TZID=America/New_York:20260515T210000
DTSTAMP:20260423T120928
CREATED:20260126T185054Z
LAST-MODIFIED:20260423T065036Z
UID:315972-1778864400-1778878800@tidesinnoc.com
SUMMARY:Phil Perdue - "The Piano Man"
DESCRIPTION:Enjoy Phil Perdue “The Piano Man” on the grand piano at the Captain’s Table in Ocean City\, Maryland.  Enjoy fine dining at its best with South African lobster tails\, delicious crab cakes\, certified angus beef steaks and great selection from the bar. Phil’s smooth sounds on the grand piano are a local’s favorite on Friday and Saturday nights.  
URL:https://tidesinnoc.com/event/phil-perdue-the-piano-man-32/
LOCATION:Captain’s Table Restaurant and Bar\, 2 15th St\, Ocean City\, MD\, 21842\, United States
ATTACH;FMTTYPE=:
END:VEVENT
BEGIN:VEVENT
DTSTART;TZID=America/New_York:20260516T000000
DTEND;TZID=America/New_York:20260516T000000
DTSTAMP:20260423T120928
CREATED:20260310T185005Z
LAST-MODIFIED:20260423T065036Z
UID:318203-1778889600-1778889600@tidesinnoc.com
SUMMARY:Live Music at Buxy's Salty Dog Saloon
DESCRIPTION:Buxy’s Salty Dog\, your home away from Pittsburgh presents live music all year long ! Enjoy your summer nights with our crew and be sure to check out our awesome food and drink specials. We are open every day at 11am and look forward to seeing you soon! 
URL:https://tidesinnoc.com/event/live-music-at-buxys-salty-dog-saloon-9/
LOCATION:Buxy’s Salty Dog Saloon\, 2707 Philadelphia Ave\, Ocean City\, MD\, 21842\, United States
ATTACH;FMTTYPE=:
END:VEVENT
BEGIN:VEVENT
DTSTART;TZID=America/New_York:20260516T170000
DTEND;TZID=America/New_York:20260516T210000
DTSTAMP:20260423T120928
CREATED:20260126T185054Z
LAST-MODIFIED:20260423T065036Z
UID:315973-1778950800-1778965200@tidesinnoc.com
SUMMARY:Phil Perdue - "The Piano Man"
DESCRIPTION:Enjoy Phil Perdue “The Piano Man” on the grand piano at the Captain’s Table in Ocean City\, Maryland.  Enjoy fine dining at its best with South African lobster tails\, delicious crab cakes\, certified angus beef steaks and great selection from the bar. Phil’s smooth sounds on the grand piano are a local’s favorite on Friday and Saturday nights.  
URL:https://tidesinnoc.com/event/phil-perdue-the-piano-man-33/
LOCATION:Captain’s Table Restaurant and Bar\, 2 15th St\, Ocean City\, MD\, 21842\, United States
ATTACH;FMTTYPE=:
END:VEVENT
BEGIN:VEVENT
DTSTART;TZID=America/New_York:20260517T160000
DTEND;TZID=America/New_York:20260517T190000
DTSTAMP:20260423T120928
CREATED:20260317T185005Z
LAST-MODIFIED:20260423T065040Z
UID:318617-1779033600-1779044400@tidesinnoc.com
SUMMARY:Party Under The Palms | Live Music and DJ's at Macky's
DESCRIPTION:Join us tonight at Macky’s Bayside Bar & Grill to Party Under The Palms!  Get ready to dance and have fun with friends and family under the stars while enjoying cocktails\, a late dinner with live bands and DJs on stage.
URL:https://tidesinnoc.com/event/party-under-the-palms-live-music-and-djs-at-mackys/
LOCATION:Macky’s Bayside Bar & Grill\, 5311 Coastal Hwy\, Ocean City\, MD\, 21842\, United States
END:VEVENT
BEGIN:VEVENT
DTSTART;TZID=America/New_York:20260522T170000
DTEND;TZID=America/New_York:20260522T210000
DTSTAMP:20260423T120928
CREATED:20260126T185054Z
LAST-MODIFIED:20260423T065043Z
UID:315974-1779469200-1779483600@tidesinnoc.com
SUMMARY:Phil Perdue - "The Piano Man"
DESCRIPTION:Enjoy Phil Perdue “The Piano Man” on the grand piano at the Captain’s Table in Ocean City\, Maryland.  Enjoy fine dining at its best with South African lobster tails\, delicious crab cakes\, certified angus beef steaks and great selection from the bar. Phil’s smooth sounds on the grand piano are a local’s favorite on Friday and Saturday nights.  
URL:https://tidesinnoc.com/event/phil-perdue-the-piano-man-34/
LOCATION:Captain’s Table Restaurant and Bar\, 2 15th St\, Ocean City\, MD\, 21842\, United States
ATTACH;FMTTYPE=:
END:VEVENT
BEGIN:VEVENT
DTSTART;TZID=America/New_York:20260522T190000
DTEND;TZID=America/New_York:20260522T220000
DTSTAMP:20260423T120928
CREATED:20260323T185021Z
LAST-MODIFIED:20260423T065043Z
UID:319171-1779476400-1779487200@tidesinnoc.com
SUMMARY:Jexxa Band at Sunset Grille and Teasers Bar
DESCRIPTION:Come enjoy live entertainment this week at Sunset Grille in West Ocean City! Dance the night away with your friends and family and make long lasting memories. Take advantage of the dining deals and drink specials while admiring the beautiful boats in the Sunset Marina. This will be a good time guarantee so don’t miss a beat! 
URL:https://tidesinnoc.com/event/jexxa-band-at-sunset-grille-and-teasers-bar/
LOCATION:Sunset Grille\, 12933 Sunset Ave\, Ocean City\, MD\, 21842\, United States
ATTACH;FMTTYPE=:
END:VEVENT
BEGIN:VEVENT
DTSTART;TZID=America/New_York:20260523T000000
DTEND;TZID=America/New_York:20260523T000000
DTSTAMP:20260423T120928
CREATED:20260310T185006Z
LAST-MODIFIED:20260423T065044Z
UID:318204-1779494400-1779494400@tidesinnoc.com
SUMMARY:Live Music at Buxy's Salty Dog Saloon
DESCRIPTION:Buxy’s Salty Dog\, your home away from Pittsburgh presents live music all year long ! Enjoy your summer nights with our crew and be sure to check out our awesome food and drink specials. We are open every day at 11am and look forward to seeing you soon! 
URL:https://tidesinnoc.com/event/live-music-at-buxys-salty-dog-saloon-10/
LOCATION:Buxy’s Salty Dog Saloon\, 2707 Philadelphia Ave\, Ocean City\, MD\, 21842\, United States
ATTACH;FMTTYPE=:
END:VEVENT
BEGIN:VEVENT
DTSTART;TZID=America/New_York:20260523T170000
DTEND;TZID=America/New_York:20260523T210000
DTSTAMP:20260423T120928
CREATED:20260126T185054Z
LAST-MODIFIED:20260423T065043Z
UID:315975-1779555600-1779570000@tidesinnoc.com
SUMMARY:Phil Perdue - "The Piano Man"
DESCRIPTION:Enjoy Phil Perdue “The Piano Man” on the grand piano at the Captain’s Table in Ocean City\, Maryland.  Enjoy fine dining at its best with South African lobster tails\, delicious crab cakes\, certified angus beef steaks and great selection from the bar. Phil’s smooth sounds on the grand piano are a local’s favorite on Friday and Saturday nights.  
URL:https://tidesinnoc.com/event/phil-perdue-the-piano-man-35/
LOCATION:Captain’s Table Restaurant and Bar\, 2 15th St\, Ocean City\, MD\, 21842\, United States
ATTACH;FMTTYPE=:
END:VEVENT
BEGIN:VEVENT
DTSTART;TZID=America/New_York:20260523T180000
DTEND;TZID=America/New_York:20260523T210000
DTSTAMP:20260423T120928
CREATED:20260317T185007Z
LAST-MODIFIED:20260423T065047Z
UID:318621-1779559200-1779570000@tidesinnoc.com
SUMMARY:Party Under The Palms | Live Music and DJ's at Macky's
DESCRIPTION:Join us tonight at Macky’s Bayside Bar & Grill to Party Under The Palms!  Get ready to dance and have fun with friends and family under the stars while enjoying cocktails\, a late dinner with live bands and DJs on stage.
URL:https://tidesinnoc.com/event/party-under-the-palms-live-music-and-djs-at-mackys-3/
LOCATION:Macky’s Bayside Bar & Grill\, 5311 Coastal Hwy\, Ocean City\, MD\, 21842\, United States
END:VEVENT
BEGIN:VEVENT
DTSTART;TZID=America/New_York:20260523T190000
DTEND;TZID=America/New_York:20260523T220000
DTSTAMP:20260423T120928
CREATED:20260323T185024Z
LAST-MODIFIED:20260423T065048Z
UID:319173-1779562800-1779573600@tidesinnoc.com
SUMMARY:The Zone at Sunset Grille and Teasers Bar
DESCRIPTION:Come enjoy live entertainment this week at Sunset Grille in West Ocean City! Dance the night away with your friends and family and make long lasting memories. Take advantage of the dining deals and drink specials while admiring the beautiful boats in the Sunset Marina. This will be a good time guarantee so don’t miss a beat! 
URL:https://tidesinnoc.com/event/the-zone-at-sunset-grille-and-teasers-bar/
LOCATION:Sunset Grille\, 12933 Sunset Ave\, Ocean City\, MD\, 21842\, United States
ATTACH;FMTTYPE=:
END:VEVENT
BEGIN:VEVENT
DTSTART;TZID=America/New_York:20260524T000000
DTEND;TZID=America/New_York:20260524T000000
DTSTAMP:20260423T120928
CREATED:20260310T185006Z
LAST-MODIFIED:20260423T065044Z
UID:318205-1779580800-1779580800@tidesinnoc.com
SUMMARY:Live Music at Buxy's Salty Dog Saloon
DESCRIPTION:Buxy’s Salty Dog\, your home away from Pittsburgh presents live music all year long ! Enjoy your summer nights with our crew and be sure to check out our awesome food and drink specials. We are open every day at 11am and look forward to seeing you soon! 
URL:https://tidesinnoc.com/event/live-music-at-buxys-salty-dog-saloon-11/
LOCATION:Buxy’s Salty Dog Saloon\, 2707 Philadelphia Ave\, Ocean City\, MD\, 21842\, United States
ATTACH;FMTTYPE=:
END:VEVENT
BEGIN:VEVENT
DTSTART;TZID=America/New_York:20260524T190000
DTEND;TZID=America/New_York:20260524T220000
DTSTAMP:20260423T120928
CREATED:20260323T185024Z
LAST-MODIFIED:20260423T065048Z
UID:319174-1779649200-1779660000@tidesinnoc.com
SUMMARY:Out Of Spite at Sunset Grille and Teasers Bar
DESCRIPTION:Come enjoy live entertainment this week at Sunset Grille in West Ocean City! Dance the night away with your friends and family and make long lasting memories. Take advantage of the dining deals and drink specials while admiring the beautiful boats in the Sunset Marina. This will be a good time guarantee so don’t miss a beat! 
URL:https://tidesinnoc.com/event/out-of-spite-at-sunset-grille-and-teasers-bar/
LOCATION:Sunset Grille\, 12933 Sunset Ave\, Ocean City\, MD\, 21842\, United States
ATTACH;FMTTYPE=:
END:VEVENT
BEGIN:VEVENT
DTSTART;TZID=America/New_York:20260524T210000
DTEND;TZID=America/New_York:20260524T235900
DTSTAMP:20260423T120928
CREATED:20260317T185008Z
LAST-MODIFIED:20260423T065053Z
UID:318623-1779656400-1779667140@tidesinnoc.com
SUMMARY:Party Under The Palms | Live Music and DJ's at Macky's
DESCRIPTION:Join us tonight at Macky’s Bayside Bar & Grill to Party Under The Palms!  Get ready to dance and have fun with friends and family under the stars while enjoying cocktails\, a late dinner with live bands and DJs on stage.
URL:https://tidesinnoc.com/event/party-under-the-palms-live-music-and-djs-at-mackys-4/
LOCATION:Macky’s Bayside Bar & Grill\, 5311 Coastal Hwy\, Ocean City\, MD\, 21842\, United States
END:VEVENT
BEGIN:VEVENT
DTSTART;TZID=America/New_York:20260525T160000
DTEND;TZID=America/New_York:20260525T190000
DTSTAMP:20260423T120928
CREATED:20260317T185009Z
LAST-MODIFIED:20260423T065058Z
UID:318625-1779724800-1779735600@tidesinnoc.com
SUMMARY:Party Under The Palms | Live Music and DJ's at Macky's
DESCRIPTION:Join us tonight at Macky’s Bayside Bar & Grill to Party Under The Palms!  Get ready to dance and have fun with friends and family under the stars while enjoying cocktails\, a late dinner with live bands and DJs on stage.
URL:https://tidesinnoc.com/event/party-under-the-palms-live-music-and-djs-at-mackys-5/
LOCATION:Macky’s Bayside Bar & Grill\, 5311 Coastal Hwy\, Ocean City\, MD\, 21842\, United States
END:VEVENT
BEGIN:VEVENT
DTSTART;TZID=America/New_York:20260529T000000
DTEND;TZID=America/New_York:20260529T000000
DTSTAMP:20260423T120928
CREATED:20260323T185030Z
LAST-MODIFIED:20260423T065112Z
UID:319179-1780012800-1780012800@tidesinnoc.com
SUMMARY:Justin Taylor at Sunset Grille and Teasers Bar
DESCRIPTION:Come enjoy live entertainment this week at Sunset Grille in West Ocean City! Dance the night away with your friends and family and make long lasting memories. Take advantage of the dining deals and drink specials while admiring the beautiful boats in the Sunset Marina. This will be a good time guarantee so don’t miss a beat! 
URL:https://tidesinnoc.com/event/justin-taylor-at-sunset-grille-and-teasers-bar/
LOCATION:Sunset Grille\, 12933 Sunset Ave\, Ocean City\, MD\, 21842\, United States
ATTACH;FMTTYPE=:
END:VEVENT
BEGIN:VEVENT
DTSTART;TZID=America/New_York:20260529T170000
DTEND;TZID=America/New_York:20260529T210000
DTSTAMP:20260423T120928
CREATED:20260126T185055Z
LAST-MODIFIED:20260423T065112Z
UID:315976-1780074000-1780088400@tidesinnoc.com
SUMMARY:Phil Perdue - "The Piano Man"
DESCRIPTION:Enjoy Phil Perdue “The Piano Man” on the grand piano at the Captain’s Table in Ocean City\, Maryland.  Enjoy fine dining at its best with South African lobster tails\, delicious crab cakes\, certified angus beef steaks and great selection from the bar. Phil’s smooth sounds on the grand piano are a local’s favorite on Friday and Saturday nights.  
URL:https://tidesinnoc.com/event/phil-perdue-the-piano-man-36/
LOCATION:Captain’s Table Restaurant and Bar\, 2 15th St\, Ocean City\, MD\, 21842\, United States
ATTACH;FMTTYPE=:
END:VEVENT
BEGIN:VEVENT
DTSTART;TZID=America/New_York:20260530T000000
DTEND;TZID=America/New_York:20260530T000000
DTSTAMP:20260423T120928
CREATED:20260310T185006Z
LAST-MODIFIED:20260423T065113Z
UID:318206-1780099200-1780099200@tidesinnoc.com
SUMMARY:Live Music at Buxy's Salty Dog Saloon
DESCRIPTION:Buxy’s Salty Dog\, your home away from Pittsburgh presents live music all year long ! Enjoy your summer nights with our crew and be sure to check out our awesome food and drink specials. We are open every day at 11am and look forward to seeing you soon! 
URL:https://tidesinnoc.com/event/live-music-at-buxys-salty-dog-saloon-12/
LOCATION:Buxy’s Salty Dog Saloon\, 2707 Philadelphia Ave\, Ocean City\, MD\, 21842\, United States
ATTACH;FMTTYPE=:
END:VEVENT
BEGIN:VEVENT
DTSTART;TZID=America/New_York:20260530T170000
DTEND;TZID=America/New_York:20260530T200000
DTSTAMP:20260423T120928
CREATED:20260317T185012Z
LAST-MODIFIED:20260423T065120Z
UID:318631-1780160400-1780171200@tidesinnoc.com
SUMMARY:Party Under The Palms | Live Music and DJ's at Macky's
DESCRIPTION:Join us tonight at Macky’s Bayside Bar & Grill to Party Under The Palms!  Get ready to dance and have fun with friends and family under the stars while enjoying cocktails\, a late dinner with live bands and DJs on stage.
URL:https://tidesinnoc.com/event/party-under-the-palms-live-music-and-djs-at-mackys-7/
LOCATION:Macky’s Bayside Bar & Grill\, 5311 Coastal Hwy\, Ocean City\, MD\, 21842\, United States
END:VEVENT
BEGIN:VEVENT
DTSTART;TZID=America/New_York:20260530T170000
DTEND;TZID=America/New_York:20260530T210000
DTSTAMP:20260423T120928
CREATED:20260126T185055Z
LAST-MODIFIED:20260423T065113Z
UID:315977-1780160400-1780174800@tidesinnoc.com
SUMMARY:Phil Perdue - "The Piano Man"
DESCRIPTION:Enjoy Phil Perdue “The Piano Man” on the grand piano at the Captain’s Table in Ocean City\, Maryland.  Enjoy fine dining at its best with South African lobster tails\, delicious crab cakes\, certified angus beef steaks and great selection from the bar. Phil’s smooth sounds on the grand piano are a local’s favorite on Friday and Saturday nights.  
URL:https://tidesinnoc.com/event/phil-perdue-the-piano-man-37/
LOCATION:Captain’s Table Restaurant and Bar\, 2 15th St\, Ocean City\, MD\, 21842\, United States
ATTACH;FMTTYPE=:
END:VEVENT
BEGIN:VEVENT
DTSTART;TZID=America/New_York:20260530T190000
DTEND;TZID=America/New_York:20260530T220000
DTSTAMP:20260423T120928
CREATED:20260323T185032Z
LAST-MODIFIED:20260423T065121Z
UID:319181-1780167600-1780178400@tidesinnoc.com
SUMMARY:Candiflyp at Sunset Grille
DESCRIPTION:Come enjoy live entertainment this week at Sunset Grille in West Ocean City! Dance the night away with your friends and family and make long lasting memories. Take advantage of the dining deals and drink specials while admiring the beautiful boats in the Sunset Marina. This will be a good time guarantee so don’t miss a beat! 
URL:https://tidesinnoc.com/event/candiflyp-at-sunset-grille/
LOCATION:Sunset Grille\, 12933 Sunset Ave\, Ocean City\, MD\, 21842\, United States
ATTACH;FMTTYPE=:
END:VEVENT
BEGIN:VEVENT
DTSTART;TZID=America/New_York:20260530T193000
DTEND;TZID=America/New_York:20260530T230000
DTSTAMP:20260423T120928
CREATED:20260218T185007Z
LAST-MODIFIED:20260423T065137Z
UID:316903-1780169400-1780182000@tidesinnoc.com
SUMMARY:Ragged Mile
DESCRIPTION:Ragged Mile will rock the stage at High Stakes Bar and Grill in Fenwick Island which always features some of the best local talent! Enjoy a great dinner\, classic cocktails and rock out with Ragged Mile tonight. 
URL:https://tidesinnoc.com/event/ragged-mile/
LOCATION:High Stakes Bar & Grill\, 5799 Lighthouse Cove Ln\, Fenwick Island\, DE\, 19944\, United States
ATTACH;FMTTYPE=:
END:VEVENT
BEGIN:VEVENT
DTSTART;TZID=America/New_York:20260531T000000
DTEND;TZID=America/New_York:20260531T000000
DTSTAMP:20260423T120928
CREATED:20260310T185009Z
LAST-MODIFIED:20260423T065138Z
UID:318208-1780185600-1780185600@tidesinnoc.com
SUMMARY:Live Music at Buxy's Salty Dog Saloon
DESCRIPTION:Buxy’s Salty Dog\, your home away from Pittsburgh presents live music all year long ! Enjoy your summer nights with our crew and be sure to check out our awesome food and drink specials. We are open every day at 11am and look forward to seeing you soon! 
URL:https://tidesinnoc.com/event/live-music-at-buxys-salty-dog-saloon-13/
LOCATION:Buxy’s Salty Dog Saloon\, 2707 Philadelphia Ave\, Ocean City\, MD\, 21842\, United States
ATTACH;FMTTYPE=:
END:VEVENT
END:VCALENDAR