BEGIN:VCALENDAR
VERSION:2.0
PRODID:-//Ocean City MD Rooms | The Tides Inn OC Vacations - ECPv6.15.13//NONSGML v1.0//EN
CALSCALE:GREGORIAN
METHOD:PUBLISH
X-WR-CALNAME:Ocean City MD Rooms | The Tides Inn OC Vacations
X-ORIGINAL-URL:https://tidesinnoc.com
X-WR-CALDESC:Events for Ocean City MD Rooms | The Tides Inn OC Vacations
REFRESH-INTERVAL;VALUE=DURATION:PT1H
X-Robots-Tag:noindex
X-PUBLISHED-TTL:PT1H
BEGIN:VTIMEZONE
TZID:America/New_York
BEGIN:DAYLIGHT
TZOFFSETFROM:-0500
TZOFFSETTO:-0400
TZNAME:EDT
DTSTART:20190310T070000
END:DAYLIGHT
BEGIN:STANDARD
TZOFFSETFROM:-0400
TZOFFSETTO:-0500
TZNAME:EST
DTSTART:20191103T060000
END:STANDARD
BEGIN:DAYLIGHT
TZOFFSETFROM:-0500
TZOFFSETTO:-0400
TZNAME:EDT
DTSTART:20200308T070000
END:DAYLIGHT
BEGIN:STANDARD
TZOFFSETFROM:-0400
TZOFFSETTO:-0500
TZNAME:EST
DTSTART:20201101T060000
END:STANDARD
BEGIN:DAYLIGHT
TZOFFSETFROM:-0500
TZOFFSETTO:-0400
TZNAME:EDT
DTSTART:20210314T070000
END:DAYLIGHT
BEGIN:STANDARD
TZOFFSETFROM:-0400
TZOFFSETTO:-0500
TZNAME:EST
DTSTART:20211107T060000
END:STANDARD
END:VTIMEZONE
BEGIN:VEVENT
DTSTART;TZID=America/New_York:20200514T133000
DTEND;TZID=America/New_York:20200514T163000
DTSTAMP:20260425T081700
CREATED:20200304T065245Z
LAST-MODIFIED:20200304T065245Z
UID:64744-1589463000-1589473800@tidesinnoc.com
SUMMARY:Indoor Drop-In Pickleball
DESCRIPTION:Join in and play the fastest growing sport in America! Bring your friends to the Ocean Pines Community Center for Indoor Drop-In Pickleball and enjoy some good-natured competition. Equipment is available for use. \n \nCost: \nFree for OP Pickleball Members\n$5.00 for Ocean Pines Residents\n$7.00 for Non-Residents
URL:https://tidesinnoc.com/event/indoor-drop-in-pickleball-67/
LOCATION:Ocean Pines Community Center\, 235 Ocean Pkwy\, Ocean Pines\, MD\, 21811\, United States
END:VEVENT
BEGIN:VEVENT
DTSTART;TZID=America/New_York:20200514T090000
DTEND;TZID=America/New_York:20200514T170000
DTSTAMP:20260425T081700
CREATED:20200303T065632Z
LAST-MODIFIED:20200303T065632Z
UID:64684-1589446800-1589475600@tidesinnoc.com
SUMMARY:Cruisin' Ocean City
DESCRIPTION:This popular car show features over 3\,400 hot rods\, customs\, classics\, street machines\, muscle cars and more. Live entertainment\, celebrity guests\, special attractions\, boardwalk parades\, manufacturers vendor midway and more.  Boardwalk Parades.  So many things to see and do\, so make sure you cruise on down to Ocean City\, MD! \n \nAdmission $10/day Thursday and Sunday\, $15/day Friday and Saturday.  Children under 14 are free with an adult. \n \nFor additional information\, visit www.cruisinoceancity.com.
URL:https://tidesinnoc.com/event/cruisin-ocean-city/
LOCATION:Convention Center and Inlet Lot\, 4001 Coastal Highway\, Ocean City\, MD\, 21842\, United States
END:VEVENT
BEGIN:VEVENT
DTSTART;TZID=America/New_York:20200505T193000
DTEND;TZID=America/New_York:20200505T213000
DTSTAMP:20260425T081700
CREATED:20200302T185409Z
LAST-MODIFIED:20200302T185409Z
UID:64622-1588707000-1588714200@tidesinnoc.com
SUMMARY:Indoor Drop-In Pickleball
DESCRIPTION:Join in and play the fastest growing sport in America! Bring your friends to the Ocean Pines Community Center for Indoor Drop-In Pickleball and enjoy some good-natured competition. Equipment is available for use. \n \nCost: \nFree for OP Pickleball Members\n$5.00 for Ocean Pines Residents\n$7.00 for Non-Residents
URL:https://tidesinnoc.com/event/indoor-drop-in-pickleball-62/
LOCATION:Ocean Pines Community Center\, 235 Ocean Pkwy\, Ocean Pines\, MD\, 21811\, United States
END:VEVENT
BEGIN:VEVENT
DTSTART;TZID=America/New_York:20200505T180000
DTEND;TZID=America/New_York:20200505T200000
DTSTAMP:20260425T081700
CREATED:20200302T065718Z
LAST-MODIFIED:20200302T065718Z
UID:64588-1588701600-1588708800@tidesinnoc.com
SUMMARY:Bar Bingo with DJ Rupe at Harpoon Hanna's
DESCRIPTION:Join us every Tuesday night for Bar Bingo with DJ Rupe. Games from 6:00 pm – 8:00 pm with a winner every game.   A great time where you can get food and drink specials just for players\, with Mystery Balls for even deeper discounted drink prices. \n \nFree to play! 
URL:https://tidesinnoc.com/event/bar-bingo-with-dj-rupe-at-harpoon-hannas-28/
LOCATION:Harpoon Hanna’s\, 39064 Harpoon Road\, Fenwick Island\, DE\, 19944\, United States
END:VEVENT
BEGIN:VEVENT
DTSTART;TZID=America/New_York:20200428T160000
DTEND;TZID=America/New_York:20200428T173000
DTSTAMP:20260425T081700
CREATED:20200301T185456Z
LAST-MODIFIED:20200301T185456Z
UID:64535-1588089600-1588095000@tidesinnoc.com
SUMMARY:Kids Tuesday Afternoon Pottery Class
DESCRIPTION:Let your little ones play with clay. Students will express themselves with a variety of projects as they build hand-eye coordination at this Art League of Ocean City class. Cost includes all materials\, clay\, glazing\, and firing. \n \nGreat for kids ages 7 and older. Children 6 and under need to be accompanied by an adult! \n \nCost: \n$25 for members\, $30 for non members\nSign-up for 6 sessions for $120 for members\, $150 for non members \n \nAdvanced registration is required to guarantee your spot. \n \n  
URL:https://tidesinnoc.com/event/kids-tuesday-afternoon-pottery-class-31/
LOCATION:Art League of Ocean City\, 502 94th St\, Ocean City\, MD\, 21842\, United States
END:VEVENT
BEGIN:VEVENT
DTSTART;TZID=America/New_York:20200428T130000
DTEND;TZID=America/New_York:20200428T150000
DTSTAMP:20260425T081700
CREATED:20200301T065244Z
LAST-MODIFIED:20200301T065244Z
UID:64492-1588078800-1588086000@tidesinnoc.com
SUMMARY:Tuesday Afternoon Adult Pottery Class
DESCRIPTION:Students will explore hand building techniques to make fun and functional art.  Perfect for all levels of students from beginner to more advanced. Adults and teens welcome.\n \nRegistration:\n$35 for members and $45 for non-members\nSign up for six sessions $180 (members) – $230 (non-members)\n \nAdvanced reservation is required to guarantee your spot. \n \n \n \n 
URL:https://tidesinnoc.com/event/tuesday-afternoon-adult-pottery-class-29/
LOCATION:Art League of Ocean City\, 502 94th St\, Ocean City\, MD\, 21842\, United States
END:VEVENT
BEGIN:VEVENT
DTSTART;TZID=America/New_York:20200421T100000
DTEND;TZID=America/New_York:20200421T120000
DTSTAMP:20260425T081700
CREATED:20200229T185203Z
LAST-MODIFIED:20200229T185203Z
UID:64416-1587463200-1587470400@tidesinnoc.com
SUMMARY:Tuesday Morning Adult Pottery Class For Advanced Ceramic Artists
DESCRIPTION:This is a class for advanced Ceramic Artists only\, there will be minimal instructions\, and you need to be cleared by pottery studio manager to attend this class. Please call the Art League if you have any questions at 410-524-9433. \n \nCost per session: $35 for Art League members\, $45 non members\nCost for 6 sessions: $180 for Art League members\, $230 for non members (not available online)\n \nAdvanced reservation is required to guarantee your spot. \n 
URL:https://tidesinnoc.com/event/tuesday-morning-adult-pottery-class-for-advanced-ceramic-artists-33/
LOCATION:Art League of Ocean City\, 502 94th St\, Ocean City\, MD\, 21842\, United States
END:VEVENT
BEGIN:VEVENT
DTSTART;TZID=America/New_York:20200418T190000
DTEND;TZID=America/New_York:20200418T204500
DTSTAMP:20260425T081700
CREATED:20200229T065808Z
LAST-MODIFIED:20200229T065808Z
UID:64378-1587236400-1587242700@tidesinnoc.com
SUMMARY:Ocean City Ghost Walk - Inlet Start
DESCRIPTION:Walk the old historic district of Ocean City and hear your storyteller recount over a dozen ghost stories featuring spirits that still linger in the old buildings and hotels.  Ocean City also features a property that hit the “Haunted Trifecta” – a murder\, suicide and accidental death occurring at the same location. \n \nThis tour runs between the Inlet and 4th street and is approximately an hour and a half of scary stories and Ocean City’s mysterious history.
URL:https://tidesinnoc.com/event/ocean-city-ghost-walk-inlet-start-3/
LOCATION:Ocean City Life-Saving Museum\, 813 S Atlantic Ave\, Ocean City\, MD\, 21842\, United States
END:VEVENT
BEGIN:VEVENT
DTSTART;TZID=America/New_York:20200410T150000
DTEND;TZID=America/New_York:20200410T180000
DTSTAMP:20260425T081700
CREATED:20200226T065306Z
LAST-MODIFIED:20200226T065306Z
UID:64208-1586530800-1586541600@tidesinnoc.com
SUMMARY:Rita Pearl Live at the Original Greene Turtle
DESCRIPTION:Rita Pearl will be performing live at the Original Greene Turtle in North Ocean City. You won’t want to miss this high energy show! While you’re jamming to the music\, kick back with a brew from the Greene Turtle bar’s massive selection. Make sure you arrive during the Original Greene Turtle’s Happy Hour that runs from 3-6pm Monday through Friday. Domestic drafts will be $2.50 and domestic bottles $2.75!
URL:https://tidesinnoc.com/event/rita-pearl-live-at-the-original-greene-turtle-3/
LOCATION:The Original Greene Turtle\, 11601 Coastal Hwy\, Ocean City\, MD\, 21842\, United States
END:VEVENT
BEGIN:VEVENT
DTSTART;TZID=America/New_York:20200328T220000
DTEND;TZID=America/New_York:20200328T220000
DTSTAMP:20260425T081700
CREATED:20200221T065413Z
LAST-MODIFIED:20200221T065413Z
UID:63890-1585432800-1585432800@tidesinnoc.com
SUMMARY:La Ricci Music Live at the Original Greene Turtle
DESCRIPTION: La Ricci Music will be performing live at the Original Greene Turtle in North Ocean City! Come check out the amazing guitar and keyboard combo of musical talent. Make sure you arrive during the Original Greene Turtle’s Happy Hour that runs from 3-6 pm Monday through Friday. Domestic drafts will be $2.50 and domestic bottles $2.75!
URL:https://tidesinnoc.com/event/la-ricci-music-live-at-the-original-greene-turtle-2/
LOCATION:The Original Greene Turtle\, 11601 Coastal Hwy\, Ocean City\, MD\, 21842\, United States
END:VEVENT
BEGIN:VEVENT
DTSTART;TZID=America/New_York:20200328T120000
DTEND;TZID=America/New_York:20200328T180000
DTSTAMP:20260425T081700
CREATED:20200219T065518Z
LAST-MODIFIED:20200219T065518Z
UID:63785-1585396800-1585418400@tidesinnoc.com
SUMMARY:OC Quest for Heroes
DESCRIPTION:Shore Community Connections\, an OC Chamber member\, will hold an OC-wide scavenger hunt on March 28\, 2020 to benefit the OC Paramedics Foundation. Teams of 2-6 people will compete in Ocean City and try to collect hints and clues at area landmarks\, restaurants\, hotels and retail locations. The day will begin at 28th St Pit and Pub for team captain registration from 10a-12p and the Quest will run 12p-6p\, concluding at Dry Dock 28 for the after party where cash and prizes will be awarded to the Top 3 teams with the most points. Teams will be able to enjoy happy hour pricing throughout the day at the participating local venues as well as lite fare and happy hour prices at Dry Dock 28 during the after party. All proceeds will benefit the OC Paramedics Foundation. Register here\, pay your $75/team and be sure to follow our FB page for updates and info. You must be 21 years of age or older to participate. This event will be held rain or shine. No refunds. One team member must have the availibility to text or email during the event.\n\nSign up now to be a part of a great day benefitting a well-deserved cause!\n\n10a-12p – Mandatory Registration and Packet Pickup @ 28th St Pit and Pub\n\n12p- 6p – OC Quest For Heroes Throughout Ocean City\n\n6p-8p – Post-Party (Awards\, Raffles\, Drink/Food Specials) @ Dry Dock 28 on 28th St Bayside 
URL:https://tidesinnoc.com/event/oc-quest-for-heroes/
LOCATION:MD
END:VEVENT
BEGIN:VEVENT
DTSTART;TZID=America/New_York:20200325T190000
DTEND;TZID=America/New_York:20200325T210000
DTSTAMP:20260425T081700
CREATED:20200208T185342Z
LAST-MODIFIED:20200208T185342Z
UID:63082-1585162800-1585170000@tidesinnoc.com
SUMMARY:Beach Bingo with DJ Adam Dutch & DJ Kimberly
DESCRIPTION:Grab your dabbers; it’s time for Beach Bingo with DJ Adam Dutch and DJ Kimberly at the Taphouse Tavern! Order a drink and enjoy half off flatbreads all night long.  
URL:https://tidesinnoc.com/event/beach-bingo-with-dj-adam-dutch-dj-kimberly-27/
LOCATION:Taphouse Tavern\, 13729 Coastal Hwy\, Ocean City\, MD\, 21842\, United States
END:VEVENT
BEGIN:VEVENT
DTSTART;TZID=America/New_York:20200325T103000
DTEND;TZID=America/New_York:20200325T120000
DTSTAMP:20260425T081700
CREATED:20200207T065426Z
LAST-MODIFIED:20200207T065426Z
UID:63010-1585132200-1585137600@tidesinnoc.com
SUMMARY:Platform Tennis Drop-In
DESCRIPTION:Platform tennis is a doubles-oriented\, year-round racquet sport played on specially constructed platforms with paddles in place of racquets. Played outdoors at the Manklin Meadows Racquet Sports Complex\, platform tennis combines the fun and challenge of tennis\, squash and racquetball.\n\nThe Ocean Pines Platform Tennis Club also offers free clinics for new platform players every Saturday at noon. It covers the basics of the sport and allows prospective members to learn  and take lessons for a nominal fee. For ages 12 and older. The first session is free; drop-in is $5. Ask about the free 30-day trial! \n \nCost:\n$5.00 Daily Court Fee
URL:https://tidesinnoc.com/event/platform-tennis-drop-in-16/
LOCATION:Manklin Meadows Park\, 11443 Manklin Creek Road\, Ocean Pines\, MD\, 21811\, United States
END:VEVENT
BEGIN:VEVENT
DTSTART;TZID=America/New_York:20200324T160000
DTEND;TZID=America/New_York:20200324T173000
DTSTAMP:20260425T081700
CREATED:20200203T065304Z
LAST-MODIFIED:20200203T065304Z
UID:62805-1585065600-1585071000@tidesinnoc.com
SUMMARY:Kids Tuesday Afternoon Pottery Class
DESCRIPTION:Let your little ones play with clay. Students will express themselves with a variety of projects as they build hand-eye coordination at this Art League of Ocean City class. Cost includes all materials\, clay\, glazing\, and firing. \n \nGreat for kids ages 7 and older. Children 6 and under need to be accompanied by an adult! \n \nCost: \n$25 for members\, $30 for non members\nSign-up for 6 sessions for $120 for members\, $150 for non members \n \nAdvanced registration is required to guarantee your spot. \n \n  
URL:https://tidesinnoc.com/event/kids-tuesday-afternoon-pottery-class-25/
LOCATION:Art League of Ocean City\, 502 94th St\, Ocean City\, MD\, 21842\, United States
END:VEVENT
BEGIN:VEVENT
DTSTART;VALUE=DATE:20200319
DTEND;VALUE=DATE:20200320
DTSTAMP:20260425T081700
CREATED:20200131T065300Z
LAST-MODIFIED:20200131T065300Z
UID:62601-1584576000-1584662399@tidesinnoc.com
SUMMARY:Yoga at Northside Park
DESCRIPTION:Come and rejuvenate your body with Yoga. It’s an excellent way to keep both mind and body healthy & strong. This class will show you how to stretch your whole body while connecting breathing with movement to strengthen the body\, increase flexibility\, improve balance and release stress. Yoga poses and sequences in this class can be done sitting on or standing next to chairs and mats on the floor. (Mats and other equipment are provided). Wear comfortable clothes for freedom of movement. \n \nWinter Session A: January 16th – March 5th *253611A\nWinter Session B: March 12th – April 30th *253611B\n \nCertified Instructor: Tammy Johnson\n \nWho: Seniors & Adults\n \nDays: Thursday mornings from 10:00am – 11:00am\n \nLocation: Northside Park Recreation Complex\n \nPrice:\n$51.00 Rate Per Person\n$40.00 Rate Per Ocean City Resident\n$8.00 Drop In Rate\n \nRecreation Supervisor: Anna Paterson
URL:https://tidesinnoc.com/event/yoga-at-northside-park-10/
LOCATION:Northside Park\, 200 125th St\, Ocean City\, MD\, 21842\, United States
END:VEVENT
BEGIN:VEVENT
DTSTART;TZID=America/New_York:20200316T183000
DTEND;TZID=America/New_York:20200316T220000
DTSTAMP:20260425T081700
CREATED:20200130T065432Z
LAST-MODIFIED:20200130T065432Z
UID:62525-1584383400-1584396000@tidesinnoc.com
SUMMARY:Resort Texas Hold'em Poker League
DESCRIPTION:Join the Resort Poker League at Harpoon Hanna’s Restaurant and Bar for a Texas Holdem poker tournament.  Sign-ups begin at 6:30 pm and tournament games begin at 7:00 pm.  Come on out and try your hand! 
URL:https://tidesinnoc.com/event/resort-texas-holdem-poker-league-14/
LOCATION:Harpoon Hanna’s\, 39064 Harpoon Road\, Fenwick Island\, DE\, 19944\, United States
END:VEVENT
BEGIN:VEVENT
DTSTART;VALUE=DATE:20200311
DTEND;VALUE=DATE:20200312
DTSTAMP:20260425T081700
CREATED:20200126T185514Z
LAST-MODIFIED:20200126T185514Z
UID:62299-1583884800-1583971199@tidesinnoc.com
SUMMARY:Adult Dance Class: Jazz
DESCRIPTION:Ocean City Recreation and Parks offers several different levels of jazz dance classes for skill levels from beginner to advance. In our adult dance classes\, the techniques and steps you learn will build into a routine. You have the option of performing in the Springfest and Sunfest dance shows but are not required to perform. \n \nLocation: Northside Park Recreation Complex\n\nPrice:\n$44.00 Class Fee \n$34.00 Class Fee for Ocean City Residents\n$5.00 Drop-In Rate\n \nRecreation Supervisor: Anna Paterson\n——————————————\nBeginner: *200413A\nInstructor: Renee Wight\nWho: Adults with no to minor jazz experience\nDates: Wednesdays from 4:00pm – 4:45pm / February 12th – April 22nd\n \nIntermediate 1: *200413B\nInstructor: Renee Wight\nWho: Adults who are progressing from beginner level of jazz experience\nDates: Wednesdays from 5:30pm – 6:15pm / February 12th – April 22nd\nProgram Notes: We ask that students have jazz shoes\n \nIntermediate 2: *200413C\n\nInstructor: Renee Wight\nWho: Adults who are progressing from beginner level of jazz experience. Jazz 1 is recommended to be taken first\, but not required.\n\nDates: Wednesdays from 10:15am – 11:00am / February 12th – April 22nd\nProgram Notes: We ask that students have jazz shoes\n 
URL:https://tidesinnoc.com/event/adult-dance-class-jazz-5/
LOCATION:Northside Park\, 200 125th St\, Ocean City\, MD\, 21842\, United States
END:VEVENT
BEGIN:VEVENT
DTSTART;TZID=America/New_York:20200310T200000
DTEND;TZID=America/New_York:20200310T230000
DTSTAMP:20260425T081700
CREATED:20200125T065422Z
LAST-MODIFIED:20200125T065422Z
UID:62205-1583870400-1583881200@tidesinnoc.com
SUMMARY:Open Mic Night
DESCRIPTION:It’s Open Mic Night at Beach Barrels hosted by Identity Crisis Ray Perrone and Jay Rouse and guest bass player Eddie Saah!  Come on out\, step up to the mic and let us see what you got! 
URL:https://tidesinnoc.com/event/open-mic-night-26/
LOCATION:Beach Barrels\, 13207 Coastal Hwy\, Ocean City\, MD\, 21842\, United States
END:VEVENT
BEGIN:VEVENT
DTSTART;VALUE=DATE:20200307
DTEND;VALUE=DATE:20200308
DTSTAMP:20260425T081700
CREATED:20200120T065242Z
LAST-MODIFIED:20200120T065242Z
UID:61926-1583539200-1583625599@tidesinnoc.com
SUMMARY:Mite Beach Bash
DESCRIPTION:Get Ready for Fun!\n\nAs you know if you were here before\, or if this is your first tournament with us\, we organized this tournament for the love of the game!\n\nThe children\, as well as their parents\, will have a very unique experience during the Mite Beach Bash weekend.\n\nEach team will start playing their games on Friday early afternoon\, with games on Saturday\, and a championship game on Sunday. Minimum of 4 games.\n\nPartnering with the Carousel Resort gives the tournament a feel like no other! Kids can play their hearts out\, while the parents can sit and enjoy the game up close to the rink or from their room balconies. This tournament is based on everyone having FUN and not so much about winning!\n\nThroughout your team’s downtime\, you will be able to participate in various activities provided to you!\n\nPlease take advantage of all the wonderful amenities on the premises; the indoor pool\, restaurants\, and bar. 
URL:https://tidesinnoc.com/event/mite-beach-bash-2/
LOCATION:Carousel Ice Skating Rink\, 11700 Coastal Hwy\, Ocean City\, MD\, 21842\, United States
END:VEVENT
BEGIN:VEVENT
DTSTART;TZID=America/New_York:20200306T160000
DTEND;TZID=America/New_York:20200306T210000
DTSTAMP:20260425T081700
CREATED:20200122T065455Z
LAST-MODIFIED:20200122T065455Z
UID:62033-1583510400-1583528400@tidesinnoc.com
SUMMARY:Dave Hawkins at Harpoon Hanna's
DESCRIPTION:Dave Hawkins\, an accomplished musician\, has been playing music for what seems to be his entire life. Music is his passion and he is passionate about how it’s perceived throughout his audience. He plays many guitars\, harmonica\, and fiddle and when you hear him you will think there is a whole band\, not just one person. This is accomplished by what is known as looping.  There is never a “backing track” to play along with\, which is used by some other players out there. His vocals and music will reach the deepest part of you while it sets your senses alive. He plays sounds from the current popular\, to classic rock\, to Dave Matthews\, to his own original compositions as he touches on just about any genre you may desire.
URL:https://tidesinnoc.com/event/dave-hawkins-at-harpoon-hannas-22/
LOCATION:Harpoon Hanna’s\, 39064 Harpoon Road\, Fenwick Island\, DE\, 19944\, United States
END:VEVENT
BEGIN:VEVENT
DTSTART;TZID=America/New_York:20200303T193000
DTEND;TZID=America/New_York:20200303T213000
DTSTAMP:20260425T081700
CREATED:20200119T185617Z
LAST-MODIFIED:20200119T185617Z
UID:61867-1583263800-1583271000@tidesinnoc.com
SUMMARY:Indoor Drop-In Pickleball
DESCRIPTION:Join in and play the fastest growing sport in America! Bring your friends to the Ocean Pines Community Center for Indoor Drop-In Pickleball and enjoy some good-natured competition. Equipment is available for use. \n \nCost: \nFree for OP Pickleball Members\n$5.00 for Ocean Pines Residents\n$7.00 for Non-Residents
URL:https://tidesinnoc.com/event/indoor-drop-in-pickleball-33/
LOCATION:Ocean Pines Community Center\, 235 Ocean Pkwy\, Ocean Pines\, MD\, 21811\, United States
END:VEVENT
BEGIN:VEVENT
DTSTART;TZID=America/New_York:20200303T193000
DTEND;TZID=America/New_York:20200303T213000
DTSTAMP:20260425T081700
CREATED:20200119T065245Z
LAST-MODIFIED:20200119T065245Z
UID:61829-1583263800-1583271000@tidesinnoc.com
SUMMARY:Indoor Drop-In Pickleball
DESCRIPTION:Join in and play the fastest growing sport in America! Bring your friends to the Ocean Pines Community Center for Indoor Drop-In Pickleball and enjoy some good-natured competition. Equipment is available for use. \n \nCost: \nFree for OP Pickleball Members\n$5.00 for Ocean Pines Residents\n$7.00 for Non-Residents
URL:https://tidesinnoc.com/event/indoor-drop-in-pickleball-32/
LOCATION:Ocean Pines Community Center\, 235 Ocean Pkwy\, Ocean Pines\, MD\, 21811\, United States
END:VEVENT
BEGIN:VEVENT
DTSTART;TZID=America/New_York:20200226T180000
DTEND;TZID=America/New_York:20200226T210000
DTSTAMP:20260425T081700
CREATED:20200117T065537Z
LAST-MODIFIED:20200117T065537Z
UID:61660-1582740000-1582750800@tidesinnoc.com
SUMMARY:Pub Party & Trivia Night
DESCRIPTION:Assemble your team and get ready to test your knowledge! \nSign in for team trivia at 6:00pm in our Main Bar\n \nTrivia starts at 6:30pm; win gift cards and giveaways  \n \nHappy Hour Food and Drink Specials for Trivia Players\n$2.25 Miller Lite Draft\n$2.25 Coors Lt Draft\n$2.50 Yuengling\n$5.00 Craft Beers\n$6.00 Crushes\n$4.00 Rail Drinks\n$4.50 Call Drinks\n \n$7.99 Wings\n$7.99 1/2 Lb. Steamed Shrimp\n$7.99 Jerk Chicken\n$7.99 Spring Rolls\n$8.99 Shrimp Salad Sliders\n$2.00 Off Any Burger\n$8.99 Jerk Chicken Wrap\n$8.99 Cheese Pizza\n \n 
URL:https://tidesinnoc.com/event/pub-party-trivia-night-19/
LOCATION:Harpoon Hanna’s\, 39064 Harpoon Road\, Fenwick Island\, DE\, 19944\, United States
END:VEVENT
BEGIN:VEVENT
DTSTART;TZID=America/New_York:20200226T090000
DTEND;TZID=America/New_York:20200226T100000
DTSTAMP:20260425T081700
CREATED:20200116T065302Z
LAST-MODIFIED:20200116T065302Z
UID:61607-1582707600-1582711200@tidesinnoc.com
SUMMARY:Adult Health: Tai Chi
DESCRIPTION:Access Natural Healing! We produce the most profound medicine within us. Using this Practice with Principles creates a stress relief for the body. Safe\, slow continual movements (even when seated) generate better balance and awareness. All organs benefit by managing the breath and clearing the mind. Discover the Inner Medicine. \n \nWinter *253613A\n \nCertified Instructor: Kim Reed\n \nWho: Adults and Seniors\n \nDates: Wednesday mornings from January 8th – February 26th / 9:00am – 10:00am\n \nLocation: Northside Park Recreation Complex\n \nPrice:\n$51.00 Per Person\n$40.00 Per Person for OC Residents\n$8.00 Drop In Rate\n \nRecreation Supervisor: Anna Paterson
URL:https://tidesinnoc.com/event/adult-health-tai-chi-8/
LOCATION:Northside Park\, 200 125th St\, Ocean City\, MD\, 21842\, United States
END:VEVENT
BEGIN:VEVENT
DTSTART;TZID=America/New_York:20200225T160000
DTEND;TZID=America/New_York:20200225T173000
DTSTAMP:20260425T081700
CREATED:20200115T065804Z
LAST-MODIFIED:20200115T065804Z
UID:61550-1582646400-1582651800@tidesinnoc.com
SUMMARY:Kids Tuesday Afternoon Pottery Class
DESCRIPTION:Let your little ones play with clay. Students will express themselves with a variety of projects as they build hand-eye coordination at this Art League of Ocean City class. Cost includes all materials\, clay\, glazing\, and firing. \n \nGreat for kids ages 7 and older. Children 6 and under need to be accompanied by an adult! \n \nCost: \n$25 for members\, $30 for non members\nSign-up for 6 sessions for $120 for members\, $150 for non members \n \nAdvanced registration is required to guarantee your spot. \n \n  
URL:https://tidesinnoc.com/event/kids-tuesday-afternoon-pottery-class-20/
LOCATION:Art League of Ocean City\, 502 94th St\, Ocean City\, MD\, 21842\, United States
END:VEVENT
BEGIN:VEVENT
DTSTART;TZID=America/New_York:20200218T190000
DTEND;TZID=America/New_York:20200218T210000
DTSTAMP:20260425T081700
CREATED:20191001T065554Z
LAST-MODIFIED:20191001T065554Z
UID:50357-1582052400-1582059600@tidesinnoc.com
SUMMARY:Charm City Trivia
DESCRIPTION:The one and only Charm City Trivia is hosting Trivia night at the Taphouse Tavern. Bring your team and challenge your friends to a weekly game of bar trivia and enjoy taco specials! 
URL:https://tidesinnoc.com/event/charm-city-trivia-22/
LOCATION:Taphouse Tavern\, 13729 Coastal Hwy\, Ocean City\, MD\, 21842\, United States
END:VEVENT
BEGIN:VEVENT
DTSTART;TZID=America/New_York:20200218T180000
DTEND;TZID=America/New_York:20200218T200000
DTSTAMP:20260425T081700
CREATED:20200110T065247Z
LAST-MODIFIED:20200110T065247Z
UID:61191-1582048800-1582056000@tidesinnoc.com
SUMMARY:Tuesday Evening Adult Pottery Class
DESCRIPTION:Students will explore hand building techniques to make fun and functional art.  Perfect for all levels of students from beginner to more advanced. Adults and teens welcome.\n \nRegistration:\n$35 for members and $45 for non-members\nSign up for six sessions $180 (members) – $230 (non-members)\n\nAdvanced reservation is required to guarantee your spot.\n \n 
URL:https://tidesinnoc.com/event/tuesday-evening-adult-pottery-class-18/
LOCATION:Art League of Ocean City\, 502 94th St\, Ocean City\, MD\, 21842\, United States
END:VEVENT
BEGIN:VEVENT
DTSTART;TZID=America/New_York:20200211T190000
DTEND;TZID=America/New_York:20200211T210000
DTSTAMP:20260425T081700
CREATED:20190929T185620Z
LAST-MODIFIED:20190929T185620Z
UID:50204-1581447600-1581454800@tidesinnoc.com
SUMMARY:Charm City Trivia
DESCRIPTION:The one and only Charm City Trivia is hosting Trivia night at the Taphouse Tavern. Bring your team and challenge your friends to a weekly game of bar trivia and enjoy taco specials! 
URL:https://tidesinnoc.com/event/charm-city-trivia-20/
LOCATION:Taphouse Tavern\, 13729 Coastal Hwy\, Ocean City\, MD\, 21842\, United States
END:VEVENT
BEGIN:VEVENT
DTSTART;TZID=America/New_York:20200209T103000
DTEND;TZID=America/New_York:20200209T123000
DTSTAMP:20260425T081700
CREATED:20200102T065533Z
LAST-MODIFIED:20200102T065533Z
UID:60620-1581244200-1581251400@tidesinnoc.com
SUMMARY:Youth Drop-In Basketball
DESCRIPTION:For boys and girls ages 16 and under. Grab your friends and head to the gym for some indoor court time! Basketballs are available for use. Please wear non-marking athletic shoes on the court (no black-soled shoes).\n \nWeekday drop-in times may also be offered. Call 410-641-7052 for availability.\n \nCost: $3 per person. 
URL:https://tidesinnoc.com/event/youth-drop-in-basketball-9/
LOCATION:Ocean Pines Community Center\, 235 Ocean Pkwy\, Ocean Pines\, MD\, 21811\, United States
END:VEVENT
BEGIN:VEVENT
DTSTART;TZID=America/New_York:20200131T184500
DTEND;TZID=America/New_York:20200131T204500
DTSTAMP:20260425T081700
CREATED:20191230T185257Z
LAST-MODIFIED:20191230T185257Z
UID:60349-1580496300-1580503500@tidesinnoc.com
SUMMARY:Gladiator Dodgeball
DESCRIPTION:Come out and play the exciting game of gladiator dodgeball. There will also be pizza and icecream provided. This game incorporates dodge ball\, flag football and capture the flag. \n \nGrades 5 and 6\n \n$10 Ocean City residents & $12 non-residents\n \nRegistration is mandatory! 
URL:https://tidesinnoc.com/event/gladiator-dodgeball-2/
LOCATION:Ocean City Recreation and Parks Department\, 200-125th St & Bay\, Ocean City\, MD\, 21842\, United States
END:VEVENT
END:VCALENDAR