BEGIN:VCALENDAR
VERSION:2.0
PRODID:-//Ocean City MD Rooms | The Tides Inn OC Vacations - ECPv6.15.13//NONSGML v1.0//EN
CALSCALE:GREGORIAN
METHOD:PUBLISH
X-WR-CALNAME:Ocean City MD Rooms | The Tides Inn OC Vacations
X-ORIGINAL-URL:https://tidesinnoc.com
X-WR-CALDESC:Events for Ocean City MD Rooms | The Tides Inn OC Vacations
REFRESH-INTERVAL;VALUE=DURATION:PT1H
X-Robots-Tag:noindex
X-PUBLISHED-TTL:PT1H
BEGIN:VTIMEZONE
TZID:America/New_York
BEGIN:DAYLIGHT
TZOFFSETFROM:-0500
TZOFFSETTO:-0400
TZNAME:EDT
DTSTART:20210314T070000
END:DAYLIGHT
BEGIN:STANDARD
TZOFFSETFROM:-0400
TZOFFSETTO:-0500
TZNAME:EST
DTSTART:20211107T060000
END:STANDARD
BEGIN:DAYLIGHT
TZOFFSETFROM:-0500
TZOFFSETTO:-0400
TZNAME:EDT
DTSTART:20220313T070000
END:DAYLIGHT
BEGIN:STANDARD
TZOFFSETFROM:-0400
TZOFFSETTO:-0500
TZNAME:EST
DTSTART:20221106T060000
END:STANDARD
BEGIN:DAYLIGHT
TZOFFSETFROM:-0500
TZOFFSETTO:-0400
TZNAME:EDT
DTSTART:20230312T070000
END:DAYLIGHT
BEGIN:STANDARD
TZOFFSETFROM:-0400
TZOFFSETTO:-0500
TZNAME:EST
DTSTART:20231105T060000
END:STANDARD
BEGIN:DAYLIGHT
TZOFFSETFROM:-0500
TZOFFSETTO:-0400
TZNAME:EDT
DTSTART:20240310T070000
END:DAYLIGHT
BEGIN:STANDARD
TZOFFSETFROM:-0400
TZOFFSETTO:-0500
TZNAME:EST
DTSTART:20241103T060000
END:STANDARD
END:VTIMEZONE
BEGIN:VEVENT
DTSTART;TZID=America/New_York:20230721T170000
DTEND;TZID=America/New_York:20230721T170000
DTSTAMP:20260425T081255
CREATED:20230624T065951Z
LAST-MODIFIED:20230624T065951Z
UID:270889-1689958800-1689958800@tidesinnoc.com
SUMMARY:Dance on the Deck
DESCRIPTION:Join Fager’s Island every day for Dancing on the Deck. Have a blast while enjoying good food\, good drinks and great times dancing on the deck at Fager’s Island in Ocean City Maryland.  Thursday to Monday starting at 5pm; Tuesday and Wednesday starting at 9pm. \n \n 
URL:https://tidesinnoc.com/event/dance-on-the-deck-35/
LOCATION:Fager’s Island\, 201 60th St\, Ocean City\, MD\, 21842\, United States
END:VEVENT
BEGIN:VEVENT
DTSTART;TZID=America/New_York:20230719T100000
DTEND;TZID=America/New_York:20230719T103000
DTSTAMP:20260425T081255
CREATED:20230415T185733Z
LAST-MODIFIED:20230415T185733Z
UID:264768-1689760800-1689762600@tidesinnoc.com
SUMMARY:Knot Tying
DESCRIPTION:Have you always wanted to learn how to tie nautical knots? Swing by the Boardwalk Tram Station and join the Ocean City Life-saving Station Museum and the U.S. Coast Guard Auxiliary and become an expert! Learn how to tie a bowline to how to secure a cleat at this free summer program!
URL:https://tidesinnoc.com/event/knot-tying-4/
LOCATION:Ocean City Life-Saving Museum\, 813 S Atlantic Ave\, Ocean City\, MD\, 21842\, United States
END:VEVENT
BEGIN:VEVENT
DTSTART;TZID=America/New_York:20230713T100000
DTEND;TZID=America/New_York:20230713T230000
DTSTAMP:20260425T081255
CREATED:20230617T070121Z
LAST-MODIFIED:20230617T070121Z
UID:269964-1689242400-1689289200@tidesinnoc.com
SUMMARY:Nature Play
DESCRIPTION:Nature Play will take place the Thursday after each story time through Aug. 10\, except for April 13 and May 25. Families with kids ages 2-8 can meet at the stage area near the Education Center at 10 a.m. and engage in sensory activities that reinforce the beginning stages of learning in an outdoor setting. Nature Play enables the developing capacities for creating\, playing\, problem solving and intellectual development. It is free to attend.
URL:https://tidesinnoc.com/event/nature-play-2/
LOCATION:Salisbury Zoological Park\, 755 S Park Dr\, Salisbury\, MD\, 21804\, United States
END:VEVENT
BEGIN:VEVENT
DTSTART;TZID=America/New_York:20230712T100000
DTEND;TZID=America/New_York:20230712T103000
DTSTAMP:20260425T081255
CREATED:20230415T065921Z
LAST-MODIFIED:20230415T065921Z
UID:264707-1689156000-1689157800@tidesinnoc.com
SUMMARY:Knot Tying
DESCRIPTION:Have you always wanted to learn how to tie nautical knots? Swing by the Boardwalk Tram Station and join the Ocean City Life-saving Station Museum and the U.S. Coast Guard Auxiliary and become an expert! Learn how to tie a bowline to how to secure a cleat at this free summer program!
URL:https://tidesinnoc.com/event/knot-tying-2/
LOCATION:Ocean City Life-Saving Museum\, 813 S Atlantic Ave\, Ocean City\, MD\, 21842\, United States
ATTACH;FMTTYPE=image/png:/app/uploads/2023/04/knot_tying_explore-1.png
END:VEVENT
BEGIN:VEVENT
DTSTART;TZID=America/New_York:20230711T170000
DTEND;TZID=America/New_York:20230711T210000
DTSTAMP:20260425T081255
CREATED:20230613T185752Z
LAST-MODIFIED:20230613T185752Z
UID:269650-1689094800-1689109200@tidesinnoc.com
SUMMARY:Live Music at Pier 23
DESCRIPTION:Pier 23 is Ocean City’s first waterfront container food port. Our cargo is outstanding food and exceptional drinks. It is your destination for quality entertainment in a setting unlike any other in town. Check out our live music schedule so you don’t miss a beat!
URL:https://tidesinnoc.com/event/live-music-at-pier-23-46/
LOCATION:Pier 23\, 12817 Harbor Rd\, Ocean City\, MD\, 21842\, United States
END:VEVENT
BEGIN:VEVENT
DTSTART;TZID=America/New_York:20230708T180000
DTEND;TZID=America/New_York:20230708T220000
DTSTAMP:20260425T081255
CREATED:20230613T065748Z
LAST-MODIFIED:20230613T065748Z
UID:269591-1688839200-1688853600@tidesinnoc.com
SUMMARY:Pick Your Painting Experience at T.C Studios
DESCRIPTION:Pick your Painting is a unique feature that we offer at the Painting Experience Studio! \n \nIt involves each group choosing their own painting from our gallery. Your group chooses the surface\, and the design! Our artist will lead you through step by step! (Please note that each person in your group will be painting the same design\, although you can each customize your colors\, personal touches\, etc.). The other groups in the studio during Pick Your Painting will be painting their own designs – so each GROUP is painting something different. \n \nYour choice of canvas or glassware (2 glasses per painter)\, wooden pallet\, crab basket lid\, etc.! (Some surfaces may be subject to availability)\n \nPre-registration and payment is required to reserve your seat. You will receive a confirmation email when your registration is completed. Please contact T.C. Studios for questions or assistance!\n \nREFUND/CANCELLATION POLICY: A store credit in the form of a promo code will be issued if canceling with at least 24 hours notice. Less than 24 hour notice and no shows will not be eligible for any store credit. If you’re running late to the scheduled event\, please let us know. If painters are more than 15 minutes late without notice\, their spot may be forfeited. No refunds will be issued & all sales are final. \n \nBy registering for a Painting Experience\, you are agreeing to being featured in some photographs or possibly videos that may be posted on social media\, our website\, or for other promotional items. If you do not wish to be featured in any photos or videos\, please let us know upon arrival or before your scheduled event. 
URL:https://tidesinnoc.com/event/pick-your-painting-experience-at-t-c-studios-24/
LOCATION:Ocean City Painting Experience (T.C. Studios)\, 1505 Philadelphia Ave\, Ocean City\, MD\, 21842\, United States
END:VEVENT
BEGIN:VEVENT
DTSTART;TZID=America/New_York:20230704T170000
DTEND;TZID=America/New_York:20230704T210000
DTSTAMP:20260425T081255
CREATED:20230612T070058Z
LAST-MODIFIED:20230612T070058Z
UID:269509-1688490000-1688504400@tidesinnoc.com
SUMMARY:Live Music at Pier 23
DESCRIPTION:Pier 23 is Ocean City’s first waterfront container food port. Our cargo is outstanding food and exceptional drinks. It is your destination for quality entertainment in a setting unlike any other in town. Check out our live music schedule so you don’t miss a beat!
URL:https://tidesinnoc.com/event/live-music-at-pier-23-38/
LOCATION:Pier 23\, 12817 Harbor Rd\, Ocean City\, MD\, 21842\, United States
END:VEVENT
BEGIN:VEVENT
DTSTART;TZID=America/New_York:20230702T220000
DTEND;TZID=America/New_York:20230702T220000
DTSTAMP:20260425T081255
CREATED:20230402T065732Z
LAST-MODIFIED:20230402T065732Z
UID:263660-1688335200-1688335200@tidesinnoc.com
SUMMARY:Awaken
DESCRIPTION:Whose ready to Rock?! AWAKEN\, who has has played together for 26 years is playing live at the Purple Moose Saloon on the Ocean City\, Maryland Boardwalk tonight!  Great company\, great drink specials and great rock music at your favorite bar!
URL:https://tidesinnoc.com/event/awaken-3/
LOCATION:Unnamed Venue\, Ocean City\, MD\, 21842\, United States
END:VEVENT
BEGIN:VEVENT
DTSTART;TZID=America/New_York:20230701T170000
DTEND;TZID=America/New_York:20230701T210000
DTSTAMP:20260425T081255
CREATED:20230611T185807Z
LAST-MODIFIED:20230611T185807Z
UID:269462-1688230800-1688245200@tidesinnoc.com
SUMMARY:Live Music at Pier 23
DESCRIPTION:Pier 23 is Ocean City’s first waterfront container food port. Our cargo is outstanding food and exceptional drinks. It is your destination for quality entertainment in a setting unlike any other in town. Check out our live music schedule so you don’t miss a beat!
URL:https://tidesinnoc.com/event/live-music-at-pier-23-34/
LOCATION:Pier 23\, 12817 Harbor Rd\, Ocean City\, MD\, 21842\, United States
END:VEVENT
BEGIN:VEVENT
DTSTART;TZID=America/New_York:20230628T170000
DTEND;TZID=America/New_York:20230628T210000
DTSTAMP:20260425T081255
CREATED:20230605T065957Z
LAST-MODIFIED:20230605T065957Z
UID:268757-1687971600-1687986000@tidesinnoc.com
SUMMARY:Live Music at Pier 23
DESCRIPTION:Pier 23 is Ocean City’s first waterfront container food port. Our cargo is outstanding food and exceptional drinks. It is your destination for quality entertainment in a setting unlike any other in town. Check out our live music schedule so you don’t miss a beat!
URL:https://tidesinnoc.com/event/live-music-at-pier-23-30/
LOCATION:Pier 23\, 12817 Harbor Rd\, Ocean City\, MD\, 21842\, United States
END:VEVENT
BEGIN:VEVENT
DTSTART;TZID=America/New_York:20230626T160000
DTEND;TZID=America/New_York:20230626T200000
DTSTAMP:20260425T081255
CREATED:20230609T070129Z
LAST-MODIFIED:20230609T070129Z
UID:269161-1687795200-1687809600@tidesinnoc.com
SUMMARY:First Class
DESCRIPTION:First Class is the choice for the best live top 40 and variety entertainment on the market.  From sax powered ballads to classics to today’s current hits. First Class sits at the top.  First Class is a strong four piece band with strong vocals\, tight rhythm section\, and serious sax playing. \nHappy hour is from 3-6pm and features specials such as $1 Oysters\, 1 1/4 pound lobsters for $26.  Happy hour drink specials include $6.75 Smirnoff Crushes\, $5.00 Rails\, $1 Off Drafts and $5.50 House Wines.  
URL:https://tidesinnoc.com/event/first-class-3/
LOCATION:Skye Bar & Grille\, 6601 Coastal Hwy\, Ocean City\, MD\, 21842\, United States
ATTACH;FMTTYPE=:
END:VEVENT
BEGIN:VEVENT
DTSTART;TZID=America/New_York:20230626T150000
DTEND;TZID=America/New_York:20230626T173000
DTSTAMP:20260425T081255
CREATED:20230607T065622Z
LAST-MODIFIED:20230607T065622Z
UID:268935-1687791600-1687800600@tidesinnoc.com
SUMMARY:Paint your Pet Portrait Experience
DESCRIPTION:Enjoy quality time with friends or family while you paint your very own\, unique PET PORTRAIT PAINTING at the OC Painting Experience event studio!  No artistic ability or experience required. Pre-registration is required. Get tix BELOW (scroll down) or contact T.C. Studios at 443-248-4273 \n \nAFTER PURCHASING YOUR TICKET\, YOU MUST EMAIL (TCSTUDIOS11@AOL.COM) A PHOTO OF YOUR PET (1 PER PAINTER/CANVAS). All pet portraits are 100% hand sketched ahead of time\, so it’s important we get your pet photo AT LEAST 48 hrs ahead of time.\n \nAll materials & step-by-step instruction are included! Food/drinks are not included in ticket price\, or provided – you may bring food into the studio.\n \nPRE-REGISTRATION IS REQUIRED. WE CAN NOT ACCEPT WALK-IN’S. THANK YOU FOR UNDERSTANDING! 
URL:https://tidesinnoc.com/event/paint-your-pet-portrait-experience-4/
LOCATION:Ocean City Painting Experience (T.C. Studios)\, 1505 Philadelphia Ave\, Ocean City\, MD\, 21842\, United States
END:VEVENT
BEGIN:VEVENT
DTSTART;TZID=America/New_York:20230615T150000
DTEND;TZID=America/New_York:20230615T180000
DTSTAMP:20260425T081255
CREATED:20230609T190223Z
LAST-MODIFIED:20230609T190223Z
UID:269258-1686841200-1686852000@tidesinnoc.com
SUMMARY:DJ Billy T
DESCRIPTION:DJ Billy T spins your favorites all night at Harborside in West Ocean City\, Maryland. Enjoy great food and drinks from Harborside on the water while listening to a live DJ to dance the night away.  
URL:https://tidesinnoc.com/event/dj-billy-t-24/
LOCATION:Harborside Bar & Grill\, 12841 Harbor Rd\, Ocean City\, MD\, 21842\, United States
END:VEVENT
BEGIN:VEVENT
DTSTART;TZID=America/New_York:20230615T140000
DTEND;TZID=America/New_York:20230615T170000
DTSTAMP:20260425T081255
CREATED:20221128T065752Z
LAST-MODIFIED:20221128T065752Z
UID:252457-1686837600-1686848400@tidesinnoc.com
SUMMARY:Heart of Salisbury Food Tour
DESCRIPTION:From blue crabs to artisan bagels\, from Chesapeake’s finest oysters to the locally brewed craft beer\, Salisbury is a foodie’ s paradise. So where should you begin? Start with our Foodie Tour!\n \nWith its newly revitalized historic Main Street and Riverwalk\, Salisbury is quickly becoming one of the most vibrant hubs in Maryland for art\, culture\, and dining experiences. And now is the perfect time to explore our small-town foodie scene on foot with this immersive three-hour dining tour that will take you to sample food and drink at local restaurants\, cafes\, breweries\, bakeries\, and more.\n \nGet the inside scoop on our city’s unique history tour\, while you taste your way through this award-winning\, All-American city’ s culinary gems. This guided walking tour is the best way to explore and enjoy our historic and beautiful city one mouthful at a time while meandering through lively culinary destinations with your dedicated and knowledgeable guide sharing fun and interesting tidbits about Salisbury’ s culture\, history\, architecture\, and latest happenings.\n \nWhether you’re a first-time visitor to Salisbury\, or someone who loves their hometown\, this is your chance to explore the food culture of this charming historical town and meet new foodie friends\, all while satisfying your culinary curiosities.
URL:https://tidesinnoc.com/event/heart-of-salisbury-food-tour-10/
LOCATION:OC Foodie Tour\, 3303 Coastal Hwy\, Ocean City\, MD\, 21842\, United States
END:VEVENT
BEGIN:VEVENT
DTSTART;TZID=America/New_York:20230613T113000
DTEND;TZID=America/New_York:20230613T120000
DTSTAMP:20260425T081255
CREATED:20230305T185701Z
LAST-MODIFIED:20230305T185701Z
UID:261008-1686655800-1686657600@tidesinnoc.com
SUMMARY:Aquarium Feeding
DESCRIPTION:It’s feeding time at the Ocean City Life-Saving Station Museum! Watch and learn about Ocean City native wildlife as they have their morning meal at the Ocean City Life Saving Station Museum. This program is offered Monday through Saturdays at 11:30 am and all are welcome.   Free with paid Museum admission. 
URL:https://tidesinnoc.com/event/aquarium-feeding-11/
LOCATION:Ocean City Life-Saving Museum\, 813 S Atlantic Ave\, Ocean City\, MD\, 21842\, United States
END:VEVENT
BEGIN:VEVENT
DTSTART;TZID=America/New_York:20230602T170000
DTEND;TZID=America/New_York:20230602T210000
DTSTAMP:20260425T081255
CREATED:20230514T065859Z
LAST-MODIFIED:20230514T065859Z
UID:267284-1685725200-1685739600@tidesinnoc.com
SUMMARY:Live Music at Pier 23
DESCRIPTION:Pier 23 is Ocean City’s first waterfront container food port. Our cargo is outstanding food and exceptional drinks. It is your destination for quality entertainment in a setting unlike any other in town. Check out our live music schedule so you don’t miss a beat!
URL:https://tidesinnoc.com/event/live-music-at-pier-23-13/
LOCATION:Pier 23\, 12817 Harbor Rd\, Ocean City\, MD\, 21842\, United States
END:VEVENT
BEGIN:VEVENT
DTSTART;TZID=America/New_York:20230602T160000
DTEND;TZID=America/New_York:20230602T200000
DTSTAMP:20260425T081255
CREATED:20230512T065947Z
LAST-MODIFIED:20230512T065947Z
UID:267088-1685721600-1685736000@tidesinnoc.com
SUMMARY:Mike and Dave Duo
DESCRIPTION:The Mike and Dave Duo will acoustically play your favorite vintage classic rock tunes at the Skye Bar and Grille.\nHappy hour is from 3-6pm and features specials such as $1 Oysters\, 1 1/4 pound lobsters for $23.  Happy hour drink specials include $6.00 Smirnoff Crushes\, $4.00 Rails\, $1 Off Drafts and $5 House Wines. \n 
URL:https://tidesinnoc.com/event/mike-and-dave-duo-7/
LOCATION:Skye Bar & Grille\, 6601 Coastal Hwy\, Ocean City\, MD\, 21842\, United States
END:VEVENT
BEGIN:VEVENT
DTSTART;TZID=America/New_York:20230601T140000
DTEND;TZID=America/New_York:20230601T170000
DTSTAMP:20260425T081255
CREATED:20221125T185838Z
LAST-MODIFIED:20221125T185838Z
UID:252258-1685628000-1685638800@tidesinnoc.com
SUMMARY:Heart of Salisbury Food Tour
DESCRIPTION:From blue crabs to artisan bagels\, from Chesapeake’s finest oysters to the locally brewed craft beer\, Salisbury is a foodie’ s paradise. So where should you begin? Start with our Foodie Tour!\n \nWith its newly revitalized historic Main Street and Riverwalk\, Salisbury is quickly becoming one of the most vibrant hubs in Maryland for art\, culture\, and dining experiences. And now is the perfect time to explore our small-town foodie scene on foot with this immersive three-hour dining tour that will take you to sample food and drink at local restaurants\, cafes\, breweries\, bakeries\, and more.\n \nGet the inside scoop on our city’s unique history tour\, while you taste your way through this award-winning\, All-American city’ s culinary gems. This guided walking tour is the best way to explore and enjoy our historic and beautiful city one mouthful at a time while meandering through lively culinary destinations with your dedicated and knowledgeable guide sharing fun and interesting tidbits about Salisbury’ s culture\, history\, architecture\, and latest happenings.\n \nWhether you’re a first-time visitor to Salisbury\, or someone who loves their hometown\, this is your chance to explore the food culture of this charming historical town and meet new foodie friends\, all while satisfying your culinary curiosities.
URL:https://tidesinnoc.com/event/heart-of-salisbury-food-tour-7/
LOCATION:OC Foodie Tour\, 3303 Coastal Hwy\, Ocean City\, MD\, 21842\, United States
END:VEVENT
BEGIN:VEVENT
DTSTART;TZID=America/New_York:20230513T220000
DTEND;TZID=America/New_York:20230513T220000
DTSTAMP:20260425T081255
CREATED:20230305T070116Z
LAST-MODIFIED:20230305T070116Z
UID:260931-1684015200-1684015200@tidesinnoc.com
SUMMARY:Social
DESCRIPTION:Social\, Maryland’s You’re Going To Have A Good Time Party Band is playing this weekend at The Purple Moose Saloon in Ocean City\, Maryland. Get ready to rock\, and have a good time with family\, friends and great food and drink specials. 
URL:https://tidesinnoc.com/event/social-4/
LOCATION:Purple Moose Saloon\, 108 S Boardwalk\, Ocean City\, MD\, 21842\, United States
END:VEVENT
BEGIN:VEVENT
DTSTART;VALUE=DATE:20230428
DTEND;VALUE=DATE:20230429
DTSTAMP:20260425T081255
CREATED:20230224T185638Z
LAST-MODIFIED:20230224T185638Z
UID:259804-1682640000-1682726399@tidesinnoc.com
SUMMARY:Ocean City Spring Restaurant Week
DESCRIPTION:Many spectacular restaurants will create special menus designed to tempt your taste buds. Special\, fixed-priced menus will be offered throughout the two-week event. They may offer a $10\, $20\, $30 or $40 fixed menu price that may even include dessert!\n \nNo passes\, tickets or coupons are required. Just simply choose a participating restaurant and dine out during the dates of the promotion. \n \nFor information call the Hotel-Motel-Restaurant Association at 1-800-626-2326 x 2\, visit http://www.oceancityrestaurantweek.com or email inquire@ocvisitor.com.
URL:https://tidesinnoc.com/event/ocean-city-spring-restaurant-week-10/
LOCATION:OC Events\, 301 N Baltimore Ave\, Ocean City\, MD\, 21842\, United States
END:VEVENT
BEGIN:VEVENT
DTSTART;TZID=America/New_York:20230425T180000
DTEND;TZID=America/New_York:20230425T200000
DTSTAMP:20260425T081255
CREATED:20230303T065645Z
LAST-MODIFIED:20230303T065645Z
UID:260686-1682445600-1682452800@tidesinnoc.com
SUMMARY:Bar Bingo with DJ Rupe
DESCRIPTION:Join us every Tuesday night for Bar Bingo with DJ Rupe. Games from 6:00 pm – 8:00 pm with a winner every game.   A great time where you can get food and drink specials just for players\, with Mystery Balls for even deeper discounted drink prices. \n \nFree to play! 
URL:https://tidesinnoc.com/event/bar-bingo-with-dj-rupe-8/
LOCATION:Harpoon Hanna’s\, 39064 Harpoon Road\, Fenwick Island\, DE\, 19944\, United States
END:VEVENT
BEGIN:VEVENT
DTSTART;TZID=America/New_York:20230421T210000
DTEND;TZID=America/New_York:20230421T210000
DTSTAMP:20260425T081255
CREATED:20230316T065615Z
LAST-MODIFIED:20230316T065615Z
UID:262031-1682110800-1682110800@tidesinnoc.com
SUMMARY:DJ Tuff
DESCRIPTION:Come dance the night away to beats from DJ Tuff at Seacrets in Ocean City\, MD. Enjoy a cold drink with a few friends while jamming along to your favorite club tunes and earth-shaking beats!
URL:https://tidesinnoc.com/event/dj-tuff-15/
LOCATION:Seacrets\, 49th Street On The Bay\, Ocean City\, MD\, 21842\, United States
END:VEVENT
BEGIN:VEVENT
DTSTART;TZID=America/New_York:20230421T100000
DTEND;TZID=America/New_York:20230421T170000
DTSTAMP:20260425T081255
CREATED:20230315T185548Z
LAST-MODIFIED:20230315T185548Z
UID:261970-1682071200-1682096400@tidesinnoc.com
SUMMARY:Ward World Carving Competition &  Art Festival
DESCRIPTION:Annual\nWard World Championship\, Wildfowl Carving Competition and Art Festival at the Roland E. Powell Convention Center brings together carvers and visitors from across the world who convene for the most prestigious competition of contemporary wildfowl art. The event includes judging\, silent auction\, classes\, seminars\, demonstrations\, children’s activities and exhibitor booths of artisans and supplies.  \nAdmission Fee:\n$10 for multiday pass; $8 for student and senior rate; children under 12 free \n \n\n 
URL:https://tidesinnoc.com/event/ward-world-carving-competition-art-festival/
LOCATION:Roland E. Powell Convention Center\, 4001 Coastal Highway\, Ocean City\, MD\, 21842\, United States
END:VEVENT
BEGIN:VEVENT
DTSTART;TZID=America/New_York:20230311T080000
DTEND;TZID=America/New_York:20230311T080000
DTSTAMP:20260425T081255
CREATED:20221213T185449Z
LAST-MODIFIED:20221213T185449Z
UID:254171-1678521600-1678521600@tidesinnoc.com
SUMMARY:Sportsbook Second Chance Drawings
DESCRIPTION:Get another shot at winning at Ocean Downs Casino! Make your sports bet\, then bring your live bet slip to the Players Club. Every $25 bet equals one entry to the monthly drawing. No limit on the number of entries. \n \nVisit the Player’s Club at Ocean Downs Casino today for your chance to win $750 CASH this month! 
URL:https://tidesinnoc.com/event/sportsbook-second-chance-drawings-64/
LOCATION:Ocean Downs Casino\, 10218 Racetrack Road\, Berlin\, MD\, 21811\, United States
END:VEVENT
BEGIN:VEVENT
DTSTART;TZID=America/New_York:20230227T103000
DTEND;TZID=America/New_York:20230227T113000
DTSTAMP:20260425T081255
CREATED:20221202T185726Z
LAST-MODIFIED:20221202T185726Z
UID:253104-1677493800-1677497400@tidesinnoc.com
SUMMARY:Story Time at the Library
DESCRIPTION:Join us for story time at the Ocean City Library every Monday at 10:30 am\, excluding holidays.  Two to five year old children will gather to hear stories\, enjoy music with movement and make crafts. 
URL:https://tidesinnoc.com/event/story-time-at-the-library-13/
LOCATION:Worcester County Library – Ocean City Branch\, 10003 Coastal Hwy\, Ocean City\, MD\, 21842\, United States
END:VEVENT
BEGIN:VEVENT
DTSTART;TZID=America/New_York:20230120T170000
DTEND;TZID=America/New_York:20230120T210000
DTSTAMP:20260425T081255
CREATED:20221123T065931Z
LAST-MODIFIED:20221123T065931Z
UID:251987-1674234000-1674248400@tidesinnoc.com
SUMMARY:Dave Hawkins Band
DESCRIPTION:Dave Hawkins\, an accomplished musician\, has been playing music for what seems to be his entire life. Music is his passion and he is passionate! Catch Dave live at Harpoon Hanna’s while you enjoy dinner and drinks with family and friends!.
URL:https://tidesinnoc.com/event/dave-hawkins-band-17/
LOCATION:Harpoon Hanna’s\, 39064 Harpoon Road\, Fenwick Island\, DE\, 19944\, United States
END:VEVENT
BEGIN:VEVENT
DTSTART;TZID=America/New_York:20221223T170000
DTEND;TZID=America/New_York:20221223T210000
DTSTAMP:20260425T081255
CREATED:20221120T065709Z
LAST-MODIFIED:20221120T065709Z
UID:251687-1671814800-1671829200@tidesinnoc.com
SUMMARY:John McNutt Duo Band
DESCRIPTION:Since returning from five years of European tours and four records with British rockers Spear of Destiny\, John McNutt has returned to his Philly roots with new projects that include his solo record ‘Courtesy Call’. John also signed to Vemac Management upon his return and is stoked to be playing the Philly and New York club scene again!! McNutt has an intense stage presence and his raspy vocals with passionate guitar playing have earned him a strong following. John can be seen with a band\, solo\, or duet…Come on out!!!
URL:https://tidesinnoc.com/event/john-mcnutt-duo-band-3/
LOCATION:Seacrets\, 49th Street On The Bay\, Ocean City\, MD\, 21842\, United States
END:VEVENT
BEGIN:VEVENT
DTSTART;TZID=America/New_York:20221223T170000
DTEND;TZID=America/New_York:20221223T210000
DTSTAMP:20260425T081255
CREATED:20221118T185820Z
LAST-MODIFIED:20221118T185820Z
UID:251557-1671814800-1671829200@tidesinnoc.com
SUMMARY:Dave Hawkins Band
DESCRIPTION:Dave Hawkins\, an accomplished musician\, has been playing music for what seems to be his entire life. Music is his passion and he is passionate! Catch Dave live at Harpoon Hanna’s while you enjoy dinner and drinks with family and friends!.
URL:https://tidesinnoc.com/event/dave-hawkins-band-12/
LOCATION:Harpoon Hanna’s\, 39064 Harpoon Road\, Fenwick Island\, DE\, 19944\, United States
END:VEVENT
BEGIN:VEVENT
DTSTART;TZID=America/New_York:20221216T180000
DTEND;TZID=America/New_York:20221216T180000
DTSTAMP:20260425T081255
CREATED:20221118T065746Z
LAST-MODIFIED:20221118T065746Z
UID:251420-1671213600-1671213600@tidesinnoc.com
SUMMARY:DJ Tuff
DESCRIPTION:Come dance the night away to beats from DJ Tuff at Seacrets in Ocean City\, MD. Enjoy a cold drink with a few friends while jamming along to your favorite club tunes and earth-shaking beats!
URL:https://tidesinnoc.com/event/dj-tuff-17/
LOCATION:Seacrets\, 49th Street On The Bay\, Ocean City\, MD\, 21842\, United States
END:VEVENT
BEGIN:VEVENT
DTSTART;TZID=America/New_York:20221216T000000
DTEND;TZID=America/New_York:20221216T000000
DTSTAMP:20260425T081255
CREATED:20221104T065556Z
LAST-MODIFIED:20221104T065556Z
UID:250058-1671148800-1671148800@tidesinnoc.com
SUMMARY:Self-Guided Foodie & Fun Tour
DESCRIPTION:Explore OC’s impressive local restaurant and bar scene at your own pace\, time & day. Discover OC’s history\, culture and fascinating facts about this coastal gem of a town and the families who settled here.  Go at your own pace\, tours  take as little at 3 hours but can take 6 hours and be broken into 2 or 3 days if you prefer.  \n \nBenefits of a self-guided tour:\nAvailable anytime\, 7 days a week\nFreedom to go at your own time and pace\nOnly pay restaurants for what you order\nTake your time\, break up into tow or more days\n \nWhat you get on a self-guided tour:\nA map to help you find your way\nSelf-guided itinerary for experiencing culinary delights at multiple locations \nAudio guide\, if you prefer listening over reading\nVideos: interviews with chefs and owners\nPhotos of recommended signature dishes\nAnd so much more 
URL:https://tidesinnoc.com/event/self-guided-foodie-fun-tour-25/
LOCATION:OC Foodie Tour\, 3303 Coastal Hwy\, Ocean City\, MD\, 21842\, United States
END:VEVENT
END:VCALENDAR