BEGIN:VCALENDAR
VERSION:2.0
PRODID:-//Ocean City MD Rooms | The Tides Inn OC Vacations - ECPv6.15.13//NONSGML v1.0//EN
CALSCALE:GREGORIAN
METHOD:PUBLISH
X-WR-CALNAME:Ocean City MD Rooms | The Tides Inn OC Vacations
X-ORIGINAL-URL:https://tidesinnoc.com
X-WR-CALDESC:Events for Ocean City MD Rooms | The Tides Inn OC Vacations
REFRESH-INTERVAL;VALUE=DURATION:PT1H
X-Robots-Tag:noindex
X-PUBLISHED-TTL:PT1H
BEGIN:VTIMEZONE
TZID:America/New_York
BEGIN:DAYLIGHT
TZOFFSETFROM:-0500
TZOFFSETTO:-0400
TZNAME:EDT
DTSTART:20190310T070000
END:DAYLIGHT
BEGIN:STANDARD
TZOFFSETFROM:-0400
TZOFFSETTO:-0500
TZNAME:EST
DTSTART:20191103T060000
END:STANDARD
BEGIN:DAYLIGHT
TZOFFSETFROM:-0500
TZOFFSETTO:-0400
TZNAME:EDT
DTSTART:20200308T070000
END:DAYLIGHT
BEGIN:STANDARD
TZOFFSETFROM:-0400
TZOFFSETTO:-0500
TZNAME:EST
DTSTART:20201101T060000
END:STANDARD
BEGIN:DAYLIGHT
TZOFFSETFROM:-0500
TZOFFSETTO:-0400
TZNAME:EDT
DTSTART:20210314T070000
END:DAYLIGHT
BEGIN:STANDARD
TZOFFSETFROM:-0400
TZOFFSETTO:-0500
TZNAME:EST
DTSTART:20211107T060000
END:STANDARD
END:VTIMEZONE
BEGIN:VEVENT
DTSTART;TZID=America/New_York:20201210T220000
DTEND;TZID=America/New_York:20201210T220000
DTSTAMP:20260424T073731
CREATED:20200322T065318Z
LAST-MODIFIED:20200322T065318Z
UID:66239-1607637600-1607637600@tidesinnoc.com
SUMMARY:College Night at Brew River
DESCRIPTION:Brew River is proud to celebrate college students and all of their hard workout throughout their educational career. Head over on selected Thursday Nights for College Night. Enjoy bar-specials\, amazing tunes\, and more! 
URL:https://tidesinnoc.com/event/college-night-at-brew-river-67/
LOCATION:Brew River\, 502 W Main St\, Salisbury\, MD\, 21801\, United States
END:VEVENT
BEGIN:VEVENT
DTSTART;TZID=America/New_York:20201030T160000
DTEND;TZID=America/New_York:20201030T210000
DTSTAMP:20260424T073731
CREATED:20200321T065317Z
LAST-MODIFIED:20200321T065317Z
UID:66158-1604073600-1604091600@tidesinnoc.com
SUMMARY:Dave Hawkins at Harpoon Hanna's
DESCRIPTION:Dave Hawkins\, an accomplished musician\, has been playing music for what seems to be his entire life. Music is his passion and he is passionate about how it’s perceived throughout his audience. He plays many guitars\, harmonica\, and fiddle and when you hear him you will think there is a whole band\, not just one person. This is accomplished by what is known as looping.  There is never a “backing track” to play along with\, which is used by some other players out there. His vocals and music will reach the deepest part of you while it sets your senses alive. He plays sounds from the current popular\, to classic rock\, to Dave Matthews\, to his own original compositions as he touches on just about any genre you may desire.
URL:https://tidesinnoc.com/event/dave-hawkins-at-harpoon-hannas-60/
LOCATION:Harpoon Hanna’s\, 39064 Harpoon Road\, Fenwick Island\, DE\, 19944\, United States
END:VEVENT
BEGIN:VEVENT
DTSTART;TZID=America/New_York:20200914T170000
DTEND;TZID=America/New_York:20200914T210000
DTSTAMP:20260424T073731
CREATED:20200319T065402Z
LAST-MODIFIED:20200319T065402Z
UID:65958-1600102800-1600117200@tidesinnoc.com
SUMMARY:Dave Hawkins Band
DESCRIPTION:Dave Hawkins\, an accomplished musician\, has been playing music for what seems to be his entire life. Music is his passion and he is passionate about how it’s perceived throughout his audience. He plays many guitars\, harmonica\, and fiddle and when you hear him you will think there is a whole band\, not just one person. This is accomplished by what is known as looping.  There is never a “backing track” to play along with\, which is used by some other players out there. His vocals and music will reach the deepest part of you while it sets your senses alive. He plays sounds from the current popular\, to classic rock\, to Dave Matthews\, to his own original compositions as he touches on just about any genre you may desire.
URL:https://tidesinnoc.com/event/dave-hawkins-band-19/
LOCATION:Harpoon Hanna’s\, 39064 Harpoon Road\, Fenwick Island\, DE\, 19944\, United States
END:VEVENT
BEGIN:VEVENT
DTSTART;TZID=America/New_York:20200812T203000
DTEND;TZID=America/New_York:20200812T223000
DTSTAMP:20260424T073731
CREATED:20200318T065519Z
LAST-MODIFIED:20200318T065519Z
UID:65765-1597264200-1597271400@tidesinnoc.com
SUMMARY:Free Movie on the Beach: Summer 2020
DESCRIPTION:Enjoy free movies on the beach every Wednesday from June 3 to August 26 at the Carousel Hotel on 117th St. in Ocean City MD.   Each week\, a general audience movie is presented free of charge on our 16-foot projector.  Bring a beach chair or blanket & enjoy the night beside the ocean.  The movie starts at dusk. For more information\, call 800-626-2326.\n \n\n\nSave the Date – Complete Season Schedule: \n \n\n\n\nJune 3:  A Dog’s Way Home\n \nJune 10: Shrek\n \nJune 17: The Angry Birds Movie 2\n \nJune 24:  Abominable \n \nJuly 1:  The Secret Life of Pets 2\n \nJuly 8:  The Lion King\n \nJuly 15: Aladdin\n \nJuly 22: Toy Story 4\nJuly 29: Star Wars – The Rise of Skywalker \n \nAugust 5: Frozen 2\n \nAugust 12: Jumanji – The Next Level \n \nAugust  19: Spider-man – Far From Home\n\n \nAugust 26: Mulan\n \n\n 
URL:https://tidesinnoc.com/event/free-movie-on-the-beach-summer-2020-11/
LOCATION:Carousel Resort Hotel and Condominiums\, 11700 Coastal Hwy\, Ocean City\, MD\, 21842\, United States
END:VEVENT
BEGIN:VEVENT
DTSTART;TZID=America/New_York:20200728T100000
DTEND;TZID=America/New_York:20200728T220000
DTSTAMP:20260424T073731
CREATED:20200317T185423Z
LAST-MODIFIED:20200317T185423Z
UID:65675-1595930400-1595973600@tidesinnoc.com
SUMMARY:Jesus at the Beach Music & Ministry Festival
DESCRIPTION:The 26th Annual JESUS AT THE BEACH MUSIC & MINISTRY FESTIVAL will be on Monday\, Tuesday\, and Wednesday\, July 27\, 28\, & 29 2020. The Festival will begin each day at 10am until approximately 1pm at the Ocean City Convention Center with praise\, worship\, dance\, drama\, testimony\, preaching\, prayer\, and Holy Spirit ministry.  \n\nThe afternoons are free to enjoy fellowship with one another. Each night from 7pm to 10pm on the beach at North Division Street\, God will minister through praise music\, dance\, drama\, testimony\, and one-on-one sharing. \n\nOn Wednesday there is a baptism service on the beach across from the Convention Center.
URL:https://tidesinnoc.com/event/jesus-at-the-beach-music-ministry-festival-2/
LOCATION:Roland E. Powell Convention Center\, 4001 Coastal Highway\, Ocean City\, MD\, 21842\, United States
END:VEVENT
BEGIN:VEVENT
DTSTART;VALUE=DATE:20200722
DTEND;VALUE=DATE:20200723
DTSTAMP:20260424T073731
CREATED:20200317T065457Z
LAST-MODIFIED:20200317T065457Z
UID:65630-1595376000-1595462399@tidesinnoc.com
SUMMARY:StarPower National Talent Championship
DESCRIPTION:Competitive and talented dancers across the nation are heading to Ocean City\, Maryland! Enjoy the opportunity to watch dancers who qualified for the National Championship. \n \nFor more information\, contact Daniella at daniella@starpowertalent.com or call 301-870-9550.\n \n 
URL:https://tidesinnoc.com/event/starpower-national-talent-championship-4/
LOCATION:Roland E. Powell Convention Center\, 4001 Coastal Highway\, Ocean City\, MD\, 21842\, United States
END:VEVENT
BEGIN:VEVENT
DTSTART;TZID=America/New_York:20200718T080000
DTEND;TZID=America/New_York:20200718T140000
DTSTAMP:20260424T073731
CREATED:20200316T185556Z
LAST-MODIFIED:20200316T185556Z
UID:65599-1595059200-1595080800@tidesinnoc.com
SUMMARY:MD State Surfing Championships - ESA Delmarva
DESCRIPTION:The Eastern Surfing Association (ESA) is dedicated to the sport of amateur surfing and to the establishment and preservation of free access to clean shores!   \n \nThe Delmarva District of the ESA began in 1969 by a small group of Ocean City\, MD surfers\, and its first Directors were Al and Skill Johnson.  Today surfers from DE\, MD and Virginia’s Eastern Shore compete within the Delmarva ESA District.\n \nThe Delmarva District encourages participation by surfers of all ages\, and all skill levels.  ESA Delmarva depends on the volunteer service of the District Directors and all of the member volunteers who help provide fun\, efficient and skill building surf contests!
URL:https://tidesinnoc.com/event/md-state-surfing-championships-esa-delmarva/
LOCATION:36th Street Ocean City\, MD\, 36th Street\, Ocean City\, MD\, 21842\, United States
END:VEVENT
BEGIN:VEVENT
DTSTART;TZID=America/New_York:20200715T103000
DTEND;TZID=America/New_York:20200715T120000
DTSTAMP:20260424T073731
CREATED:20200316T065239Z
LAST-MODIFIED:20200316T065239Z
UID:65572-1594809000-1594814400@tidesinnoc.com
SUMMARY:Platform Tennis Drop-In
DESCRIPTION:Platform tennis is a doubles-oriented\, year-round racquet sport played on specially constructed platforms with paddles in place of racquets. Played outdoors at the Manklin Meadows Racquet Sports Complex\, platform tennis combines the fun and challenge of tennis\, squash and racquetball.\n\nThe Ocean Pines Platform Tennis Club also offers free clinics for new platform players every Saturday at noon. It covers the basics of the sport and allows prospective members to learn  and take lessons for a nominal fee. For ages 12 and older. The first session is free; drop-in is $5. Ask about the free 30-day trial! \n \nCost:\n$5.00 Daily Court Fee
URL:https://tidesinnoc.com/event/platform-tennis-drop-in-33/
LOCATION:Manklin Meadows Park\, 11443 Manklin Creek Road\, Ocean Pines\, MD\, 21811\, United States
END:VEVENT
BEGIN:VEVENT
DTSTART;TZID=America/New_York:20200712T150000
DTEND;TZID=America/New_York:20200712T190000
DTSTAMP:20260424T073731
CREATED:20200315T185359Z
LAST-MODIFIED:20200315T185359Z
UID:65537-1594566000-1594580400@tidesinnoc.com
SUMMARY:Dale Teat at Harpoon Hanna's
DESCRIPTION:With his very own music store under his belt\, Dale Teat is a man of many trades. Treat yourself to an evening of live music from Mr. Teat. You won’t want to miss this!
URL:https://tidesinnoc.com/event/dale-teat-at-harpoon-hannas-17/
LOCATION:Harpoon Hanna’s\, 39064 Harpoon Road\, Fenwick Island\, DE\, 19944\, United States
END:VEVENT
BEGIN:VEVENT
DTSTART;TZID=America/New_York:20200707T200000
DTEND;TZID=America/New_York:20200707T214500
DTSTAMP:20260424T073731
CREATED:20200315T065525Z
LAST-MODIFIED:20200315T065525Z
UID:65471-1594152000-1594158300@tidesinnoc.com
SUMMARY:Ocean City Ghost Walk - Inlet Start
DESCRIPTION:Walk the old historic district of Ocean City and hear your storyteller recount over a dozen ghost stories featuring spirits that still linger in the old buildings and hotels.  Ocean City also features a property that hit the “Haunted Trifecta” – a murder\, suicide and accidental death occurring at the same location. \n \nThis tour runs between the Inlet and 4th street and is approximately an hour and a half of scary stories and Ocean City’s mysterious history.
URL:https://tidesinnoc.com/event/ocean-city-ghost-walk-inlet-start-25/
LOCATION:Ocean City Life-Saving Museum\, 813 S Atlantic Ave\, Ocean City\, MD\, 21842\, United States
END:VEVENT
BEGIN:VEVENT
DTSTART;TZID=America/New_York:20200624T090000
DTEND;TZID=America/New_York:20200624T120000
DTSTAMP:20260424T073731
CREATED:20200314T185324Z
LAST-MODIFIED:20200314T185324Z
UID:65390-1592989200-1593000000@tidesinnoc.com
SUMMARY:Maryland State Firemen's Association Convention
DESCRIPTION:Location:\n– Convention Center (4001 Coastal Highway) *Convention Center show hours are Thursday\, Friday and Saturday \n \nStop by the Convention Center for the Maryland State Firemen Association’s Annual Convention and Conference.\nThis is an event you won’t want to miss!  A fire service trade show and exhibition is conducted.\nEducational classes and seminars are provided to enhance their member’s\noperational readiness. \n \n\nFree Admission! \n \n\n\n \n\n \n 
URL:https://tidesinnoc.com/event/maryland-state-firemens-association-convention-3/
LOCATION:Roland E. Powell Convention Center\, 4001 Coastal Highway\, Ocean City\, MD\, 21842\, United States
END:VEVENT
BEGIN:VEVENT
DTSTART;TZID=America/New_York:20200613T220000
DTEND;TZID=America/New_York:20200613T220000
DTSTAMP:20260424T073731
CREATED:20200313T185409Z
LAST-MODIFIED:20200313T185409Z
UID:65331-1592085600-1592085600@tidesinnoc.com
SUMMARY:Preferred Nomenclature Live at the Original Greene Turtle
DESCRIPTION: Preferred Nomenclature will be performing live at the Original Greene Turtle in North Ocean City.  You won’t want to miss this high energy show!  While you’re jamming to the music\, kick back with a brew from the Greene Turtle bar’s massive selection!
URL:https://tidesinnoc.com/event/preferred-nomenclature-live-at-the-original-greene-turtle-3/
LOCATION:The Original Greene Turtle\, 11601 Coastal Hwy\, Ocean City\, MD\, 21842\, United States
END:VEVENT
BEGIN:VEVENT
DTSTART;TZID=America/New_York:20200613T220000
DTEND;TZID=America/New_York:20200613T220000
DTSTAMP:20260424T073731
CREATED:20200313T065523Z
LAST-MODIFIED:20200313T065523Z
UID:65314-1592085600-1592085600@tidesinnoc.com
SUMMARY:Preferred Nomenclature Live at the Original Greene Turtle
DESCRIPTION: Preferred Nomenclature will be performing live at the Original Greene Turtle in North Ocean City.  You won’t want to miss this high energy show!  While you’re jamming to the music\, kick back with a brew from the Greene Turtle bar’s massive selection!
URL:https://tidesinnoc.com/event/preferred-nomenclature-live-at-the-original-greene-turtle-2/
LOCATION:The Original Greene Turtle\, 11601 Coastal Hwy\, Ocean City\, MD\, 21842\, United States
END:VEVENT
BEGIN:VEVENT
DTSTART;TZID=America/New_York:20200613T090000
DTEND;TZID=America/New_York:20200613T160000
DTSTAMP:20260424T073731
CREATED:20200311T185720Z
LAST-MODIFIED:20200311T185720Z
UID:65209-1592038800-1592064000@tidesinnoc.com
SUMMARY:Ocean City Air Show Displays Open
DESCRIPTION:The OC Air Show returns to Ocean City in 2020 for it’s 13th year in a row.   The U.S. Air Force Thunderbirds will return to Ocean City and will headline the two day event. \n \nThe U.S. Air Force Air Demonstration Squadron are the Air Force’s Ambassadors in Blue. They represent the 500\,000 men and women of the Unites States Air Force.
URL:https://tidesinnoc.com/event/ocean-city-air-show-displays-open/
LOCATION:On the Beach & Boardwalk; Show Center is 16th St.\, 1600 Atlantic Avenue\, Ocean City\, MD\, 21842\, United States
END:VEVENT
BEGIN:VEVENT
DTSTART;TZID=America/New_York:20200609T180000
DTEND;TZID=America/New_York:20200609T200000
DTSTAMP:20260424T073731
CREATED:20200309T065314Z
LAST-MODIFIED:20200309T065314Z
UID:65069-1591725600-1591732800@tidesinnoc.com
SUMMARY:Bar Bingo with DJ Rupe at Harpoon Hanna's
DESCRIPTION:Join us every Tuesday night for Bar Bingo with DJ Rupe. Games from 6:00 pm – 8:00 pm with a winner every game.   A great time where you can get food and drink specials just for players\, with Mystery Balls for even deeper discounted drink prices. \n \nFree to play! 
URL:https://tidesinnoc.com/event/bar-bingo-with-dj-rupe-at-harpoon-hannas-34/
LOCATION:Harpoon Hanna’s\, 39064 Harpoon Road\, Fenwick Island\, DE\, 19944\, United States
END:VEVENT
BEGIN:VEVENT
DTSTART;TZID=America/New_York:20200605T160000
DTEND;TZID=America/New_York:20200605T210000
DTSTAMP:20260424T073731
CREATED:20200308T065321Z
LAST-MODIFIED:20200308T065321Z
UID:65006-1591372800-1591390800@tidesinnoc.com
SUMMARY:Dave Hawkins at Harpoon Hanna's
DESCRIPTION:Dave Hawkins\, an accomplished musician\, has been playing music for what seems to be his entire life. Music is his passion and he is passionate about how it’s perceived throughout his audience. He plays many guitars\, harmonica\, and fiddle and when you hear him you will think there is a whole band\, not just one person. This is accomplished by what is known as looping.  There is never a “backing track” to play along with\, which is used by some other players out there. His vocals and music will reach the deepest part of you while it sets your senses alive. He plays sounds from the current popular\, to classic rock\, to Dave Matthews\, to his own original compositions as he touches on just about any genre you may desire.
URL:https://tidesinnoc.com/event/dave-hawkins-at-harpoon-hannas-38/
LOCATION:Harpoon Hanna’s\, 39064 Harpoon Road\, Fenwick Island\, DE\, 19944\, United States
END:VEVENT
BEGIN:VEVENT
DTSTART;TZID=America/New_York:20200529T160000
DTEND;TZID=America/New_York:20200529T210000
DTSTAMP:20260424T073731
CREATED:20200307T185422Z
LAST-MODIFIED:20200307T185422Z
UID:64949-1590768000-1590786000@tidesinnoc.com
SUMMARY:Dave Hawkins at Harpoon Hanna's
DESCRIPTION:Dave Hawkins\, an accomplished musician\, has been playing music for what seems to be his entire life. Music is his passion and he is passionate about how it’s perceived throughout his audience. He plays many guitars\, harmonica\, and fiddle and when you hear him you will think there is a whole band\, not just one person. This is accomplished by what is known as looping.  There is never a “backing track” to play along with\, which is used by some other players out there. His vocals and music will reach the deepest part of you while it sets your senses alive. He plays sounds from the current popular\, to classic rock\, to Dave Matthews\, to his own original compositions as he touches on just about any genre you may desire.
URL:https://tidesinnoc.com/event/dave-hawkins-at-harpoon-hannas-36/
LOCATION:Harpoon Hanna’s\, 39064 Harpoon Road\, Fenwick Island\, DE\, 19944\, United States
END:VEVENT
BEGIN:VEVENT
DTSTART;TZID=America/New_York:20200526T200000
DTEND;TZID=America/New_York:20200526T230000
DTSTAMP:20260424T073731
CREATED:20200307T065319Z
LAST-MODIFIED:20200307T065319Z
UID:64910-1590523200-1590534000@tidesinnoc.com
SUMMARY:Open Mic Night
DESCRIPTION:It’s Open Mic Night at Beach Barrels hosted by Identity Crisis Ray Perrone and Jay Rouse and guest bass player Eddie Saah!  Come on out\, step up to the mic and let us see what you got! 
URL:https://tidesinnoc.com/event/open-mic-night-38/
LOCATION:Beach Barrels\, 13207 Coastal Hwy\, Ocean City\, MD\, 21842\, United States
END:VEVENT
BEGIN:VEVENT
DTSTART;TZID=America/New_York:20200522T193000
DTEND;TZID=America/New_York:20200522T211500
DTSTAMP:20260424T073731
CREATED:20200306T185525Z
LAST-MODIFIED:20200306T185525Z
UID:64879-1590175800-1590182100@tidesinnoc.com
SUMMARY:Ocean City Ghost Walk - Inlet Start
DESCRIPTION:Walk the old historic district of Ocean City and hear your storyteller recount over a dozen ghost stories featuring spirits that still linger in the old buildings and hotels.  Ocean City also features a property that hit the “Haunted Trifecta” – a murder\, suicide and accidental death occurring at the same location. \n \nThis tour runs between the Inlet and 4th street and is approximately an hour and a half of scary stories and Ocean City’s mysterious history.
URL:https://tidesinnoc.com/event/ocean-city-ghost-walk-inlet-start-9/
LOCATION:Ocean City Life-Saving Museum\, 813 S Atlantic Ave\, Ocean City\, MD\, 21842\, United States
END:VEVENT
BEGIN:VEVENT
DTSTART;TZID=America/New_York:20200518T170000
DTEND;TZID=America/New_York:20200518T210000
DTSTAMP:20260424T073731
CREATED:20200305T185301Z
LAST-MODIFIED:20200305T185301Z
UID:64799-1589821200-1589835600@tidesinnoc.com
SUMMARY:Dave Hawkins Band
DESCRIPTION:Dave Hawkins\, an accomplished musician\, has been playing music for what seems to be his entire life. Music is his passion and he is passionate about how it’s perceived throughout his audience. He plays many guitars\, harmonica\, and fiddle and when you hear him you will think there is a whole band\, not just one person. This is accomplished by what is known as looping.  There is never a “backing track” to play along with\, which is used by some other players out there. His vocals and music will reach the deepest part of you while it sets your senses alive. He plays sounds from the current popular\, to classic rock\, to Dave Matthews\, to his own original compositions as he touches on just about any genre you may desire.
URL:https://tidesinnoc.com/event/dave-hawkins-band/
LOCATION:Harpoon Hanna’s\, 39064 Harpoon Road\, Fenwick Island\, DE\, 19944\, United States
END:VEVENT
BEGIN:VEVENT
DTSTART;TZID=America/New_York:20200514T133000
DTEND;TZID=America/New_York:20200514T163000
DTSTAMP:20260424T073731
CREATED:20200304T065245Z
LAST-MODIFIED:20200304T065245Z
UID:64744-1589463000-1589473800@tidesinnoc.com
SUMMARY:Indoor Drop-In Pickleball
DESCRIPTION:Join in and play the fastest growing sport in America! Bring your friends to the Ocean Pines Community Center for Indoor Drop-In Pickleball and enjoy some good-natured competition. Equipment is available for use. \n \nCost: \nFree for OP Pickleball Members\n$5.00 for Ocean Pines Residents\n$7.00 for Non-Residents
URL:https://tidesinnoc.com/event/indoor-drop-in-pickleball-67/
LOCATION:Ocean Pines Community Center\, 235 Ocean Pkwy\, Ocean Pines\, MD\, 21811\, United States
END:VEVENT
BEGIN:VEVENT
DTSTART;TZID=America/New_York:20200514T090000
DTEND;TZID=America/New_York:20200514T170000
DTSTAMP:20260424T073731
CREATED:20200303T065632Z
LAST-MODIFIED:20200303T065632Z
UID:64684-1589446800-1589475600@tidesinnoc.com
SUMMARY:Cruisin' Ocean City
DESCRIPTION:This popular car show features over 3\,400 hot rods\, customs\, classics\, street machines\, muscle cars and more. Live entertainment\, celebrity guests\, special attractions\, boardwalk parades\, manufacturers vendor midway and more.  Boardwalk Parades.  So many things to see and do\, so make sure you cruise on down to Ocean City\, MD! \n \nAdmission $10/day Thursday and Sunday\, $15/day Friday and Saturday.  Children under 14 are free with an adult. \n \nFor additional information\, visit www.cruisinoceancity.com.
URL:https://tidesinnoc.com/event/cruisin-ocean-city/
LOCATION:Convention Center and Inlet Lot\, 4001 Coastal Highway\, Ocean City\, MD\, 21842\, United States
END:VEVENT
BEGIN:VEVENT
DTSTART;TZID=America/New_York:20200505T193000
DTEND;TZID=America/New_York:20200505T213000
DTSTAMP:20260424T073731
CREATED:20200302T185409Z
LAST-MODIFIED:20200302T185409Z
UID:64622-1588707000-1588714200@tidesinnoc.com
SUMMARY:Indoor Drop-In Pickleball
DESCRIPTION:Join in and play the fastest growing sport in America! Bring your friends to the Ocean Pines Community Center for Indoor Drop-In Pickleball and enjoy some good-natured competition. Equipment is available for use. \n \nCost: \nFree for OP Pickleball Members\n$5.00 for Ocean Pines Residents\n$7.00 for Non-Residents
URL:https://tidesinnoc.com/event/indoor-drop-in-pickleball-62/
LOCATION:Ocean Pines Community Center\, 235 Ocean Pkwy\, Ocean Pines\, MD\, 21811\, United States
END:VEVENT
BEGIN:VEVENT
DTSTART;TZID=America/New_York:20200505T180000
DTEND;TZID=America/New_York:20200505T200000
DTSTAMP:20260424T073731
CREATED:20200302T065718Z
LAST-MODIFIED:20200302T065718Z
UID:64588-1588701600-1588708800@tidesinnoc.com
SUMMARY:Bar Bingo with DJ Rupe at Harpoon Hanna's
DESCRIPTION:Join us every Tuesday night for Bar Bingo with DJ Rupe. Games from 6:00 pm – 8:00 pm with a winner every game.   A great time where you can get food and drink specials just for players\, with Mystery Balls for even deeper discounted drink prices. \n \nFree to play! 
URL:https://tidesinnoc.com/event/bar-bingo-with-dj-rupe-at-harpoon-hannas-28/
LOCATION:Harpoon Hanna’s\, 39064 Harpoon Road\, Fenwick Island\, DE\, 19944\, United States
END:VEVENT
BEGIN:VEVENT
DTSTART;TZID=America/New_York:20200428T160000
DTEND;TZID=America/New_York:20200428T173000
DTSTAMP:20260424T073731
CREATED:20200301T185456Z
LAST-MODIFIED:20200301T185456Z
UID:64535-1588089600-1588095000@tidesinnoc.com
SUMMARY:Kids Tuesday Afternoon Pottery Class
DESCRIPTION:Let your little ones play with clay. Students will express themselves with a variety of projects as they build hand-eye coordination at this Art League of Ocean City class. Cost includes all materials\, clay\, glazing\, and firing. \n \nGreat for kids ages 7 and older. Children 6 and under need to be accompanied by an adult! \n \nCost: \n$25 for members\, $30 for non members\nSign-up for 6 sessions for $120 for members\, $150 for non members \n \nAdvanced registration is required to guarantee your spot. \n \n  
URL:https://tidesinnoc.com/event/kids-tuesday-afternoon-pottery-class-31/
LOCATION:Art League of Ocean City\, 502 94th St\, Ocean City\, MD\, 21842\, United States
END:VEVENT
BEGIN:VEVENT
DTSTART;TZID=America/New_York:20200428T130000
DTEND;TZID=America/New_York:20200428T150000
DTSTAMP:20260424T073731
CREATED:20200301T065244Z
LAST-MODIFIED:20200301T065244Z
UID:64492-1588078800-1588086000@tidesinnoc.com
SUMMARY:Tuesday Afternoon Adult Pottery Class
DESCRIPTION:Students will explore hand building techniques to make fun and functional art.  Perfect for all levels of students from beginner to more advanced. Adults and teens welcome.\n \nRegistration:\n$35 for members and $45 for non-members\nSign up for six sessions $180 (members) – $230 (non-members)\n \nAdvanced reservation is required to guarantee your spot. \n \n \n \n 
URL:https://tidesinnoc.com/event/tuesday-afternoon-adult-pottery-class-29/
LOCATION:Art League of Ocean City\, 502 94th St\, Ocean City\, MD\, 21842\, United States
END:VEVENT
BEGIN:VEVENT
DTSTART;TZID=America/New_York:20200421T100000
DTEND;TZID=America/New_York:20200421T120000
DTSTAMP:20260424T073731
CREATED:20200229T185203Z
LAST-MODIFIED:20200229T185203Z
UID:64416-1587463200-1587470400@tidesinnoc.com
SUMMARY:Tuesday Morning Adult Pottery Class For Advanced Ceramic Artists
DESCRIPTION:This is a class for advanced Ceramic Artists only\, there will be minimal instructions\, and you need to be cleared by pottery studio manager to attend this class. Please call the Art League if you have any questions at 410-524-9433. \n \nCost per session: $35 for Art League members\, $45 non members\nCost for 6 sessions: $180 for Art League members\, $230 for non members (not available online)\n \nAdvanced reservation is required to guarantee your spot. \n 
URL:https://tidesinnoc.com/event/tuesday-morning-adult-pottery-class-for-advanced-ceramic-artists-33/
LOCATION:Art League of Ocean City\, 502 94th St\, Ocean City\, MD\, 21842\, United States
END:VEVENT
BEGIN:VEVENT
DTSTART;TZID=America/New_York:20200418T190000
DTEND;TZID=America/New_York:20200418T204500
DTSTAMP:20260424T073731
CREATED:20200229T065808Z
LAST-MODIFIED:20200229T065808Z
UID:64378-1587236400-1587242700@tidesinnoc.com
SUMMARY:Ocean City Ghost Walk - Inlet Start
DESCRIPTION:Walk the old historic district of Ocean City and hear your storyteller recount over a dozen ghost stories featuring spirits that still linger in the old buildings and hotels.  Ocean City also features a property that hit the “Haunted Trifecta” – a murder\, suicide and accidental death occurring at the same location. \n \nThis tour runs between the Inlet and 4th street and is approximately an hour and a half of scary stories and Ocean City’s mysterious history.
URL:https://tidesinnoc.com/event/ocean-city-ghost-walk-inlet-start-3/
LOCATION:Ocean City Life-Saving Museum\, 813 S Atlantic Ave\, Ocean City\, MD\, 21842\, United States
END:VEVENT
BEGIN:VEVENT
DTSTART;TZID=America/New_York:20200410T150000
DTEND;TZID=America/New_York:20200410T180000
DTSTAMP:20260424T073731
CREATED:20200226T065306Z
LAST-MODIFIED:20200226T065306Z
UID:64208-1586530800-1586541600@tidesinnoc.com
SUMMARY:Rita Pearl Live at the Original Greene Turtle
DESCRIPTION:Rita Pearl will be performing live at the Original Greene Turtle in North Ocean City. You won’t want to miss this high energy show! While you’re jamming to the music\, kick back with a brew from the Greene Turtle bar’s massive selection. Make sure you arrive during the Original Greene Turtle’s Happy Hour that runs from 3-6pm Monday through Friday. Domestic drafts will be $2.50 and domestic bottles $2.75!
URL:https://tidesinnoc.com/event/rita-pearl-live-at-the-original-greene-turtle-3/
LOCATION:The Original Greene Turtle\, 11601 Coastal Hwy\, Ocean City\, MD\, 21842\, United States
END:VEVENT
BEGIN:VEVENT
DTSTART;TZID=America/New_York:20200328T220000
DTEND;TZID=America/New_York:20200328T220000
DTSTAMP:20260424T073731
CREATED:20200221T065413Z
LAST-MODIFIED:20200221T065413Z
UID:63890-1585432800-1585432800@tidesinnoc.com
SUMMARY:La Ricci Music Live at the Original Greene Turtle
DESCRIPTION: La Ricci Music will be performing live at the Original Greene Turtle in North Ocean City! Come check out the amazing guitar and keyboard combo of musical talent. Make sure you arrive during the Original Greene Turtle’s Happy Hour that runs from 3-6 pm Monday through Friday. Domestic drafts will be $2.50 and domestic bottles $2.75!
URL:https://tidesinnoc.com/event/la-ricci-music-live-at-the-original-greene-turtle-2/
LOCATION:The Original Greene Turtle\, 11601 Coastal Hwy\, Ocean City\, MD\, 21842\, United States
END:VEVENT
END:VCALENDAR