BEGIN:VCALENDAR
VERSION:2.0
PRODID:-//Ocean City MD Rooms | The Tides Inn OC Vacations - ECPv6.15.13//NONSGML v1.0//EN
CALSCALE:GREGORIAN
METHOD:PUBLISH
X-ORIGINAL-URL:https://tidesinnoc.com
X-WR-CALDESC:Events for Ocean City MD Rooms | The Tides Inn OC Vacations
REFRESH-INTERVAL;VALUE=DURATION:PT1H
X-Robots-Tag:noindex
X-PUBLISHED-TTL:PT1H
BEGIN:VTIMEZONE
TZID:America/New_York
BEGIN:DAYLIGHT
TZOFFSETFROM:-0500
TZOFFSETTO:-0400
TZNAME:EDT
DTSTART:20250309T070000
END:DAYLIGHT
BEGIN:STANDARD
TZOFFSETFROM:-0400
TZOFFSETTO:-0500
TZNAME:EST
DTSTART:20251102T060000
END:STANDARD
BEGIN:DAYLIGHT
TZOFFSETFROM:-0500
TZOFFSETTO:-0400
TZNAME:EDT
DTSTART:20260308T070000
END:DAYLIGHT
BEGIN:STANDARD
TZOFFSETFROM:-0400
TZOFFSETTO:-0500
TZNAME:EST
DTSTART:20261101T060000
END:STANDARD
BEGIN:DAYLIGHT
TZOFFSETFROM:-0500
TZOFFSETTO:-0400
TZNAME:EDT
DTSTART:20270314T070000
END:DAYLIGHT
BEGIN:STANDARD
TZOFFSETFROM:-0400
TZOFFSETTO:-0500
TZNAME:EST
DTSTART:20271107T060000
END:STANDARD
END:VTIMEZONE
BEGIN:VEVENT
DTSTART;TZID=America/New_York:20261002T170000
DTEND;TZID=America/New_York:20261002T210000
DTSTAMP:20260423T165430
CREATED:20260126T185107Z
LAST-MODIFIED:20260423T185034Z
UID:316014-1790960400-1790974800@tidesinnoc.com
SUMMARY:Phil Perdue - "The Piano Man"
DESCRIPTION:Enjoy Phil Perdue “The Piano Man” on the grand piano at the Captain’s Table in Ocean City\, Maryland.  Enjoy fine dining at its best with South African lobster tails\, delicious crab cakes\, certified angus beef steaks and great selection from the bar. Phil’s smooth sounds on the grand piano are a local’s favorite on Friday and Saturday nights.  
URL:https://tidesinnoc.com/event/phil-perdue-the-piano-man-72/
LOCATION:Captain’s Table Restaurant and Bar\, 2 15th St\, Ocean City\, MD\, 21842\, United States
ATTACH;FMTTYPE=:
END:VEVENT
BEGIN:VEVENT
DTSTART;TZID=America/New_York:20261003T170000
DTEND;TZID=America/New_York:20261003T210000
DTSTAMP:20260423T165430
CREATED:20260126T185107Z
LAST-MODIFIED:20260423T185034Z
UID:316015-1791046800-1791061200@tidesinnoc.com
SUMMARY:Phil Perdue - "The Piano Man"
DESCRIPTION:Enjoy Phil Perdue “The Piano Man” on the grand piano at the Captain’s Table in Ocean City\, Maryland.  Enjoy fine dining at its best with South African lobster tails\, delicious crab cakes\, certified angus beef steaks and great selection from the bar. Phil’s smooth sounds on the grand piano are a local’s favorite on Friday and Saturday nights.  
URL:https://tidesinnoc.com/event/phil-perdue-the-piano-man-73/
LOCATION:Captain’s Table Restaurant and Bar\, 2 15th St\, Ocean City\, MD\, 21842\, United States
ATTACH;FMTTYPE=:
END:VEVENT
BEGIN:VEVENT
DTSTART;TZID=America/New_York:20261009T170000
DTEND;TZID=America/New_York:20261009T210000
DTSTAMP:20260423T165430
CREATED:20260126T185108Z
LAST-MODIFIED:20260423T185034Z
UID:316016-1791565200-1791579600@tidesinnoc.com
SUMMARY:Phil Perdue - "The Piano Man"
DESCRIPTION:Enjoy Phil Perdue “The Piano Man” on the grand piano at the Captain’s Table in Ocean City\, Maryland.  Enjoy fine dining at its best with South African lobster tails\, delicious crab cakes\, certified angus beef steaks and great selection from the bar. Phil’s smooth sounds on the grand piano are a local’s favorite on Friday and Saturday nights.  
URL:https://tidesinnoc.com/event/phil-perdue-the-piano-man-74/
LOCATION:Captain’s Table Restaurant and Bar\, 2 15th St\, Ocean City\, MD\, 21842\, United States
ATTACH;FMTTYPE=:
END:VEVENT
BEGIN:VEVENT
DTSTART;TZID=America/New_York:20261010T170000
DTEND;TZID=America/New_York:20261010T210000
DTSTAMP:20260423T165430
CREATED:20260126T185108Z
LAST-MODIFIED:20260423T185034Z
UID:316017-1791651600-1791666000@tidesinnoc.com
SUMMARY:Phil Perdue - "The Piano Man"
DESCRIPTION:Enjoy Phil Perdue “The Piano Man” on the grand piano at the Captain’s Table in Ocean City\, Maryland.  Enjoy fine dining at its best with South African lobster tails\, delicious crab cakes\, certified angus beef steaks and great selection from the bar. Phil’s smooth sounds on the grand piano are a local’s favorite on Friday and Saturday nights.  
URL:https://tidesinnoc.com/event/phil-perdue-the-piano-man-75/
LOCATION:Captain’s Table Restaurant and Bar\, 2 15th St\, Ocean City\, MD\, 21842\, United States
ATTACH;FMTTYPE=:
END:VEVENT
BEGIN:VEVENT
DTSTART;TZID=America/New_York:20261010T193000
DTEND;TZID=America/New_York:20261010T230000
DTSTAMP:20260423T165430
CREATED:20260218T185018Z
LAST-MODIFIED:20260423T185037Z
UID:316911-1791660600-1791673200@tidesinnoc.com
SUMMARY:Monkee Paw
DESCRIPTION:Catch Monkee Paw at High Stakes Bar & Grille in Fenwick Island\, Delaware! Monkee Paw’s musical style ranges from duo to quartet\, and they have spent almost a decade performing in Fenwick and Ocean City. Spanning a wide variety of genres\, with a strong focus on vocal harmony. Band members include: Mike Givens\, Rick Smith\, Joseph Wirt\, Ray Perrone\, Dean Haemel and Adam Ask.  
URL:https://tidesinnoc.com/event/monkee-paw-6/
LOCATION:High Stakes Bar & Grill\, 5799 Lighthouse Cove Ln\, Fenwick Island\, DE\, 19944\, United States
ATTACH;FMTTYPE=:
END:VEVENT
BEGIN:VEVENT
DTSTART;TZID=America/New_York:20261016T170000
DTEND;TZID=America/New_York:20261016T210000
DTSTAMP:20260423T165430
CREATED:20260126T185108Z
LAST-MODIFIED:20260423T185037Z
UID:316018-1792170000-1792184400@tidesinnoc.com
SUMMARY:Phil Perdue - "The Piano Man"
DESCRIPTION:Enjoy Phil Perdue “The Piano Man” on the grand piano at the Captain’s Table in Ocean City\, Maryland.  Enjoy fine dining at its best with South African lobster tails\, delicious crab cakes\, certified angus beef steaks and great selection from the bar. Phil’s smooth sounds on the grand piano are a local’s favorite on Friday and Saturday nights.  
URL:https://tidesinnoc.com/event/phil-perdue-the-piano-man-76/
LOCATION:Captain’s Table Restaurant and Bar\, 2 15th St\, Ocean City\, MD\, 21842\, United States
ATTACH;FMTTYPE=:
END:VEVENT
BEGIN:VEVENT
DTSTART;TZID=America/New_York:20261017T170000
DTEND;TZID=America/New_York:20261017T210000
DTSTAMP:20260423T165430
CREATED:20260126T185108Z
LAST-MODIFIED:20260423T185037Z
UID:316019-1792256400-1792270800@tidesinnoc.com
SUMMARY:Phil Perdue - "The Piano Man"
DESCRIPTION:Enjoy Phil Perdue “The Piano Man” on the grand piano at the Captain’s Table in Ocean City\, Maryland.  Enjoy fine dining at its best with South African lobster tails\, delicious crab cakes\, certified angus beef steaks and great selection from the bar. Phil’s smooth sounds on the grand piano are a local’s favorite on Friday and Saturday nights.  
URL:https://tidesinnoc.com/event/phil-perdue-the-piano-man-77/
LOCATION:Captain’s Table Restaurant and Bar\, 2 15th St\, Ocean City\, MD\, 21842\, United States
ATTACH;FMTTYPE=:
END:VEVENT
BEGIN:VEVENT
DTSTART;TZID=America/New_York:20261023T170000
DTEND;TZID=America/New_York:20261023T210000
DTSTAMP:20260423T165430
CREATED:20260126T185109Z
LAST-MODIFIED:20260423T185037Z
UID:316020-1792774800-1792789200@tidesinnoc.com
SUMMARY:Phil Perdue - "The Piano Man"
DESCRIPTION:Enjoy Phil Perdue “The Piano Man” on the grand piano at the Captain’s Table in Ocean City\, Maryland.  Enjoy fine dining at its best with South African lobster tails\, delicious crab cakes\, certified angus beef steaks and great selection from the bar. Phil’s smooth sounds on the grand piano are a local’s favorite on Friday and Saturday nights.  
URL:https://tidesinnoc.com/event/phil-perdue-the-piano-man-78/
LOCATION:Captain’s Table Restaurant and Bar\, 2 15th St\, Ocean City\, MD\, 21842\, United States
ATTACH;FMTTYPE=:
END:VEVENT
BEGIN:VEVENT
DTSTART;TZID=America/New_York:20261024T170000
DTEND;TZID=America/New_York:20261024T210000
DTSTAMP:20260423T165430
CREATED:20260126T185109Z
LAST-MODIFIED:20260423T185037Z
UID:316021-1792861200-1792875600@tidesinnoc.com
SUMMARY:Phil Perdue - "The Piano Man"
DESCRIPTION:Enjoy Phil Perdue “The Piano Man” on the grand piano at the Captain’s Table in Ocean City\, Maryland.  Enjoy fine dining at its best with South African lobster tails\, delicious crab cakes\, certified angus beef steaks and great selection from the bar. Phil’s smooth sounds on the grand piano are a local’s favorite on Friday and Saturday nights.  
URL:https://tidesinnoc.com/event/phil-perdue-the-piano-man-79/
LOCATION:Captain’s Table Restaurant and Bar\, 2 15th St\, Ocean City\, MD\, 21842\, United States
ATTACH;FMTTYPE=:
END:VEVENT
BEGIN:VEVENT
DTSTART;TZID=America/New_York:20261024T193000
DTEND;TZID=America/New_York:20261024T230000
DTSTAMP:20260423T165430
CREATED:20260121T065021Z
LAST-MODIFIED:20260423T185041Z
UID:315742-1792870200-1792882800@tidesinnoc.com
SUMMARY:Lowercase Blues Band
DESCRIPTION:Lowercase\nBlues plays blues-based rock with a funkified rhythm – lyrical melodies above\npercussive bass lines woven around a jazzy drumbeat. Come see the band live at High Stakes Bar and Grill in Fenwick Island which always features some of the best local talent!
URL:https://tidesinnoc.com/event/lowercase-blues-band-3/
LOCATION:High Stakes Bar & Grill\, 5799 Lighthouse Cove Ln\, Fenwick Island\, DE\, 19944\, United States
ATTACH;FMTTYPE=:
END:VEVENT
BEGIN:VEVENT
DTSTART;TZID=America/New_York:20261030T170000
DTEND;TZID=America/New_York:20261030T210000
DTSTAMP:20260423T165430
CREATED:20260126T185110Z
LAST-MODIFIED:20260423T185041Z
UID:316023-1793379600-1793394000@tidesinnoc.com
SUMMARY:Phil Perdue - "The Piano Man"
DESCRIPTION:Enjoy Phil Perdue “The Piano Man” on the grand piano at the Captain’s Table in Ocean City\, Maryland.  Enjoy fine dining at its best with South African lobster tails\, delicious crab cakes\, certified angus beef steaks and great selection from the bar. Phil’s smooth sounds on the grand piano are a local’s favorite on Friday and Saturday nights.  
URL:https://tidesinnoc.com/event/phil-perdue-the-piano-man-80/
LOCATION:Captain’s Table Restaurant and Bar\, 2 15th St\, Ocean City\, MD\, 21842\, United States
ATTACH;FMTTYPE=:
END:VEVENT
BEGIN:VEVENT
DTSTART;TZID=America/New_York:20261031T170000
DTEND;TZID=America/New_York:20261031T210000
DTSTAMP:20260423T165430
CREATED:20260126T185110Z
LAST-MODIFIED:20260423T185041Z
UID:316024-1793466000-1793480400@tidesinnoc.com
SUMMARY:Phil Perdue - "The Piano Man"
DESCRIPTION:Enjoy Phil Perdue “The Piano Man” on the grand piano at the Captain’s Table in Ocean City\, Maryland.  Enjoy fine dining at its best with South African lobster tails\, delicious crab cakes\, certified angus beef steaks and great selection from the bar. Phil’s smooth sounds on the grand piano are a local’s favorite on Friday and Saturday nights.  
URL:https://tidesinnoc.com/event/phil-perdue-the-piano-man-81/
LOCATION:Captain’s Table Restaurant and Bar\, 2 15th St\, Ocean City\, MD\, 21842\, United States
ATTACH;FMTTYPE=:
END:VEVENT
BEGIN:VEVENT
DTSTART;TZID=America/New_York:20261106T170000
DTEND;TZID=America/New_York:20261106T210000
DTSTAMP:20260423T165430
CREATED:20260126T185110Z
LAST-MODIFIED:20260423T185041Z
UID:316025-1793984400-1793998800@tidesinnoc.com
SUMMARY:Phil Perdue - "The Piano Man"
DESCRIPTION:Enjoy Phil Perdue “The Piano Man” on the grand piano at the Captain’s Table in Ocean City\, Maryland.  Enjoy fine dining at its best with South African lobster tails\, delicious crab cakes\, certified angus beef steaks and great selection from the bar. Phil’s smooth sounds on the grand piano are a local’s favorite on Friday and Saturday nights.  
URL:https://tidesinnoc.com/event/phil-perdue-the-piano-man-82/
LOCATION:Captain’s Table Restaurant and Bar\, 2 15th St\, Ocean City\, MD\, 21842\, United States
ATTACH;FMTTYPE=:
END:VEVENT
BEGIN:VEVENT
DTSTART;TZID=America/New_York:20261107T170000
DTEND;TZID=America/New_York:20261107T210000
DTSTAMP:20260423T165430
CREATED:20260126T185111Z
LAST-MODIFIED:20260423T185041Z
UID:316026-1794070800-1794085200@tidesinnoc.com
SUMMARY:Phil Perdue - "The Piano Man"
DESCRIPTION:Enjoy Phil Perdue “The Piano Man” on the grand piano at the Captain’s Table in Ocean City\, Maryland.  Enjoy fine dining at its best with South African lobster tails\, delicious crab cakes\, certified angus beef steaks and great selection from the bar. Phil’s smooth sounds on the grand piano are a local’s favorite on Friday and Saturday nights.  
URL:https://tidesinnoc.com/event/phil-perdue-the-piano-man-83/
LOCATION:Captain’s Table Restaurant and Bar\, 2 15th St\, Ocean City\, MD\, 21842\, United States
ATTACH;FMTTYPE=:
END:VEVENT
BEGIN:VEVENT
DTSTART;TZID=America/New_York:20261113T170000
DTEND;TZID=America/New_York:20261113T210000
DTSTAMP:20260423T165430
CREATED:20260126T185111Z
LAST-MODIFIED:20260423T185042Z
UID:316027-1794589200-1794603600@tidesinnoc.com
SUMMARY:Phil Perdue - "The Piano Man"
DESCRIPTION:Enjoy Phil Perdue “The Piano Man” on the grand piano at the Captain’s Table in Ocean City\, Maryland.  Enjoy fine dining at its best with South African lobster tails\, delicious crab cakes\, certified angus beef steaks and great selection from the bar. Phil’s smooth sounds on the grand piano are a local’s favorite on Friday and Saturday nights.  
URL:https://tidesinnoc.com/event/phil-perdue-the-piano-man-84/
LOCATION:Captain’s Table Restaurant and Bar\, 2 15th St\, Ocean City\, MD\, 21842\, United States
ATTACH;FMTTYPE=:
END:VEVENT
BEGIN:VEVENT
DTSTART;TZID=America/New_York:20261114T170000
DTEND;TZID=America/New_York:20261114T210000
DTSTAMP:20260423T165430
CREATED:20260126T185112Z
LAST-MODIFIED:20260423T185042Z
UID:316028-1794675600-1794690000@tidesinnoc.com
SUMMARY:Phil Perdue - "The Piano Man"
DESCRIPTION:Enjoy Phil Perdue “The Piano Man” on the grand piano at the Captain’s Table in Ocean City\, Maryland.  Enjoy fine dining at its best with South African lobster tails\, delicious crab cakes\, certified angus beef steaks and great selection from the bar. Phil’s smooth sounds on the grand piano are a local’s favorite on Friday and Saturday nights.  
URL:https://tidesinnoc.com/event/phil-perdue-the-piano-man-85/
LOCATION:Captain’s Table Restaurant and Bar\, 2 15th St\, Ocean City\, MD\, 21842\, United States
ATTACH;FMTTYPE=:
END:VEVENT
BEGIN:VEVENT
DTSTART;TZID=America/New_York:20261120T170000
DTEND;TZID=America/New_York:20261120T210000
DTSTAMP:20260423T165430
CREATED:20260126T185112Z
LAST-MODIFIED:20260423T185042Z
UID:316029-1795194000-1795208400@tidesinnoc.com
SUMMARY:Phil Perdue - "The Piano Man"
DESCRIPTION:Enjoy Phil Perdue “The Piano Man” on the grand piano at the Captain’s Table in Ocean City\, Maryland.  Enjoy fine dining at its best with South African lobster tails\, delicious crab cakes\, certified angus beef steaks and great selection from the bar. Phil’s smooth sounds on the grand piano are a local’s favorite on Friday and Saturday nights.  
URL:https://tidesinnoc.com/event/phil-perdue-the-piano-man-86/
LOCATION:Captain’s Table Restaurant and Bar\, 2 15th St\, Ocean City\, MD\, 21842\, United States
ATTACH;FMTTYPE=:
END:VEVENT
BEGIN:VEVENT
DTSTART;TZID=America/New_York:20261121T170000
DTEND;TZID=America/New_York:20261121T210000
DTSTAMP:20260423T165430
CREATED:20260126T185112Z
LAST-MODIFIED:20260423T185042Z
UID:316030-1795280400-1795294800@tidesinnoc.com
SUMMARY:Phil Perdue - "The Piano Man"
DESCRIPTION:Enjoy Phil Perdue “The Piano Man” on the grand piano at the Captain’s Table in Ocean City\, Maryland.  Enjoy fine dining at its best with South African lobster tails\, delicious crab cakes\, certified angus beef steaks and great selection from the bar. Phil’s smooth sounds on the grand piano are a local’s favorite on Friday and Saturday nights.  
URL:https://tidesinnoc.com/event/phil-perdue-the-piano-man-87/
LOCATION:Captain’s Table Restaurant and Bar\, 2 15th St\, Ocean City\, MD\, 21842\, United States
ATTACH;FMTTYPE=:
END:VEVENT
BEGIN:VEVENT
DTSTART;TZID=America/New_York:20261121T193000
DTEND;TZID=America/New_York:20261121T230000
DTSTAMP:20260423T165430
CREATED:20260218T185022Z
LAST-MODIFIED:20260423T185045Z
UID:316914-1795289400-1795302000@tidesinnoc.com
SUMMARY:Monkee Paw
DESCRIPTION:Catch Monkee Paw at High Stakes Bar & Grille in Fenwick Island\, Delaware! Monkee Paw’s musical style ranges from duo to quartet\, and they have spent almost a decade performing in Fenwick and Ocean City. Spanning a wide variety of genres\, with a strong focus on vocal harmony. Band members include: Mike Givens\, Rick Smith\, Joseph Wirt\, Ray Perrone\, Dean Haemel and Adam Ask.  
URL:https://tidesinnoc.com/event/monkee-paw-7/
LOCATION:High Stakes Bar & Grill\, 5799 Lighthouse Cove Ln\, Fenwick Island\, DE\, 19944\, United States
ATTACH;FMTTYPE=:
END:VEVENT
BEGIN:VEVENT
DTSTART;TZID=America/New_York:20261127T170000
DTEND;TZID=America/New_York:20261127T210000
DTSTAMP:20260423T165430
CREATED:20260126T185113Z
LAST-MODIFIED:20260423T185045Z
UID:316031-1795798800-1795813200@tidesinnoc.com
SUMMARY:Phil Perdue - "The Piano Man"
DESCRIPTION:Enjoy Phil Perdue “The Piano Man” on the grand piano at the Captain’s Table in Ocean City\, Maryland.  Enjoy fine dining at its best with South African lobster tails\, delicious crab cakes\, certified angus beef steaks and great selection from the bar. Phil’s smooth sounds on the grand piano are a local’s favorite on Friday and Saturday nights.  
URL:https://tidesinnoc.com/event/phil-perdue-the-piano-man-88/
LOCATION:Captain’s Table Restaurant and Bar\, 2 15th St\, Ocean City\, MD\, 21842\, United States
ATTACH;FMTTYPE=:
END:VEVENT
BEGIN:VEVENT
DTSTART;TZID=America/New_York:20261128T170000
DTEND;TZID=America/New_York:20261128T210000
DTSTAMP:20260423T165430
CREATED:20260126T185113Z
LAST-MODIFIED:20260423T185045Z
UID:316032-1795885200-1795899600@tidesinnoc.com
SUMMARY:Phil Perdue - "The Piano Man"
DESCRIPTION:Enjoy Phil Perdue “The Piano Man” on the grand piano at the Captain’s Table in Ocean City\, Maryland.  Enjoy fine dining at its best with South African lobster tails\, delicious crab cakes\, certified angus beef steaks and great selection from the bar. Phil’s smooth sounds on the grand piano are a local’s favorite on Friday and Saturday nights.  
URL:https://tidesinnoc.com/event/phil-perdue-the-piano-man-89/
LOCATION:Captain’s Table Restaurant and Bar\, 2 15th St\, Ocean City\, MD\, 21842\, United States
ATTACH;FMTTYPE=:
END:VEVENT
BEGIN:VEVENT
DTSTART;TZID=America/New_York:20261204T170000
DTEND;TZID=America/New_York:20261204T210000
DTSTAMP:20260423T165430
CREATED:20260126T185113Z
LAST-MODIFIED:20260423T185046Z
UID:316033-1796403600-1796418000@tidesinnoc.com
SUMMARY:Phil Perdue - "The Piano Man"
DESCRIPTION:Enjoy Phil Perdue “The Piano Man” on the grand piano at the Captain’s Table in Ocean City\, Maryland.  Enjoy fine dining at its best with South African lobster tails\, delicious crab cakes\, certified angus beef steaks and great selection from the bar. Phil’s smooth sounds on the grand piano are a local’s favorite on Friday and Saturday nights.  
URL:https://tidesinnoc.com/event/phil-perdue-the-piano-man-90/
LOCATION:Captain’s Table Restaurant and Bar\, 2 15th St\, Ocean City\, MD\, 21842\, United States
ATTACH;FMTTYPE=:
END:VEVENT
BEGIN:VEVENT
DTSTART;TZID=America/New_York:20261205T170000
DTEND;TZID=America/New_York:20261205T210000
DTSTAMP:20260423T165430
CREATED:20260126T185114Z
LAST-MODIFIED:20260423T185046Z
UID:316034-1796490000-1796504400@tidesinnoc.com
SUMMARY:Phil Perdue - "The Piano Man"
DESCRIPTION:Enjoy Phil Perdue “The Piano Man” on the grand piano at the Captain’s Table in Ocean City\, Maryland.  Enjoy fine dining at its best with South African lobster tails\, delicious crab cakes\, certified angus beef steaks and great selection from the bar. Phil’s smooth sounds on the grand piano are a local’s favorite on Friday and Saturday nights.  
URL:https://tidesinnoc.com/event/phil-perdue-the-piano-man-91/
LOCATION:Captain’s Table Restaurant and Bar\, 2 15th St\, Ocean City\, MD\, 21842\, United States
ATTACH;FMTTYPE=:
END:VEVENT
BEGIN:VEVENT
DTSTART;TZID=America/New_York:20261211T170000
DTEND;TZID=America/New_York:20261211T210000
DTSTAMP:20260423T165430
CREATED:20260126T185114Z
LAST-MODIFIED:20260423T185046Z
UID:316035-1797008400-1797022800@tidesinnoc.com
SUMMARY:Phil Perdue - "The Piano Man"
DESCRIPTION:Enjoy Phil Perdue “The Piano Man” on the grand piano at the Captain’s Table in Ocean City\, Maryland.  Enjoy fine dining at its best with South African lobster tails\, delicious crab cakes\, certified angus beef steaks and great selection from the bar. Phil’s smooth sounds on the grand piano are a local’s favorite on Friday and Saturday nights.  
URL:https://tidesinnoc.com/event/phil-perdue-the-piano-man-92/
LOCATION:Captain’s Table Restaurant and Bar\, 2 15th St\, Ocean City\, MD\, 21842\, United States
ATTACH;FMTTYPE=:
END:VEVENT
BEGIN:VEVENT
DTSTART;TZID=America/New_York:20261212T170000
DTEND;TZID=America/New_York:20261212T210000
DTSTAMP:20260423T165430
CREATED:20260126T185114Z
LAST-MODIFIED:20260423T185046Z
UID:316036-1797094800-1797109200@tidesinnoc.com
SUMMARY:Phil Perdue - "The Piano Man"
DESCRIPTION:Enjoy Phil Perdue “The Piano Man” on the grand piano at the Captain’s Table in Ocean City\, Maryland.  Enjoy fine dining at its best with South African lobster tails\, delicious crab cakes\, certified angus beef steaks and great selection from the bar. Phil’s smooth sounds on the grand piano are a local’s favorite on Friday and Saturday nights.  
URL:https://tidesinnoc.com/event/phil-perdue-the-piano-man-93/
LOCATION:Captain’s Table Restaurant and Bar\, 2 15th St\, Ocean City\, MD\, 21842\, United States
ATTACH;FMTTYPE=:
END:VEVENT
BEGIN:VEVENT
DTSTART;TZID=America/New_York:20261218T170000
DTEND;TZID=America/New_York:20261218T210000
DTSTAMP:20260423T165430
CREATED:20260126T185115Z
LAST-MODIFIED:20260423T185046Z
UID:316037-1797613200-1797627600@tidesinnoc.com
SUMMARY:Phil Perdue - "The Piano Man"
DESCRIPTION:Enjoy Phil Perdue “The Piano Man” on the grand piano at the Captain’s Table in Ocean City\, Maryland.  Enjoy fine dining at its best with South African lobster tails\, delicious crab cakes\, certified angus beef steaks and great selection from the bar. Phil’s smooth sounds on the grand piano are a local’s favorite on Friday and Saturday nights.  
URL:https://tidesinnoc.com/event/phil-perdue-the-piano-man-94/
LOCATION:Captain’s Table Restaurant and Bar\, 2 15th St\, Ocean City\, MD\, 21842\, United States
ATTACH;FMTTYPE=:
END:VEVENT
BEGIN:VEVENT
DTSTART;TZID=America/New_York:20261219T170000
DTEND;TZID=America/New_York:20261219T210000
DTSTAMP:20260423T165430
CREATED:20260126T185115Z
LAST-MODIFIED:20260423T185046Z
UID:316038-1797699600-1797714000@tidesinnoc.com
SUMMARY:Phil Perdue - "The Piano Man"
DESCRIPTION:Enjoy Phil Perdue “The Piano Man” on the grand piano at the Captain’s Table in Ocean City\, Maryland.  Enjoy fine dining at its best with South African lobster tails\, delicious crab cakes\, certified angus beef steaks and great selection from the bar. Phil’s smooth sounds on the grand piano are a local’s favorite on Friday and Saturday nights.  
URL:https://tidesinnoc.com/event/phil-perdue-the-piano-man-95/
LOCATION:Captain’s Table Restaurant and Bar\, 2 15th St\, Ocean City\, MD\, 21842\, United States
ATTACH;FMTTYPE=:
END:VEVENT
BEGIN:VEVENT
DTSTART;TZID=America/New_York:20261219T193000
DTEND;TZID=America/New_York:20261219T230000
DTSTAMP:20260423T165430
CREATED:20260218T185024Z
LAST-MODIFIED:20260423T185049Z
UID:316916-1797708600-1797721200@tidesinnoc.com
SUMMARY:Monkee Paw
DESCRIPTION:Catch Monkee Paw at High Stakes Bar & Grille in Fenwick Island\, Delaware! Monkee Paw’s musical style ranges from duo to quartet\, and they have spent almost a decade performing in Fenwick and Ocean City. Spanning a wide variety of genres\, with a strong focus on vocal harmony. Band members include: Mike Givens\, Rick Smith\, Joseph Wirt\, Ray Perrone\, Dean Haemel and Adam Ask.  
URL:https://tidesinnoc.com/event/monkee-paw-8/
LOCATION:High Stakes Bar & Grill\, 5799 Lighthouse Cove Ln\, Fenwick Island\, DE\, 19944\, United States
ATTACH;FMTTYPE=:
END:VEVENT
BEGIN:VEVENT
DTSTART;TZID=America/New_York:20261225T170000
DTEND;TZID=America/New_York:20261225T210000
DTSTAMP:20260423T165430
CREATED:20260126T185115Z
LAST-MODIFIED:20260423T185049Z
UID:316039-1798218000-1798232400@tidesinnoc.com
SUMMARY:Phil Perdue - "The Piano Man"
DESCRIPTION:Enjoy Phil Perdue “The Piano Man” on the grand piano at the Captain’s Table in Ocean City\, Maryland.  Enjoy fine dining at its best with South African lobster tails\, delicious crab cakes\, certified angus beef steaks and great selection from the bar. Phil’s smooth sounds on the grand piano are a local’s favorite on Friday and Saturday nights.  
URL:https://tidesinnoc.com/event/phil-perdue-the-piano-man-96/
LOCATION:Captain’s Table Restaurant and Bar\, 2 15th St\, Ocean City\, MD\, 21842\, United States
ATTACH;FMTTYPE=:
END:VEVENT
BEGIN:VEVENT
DTSTART;TZID=America/New_York:20261226T170000
DTEND;TZID=America/New_York:20261226T210000
DTSTAMP:20260423T165430
CREATED:20260126T185116Z
LAST-MODIFIED:20260423T185049Z
UID:316040-1798304400-1798318800@tidesinnoc.com
SUMMARY:Phil Perdue - "The Piano Man"
DESCRIPTION:Enjoy Phil Perdue “The Piano Man” on the grand piano at the Captain’s Table in Ocean City\, Maryland.  Enjoy fine dining at its best with South African lobster tails\, delicious crab cakes\, certified angus beef steaks and great selection from the bar. Phil’s smooth sounds on the grand piano are a local’s favorite on Friday and Saturday nights.  
URL:https://tidesinnoc.com/event/phil-perdue-the-piano-man-97/
LOCATION:Captain’s Table Restaurant and Bar\, 2 15th St\, Ocean City\, MD\, 21842\, United States
ATTACH;FMTTYPE=:
END:VEVENT
END:VCALENDAR