BEGIN:VCALENDAR
VERSION:2.0
PRODID:-//Ocean City MD Rooms | The Tides Inn OC Vacations - ECPv6.15.13//NONSGML v1.0//EN
CALSCALE:GREGORIAN
METHOD:PUBLISH
X-WR-CALNAME:Ocean City MD Rooms | The Tides Inn OC Vacations
X-ORIGINAL-URL:https://tidesinnoc.com
X-WR-CALDESC:Events for Ocean City MD Rooms | The Tides Inn OC Vacations
REFRESH-INTERVAL;VALUE=DURATION:PT1H
X-Robots-Tag:noindex
X-PUBLISHED-TTL:PT1H
BEGIN:VTIMEZONE
TZID:America/New_York
BEGIN:DAYLIGHT
TZOFFSETFROM:-0500
TZOFFSETTO:-0400
TZNAME:EDT
DTSTART:20250309T070000
END:DAYLIGHT
BEGIN:STANDARD
TZOFFSETFROM:-0400
TZOFFSETTO:-0500
TZNAME:EST
DTSTART:20251102T060000
END:STANDARD
BEGIN:DAYLIGHT
TZOFFSETFROM:-0500
TZOFFSETTO:-0400
TZNAME:EDT
DTSTART:20260308T070000
END:DAYLIGHT
BEGIN:STANDARD
TZOFFSETFROM:-0400
TZOFFSETTO:-0500
TZNAME:EST
DTSTART:20261101T060000
END:STANDARD
BEGIN:DAYLIGHT
TZOFFSETFROM:-0500
TZOFFSETTO:-0400
TZNAME:EDT
DTSTART:20270314T070000
END:DAYLIGHT
BEGIN:STANDARD
TZOFFSETFROM:-0400
TZOFFSETTO:-0500
TZNAME:EST
DTSTART:20271107T060000
END:STANDARD
END:VTIMEZONE
BEGIN:VEVENT
DTSTART;TZID=America/New_York:20260530T170000
DTEND;TZID=America/New_York:20260530T200000
DTSTAMP:20260423T115950
CREATED:20260317T185012Z
LAST-MODIFIED:20260423T065120Z
UID:318631-1780160400-1780171200@tidesinnoc.com
SUMMARY:Party Under The Palms | Live Music and DJ's at Macky's
DESCRIPTION:Join us tonight at Macky’s Bayside Bar & Grill to Party Under The Palms!  Get ready to dance and have fun with friends and family under the stars while enjoying cocktails\, a late dinner with live bands and DJs on stage.
URL:https://tidesinnoc.com/event/party-under-the-palms-live-music-and-djs-at-mackys-7/
LOCATION:Macky’s Bayside Bar & Grill\, 5311 Coastal Hwy\, Ocean City\, MD\, 21842\, United States
END:VEVENT
BEGIN:VEVENT
DTSTART;TZID=America/New_York:20260530T170000
DTEND;TZID=America/New_York:20260530T210000
DTSTAMP:20260423T115950
CREATED:20260126T185055Z
LAST-MODIFIED:20260423T065113Z
UID:315977-1780160400-1780174800@tidesinnoc.com
SUMMARY:Phil Perdue - "The Piano Man"
DESCRIPTION:Enjoy Phil Perdue “The Piano Man” on the grand piano at the Captain’s Table in Ocean City\, Maryland.  Enjoy fine dining at its best with South African lobster tails\, delicious crab cakes\, certified angus beef steaks and great selection from the bar. Phil’s smooth sounds on the grand piano are a local’s favorite on Friday and Saturday nights.  
URL:https://tidesinnoc.com/event/phil-perdue-the-piano-man-37/
LOCATION:Captain’s Table Restaurant and Bar\, 2 15th St\, Ocean City\, MD\, 21842\, United States
ATTACH;FMTTYPE=:
END:VEVENT
BEGIN:VEVENT
DTSTART;TZID=America/New_York:20260530T190000
DTEND;TZID=America/New_York:20260530T220000
DTSTAMP:20260423T115950
CREATED:20260323T185032Z
LAST-MODIFIED:20260423T065121Z
UID:319181-1780167600-1780178400@tidesinnoc.com
SUMMARY:Candiflyp at Sunset Grille
DESCRIPTION:Come enjoy live entertainment this week at Sunset Grille in West Ocean City! Dance the night away with your friends and family and make long lasting memories. Take advantage of the dining deals and drink specials while admiring the beautiful boats in the Sunset Marina. This will be a good time guarantee so don’t miss a beat! 
URL:https://tidesinnoc.com/event/candiflyp-at-sunset-grille/
LOCATION:Sunset Grille\, 12933 Sunset Ave\, Ocean City\, MD\, 21842\, United States
ATTACH;FMTTYPE=:
END:VEVENT
BEGIN:VEVENT
DTSTART;TZID=America/New_York:20260530T193000
DTEND;TZID=America/New_York:20260530T230000
DTSTAMP:20260423T115950
CREATED:20260218T185007Z
LAST-MODIFIED:20260423T065137Z
UID:316903-1780169400-1780182000@tidesinnoc.com
SUMMARY:Ragged Mile
DESCRIPTION:Ragged Mile will rock the stage at High Stakes Bar and Grill in Fenwick Island which always features some of the best local talent! Enjoy a great dinner\, classic cocktails and rock out with Ragged Mile tonight. 
URL:https://tidesinnoc.com/event/ragged-mile/
LOCATION:High Stakes Bar & Grill\, 5799 Lighthouse Cove Ln\, Fenwick Island\, DE\, 19944\, United States
ATTACH;FMTTYPE=:
END:VEVENT
END:VCALENDAR