BEGIN:VCALENDAR
VERSION:2.0
PRODID:-//Ocean City MD Rooms | The Tides Inn OC Vacations - ECPv6.15.13//NONSGML v1.0//EN
CALSCALE:GREGORIAN
METHOD:PUBLISH
X-WR-CALNAME:Ocean City MD Rooms | The Tides Inn OC Vacations
X-ORIGINAL-URL:https://tidesinnoc.com
X-WR-CALDESC:Events for Ocean City MD Rooms | The Tides Inn OC Vacations
REFRESH-INTERVAL;VALUE=DURATION:PT1H
X-Robots-Tag:noindex
X-PUBLISHED-TTL:PT1H
BEGIN:VTIMEZONE
TZID:America/New_York
BEGIN:DAYLIGHT
TZOFFSETFROM:-0500
TZOFFSETTO:-0400
TZNAME:EDT
DTSTART:20250309T070000
END:DAYLIGHT
BEGIN:STANDARD
TZOFFSETFROM:-0400
TZOFFSETTO:-0500
TZNAME:EST
DTSTART:20251102T060000
END:STANDARD
BEGIN:DAYLIGHT
TZOFFSETFROM:-0500
TZOFFSETTO:-0400
TZNAME:EDT
DTSTART:20260308T070000
END:DAYLIGHT
BEGIN:STANDARD
TZOFFSETFROM:-0400
TZOFFSETTO:-0500
TZNAME:EST
DTSTART:20261101T060000
END:STANDARD
BEGIN:DAYLIGHT
TZOFFSETFROM:-0500
TZOFFSETTO:-0400
TZNAME:EDT
DTSTART:20270314T070000
END:DAYLIGHT
BEGIN:STANDARD
TZOFFSETFROM:-0400
TZOFFSETTO:-0500
TZNAME:EST
DTSTART:20271107T060000
END:STANDARD
END:VTIMEZONE
BEGIN:VEVENT
DTSTART;TZID=America/New_York:20260524T190000
DTEND;TZID=America/New_York:20260524T220000
DTSTAMP:20260423T120002
CREATED:20260323T185024Z
LAST-MODIFIED:20260423T065048Z
UID:319174-1779649200-1779660000@tidesinnoc.com
SUMMARY:Out Of Spite at Sunset Grille and Teasers Bar
DESCRIPTION:Come enjoy live entertainment this week at Sunset Grille in West Ocean City! Dance the night away with your friends and family and make long lasting memories. Take advantage of the dining deals and drink specials while admiring the beautiful boats in the Sunset Marina. This will be a good time guarantee so don’t miss a beat! 
URL:https://tidesinnoc.com/event/out-of-spite-at-sunset-grille-and-teasers-bar/
LOCATION:Sunset Grille\, 12933 Sunset Ave\, Ocean City\, MD\, 21842\, United States
ATTACH;FMTTYPE=:
END:VEVENT
BEGIN:VEVENT
DTSTART;TZID=America/New_York:20260524T210000
DTEND;TZID=America/New_York:20260524T235900
DTSTAMP:20260423T120002
CREATED:20260317T185008Z
LAST-MODIFIED:20260423T065053Z
UID:318623-1779656400-1779667140@tidesinnoc.com
SUMMARY:Party Under The Palms | Live Music and DJ's at Macky's
DESCRIPTION:Join us tonight at Macky’s Bayside Bar & Grill to Party Under The Palms!  Get ready to dance and have fun with friends and family under the stars while enjoying cocktails\, a late dinner with live bands and DJs on stage.
URL:https://tidesinnoc.com/event/party-under-the-palms-live-music-and-djs-at-mackys-4/
LOCATION:Macky’s Bayside Bar & Grill\, 5311 Coastal Hwy\, Ocean City\, MD\, 21842\, United States
END:VEVENT
END:VCALENDAR