BEGIN:VCALENDAR
VERSION:2.0
PRODID:-//Ocean City MD Rooms | The Tides Inn OC Vacations - ECPv6.15.13//NONSGML v1.0//EN
CALSCALE:GREGORIAN
METHOD:PUBLISH
X-WR-CALNAME:Ocean City MD Rooms | The Tides Inn OC Vacations
X-ORIGINAL-URL:https://tidesinnoc.com
X-WR-CALDESC:Events for Ocean City MD Rooms | The Tides Inn OC Vacations
REFRESH-INTERVAL;VALUE=DURATION:PT1H
X-Robots-Tag:noindex
X-PUBLISHED-TTL:PT1H
BEGIN:VTIMEZONE
TZID:America/New_York
BEGIN:DAYLIGHT
TZOFFSETFROM:-0500
TZOFFSETTO:-0400
TZNAME:EDT
DTSTART:20250309T070000
END:DAYLIGHT
BEGIN:STANDARD
TZOFFSETFROM:-0400
TZOFFSETTO:-0500
TZNAME:EST
DTSTART:20251102T060000
END:STANDARD
BEGIN:DAYLIGHT
TZOFFSETFROM:-0500
TZOFFSETTO:-0400
TZNAME:EDT
DTSTART:20260308T070000
END:DAYLIGHT
BEGIN:STANDARD
TZOFFSETFROM:-0400
TZOFFSETTO:-0500
TZNAME:EST
DTSTART:20261101T060000
END:STANDARD
BEGIN:DAYLIGHT
TZOFFSETFROM:-0500
TZOFFSETTO:-0400
TZNAME:EDT
DTSTART:20270314T070000
END:DAYLIGHT
BEGIN:STANDARD
TZOFFSETFROM:-0400
TZOFFSETTO:-0500
TZNAME:EST
DTSTART:20271107T060000
END:STANDARD
END:VTIMEZONE
BEGIN:VEVENT
DTSTART;TZID=America/New_York:20260501T170000
DTEND;TZID=America/New_York:20260501T210000
DTSTAMP:20260423T094055
CREATED:20260126T185053Z
LAST-MODIFIED:20260423T065032Z
UID:315968-1777654800-1777669200@tidesinnoc.com
SUMMARY:Phil Perdue - "The Piano Man"
DESCRIPTION:Enjoy Phil Perdue “The Piano Man” on the grand piano at the Captain’s Table in Ocean City\, Maryland.  Enjoy fine dining at its best with South African lobster tails\, delicious crab cakes\, certified angus beef steaks and great selection from the bar. Phil’s smooth sounds on the grand piano are a local’s favorite on Friday and Saturday nights.  
URL:https://tidesinnoc.com/event/phil-perdue-the-piano-man-28/
LOCATION:Captain’s Table Restaurant and Bar\, 2 15th St\, Ocean City\, MD\, 21842\, United States
ATTACH;FMTTYPE=:
END:VEVENT
BEGIN:VEVENT
DTSTART;TZID=America/New_York:20260501T170000
DTEND;TZID=America/New_York:20260501T210000
DTSTAMP:20260423T094055
CREATED:20260409T065101Z
LAST-MODIFIED:20260423T065033Z
UID:320533-1777654800-1777669200@tidesinnoc.com
SUMMARY:Faith Noel
DESCRIPTION:Faith Noel will be performing multiple genres and your favorite cover tunes\, as well as her own originals at Seacrerts in Ocean City\, MD tonight. Faith’s mix of current and classic covers is sure to please you and your friends. 
URL:https://tidesinnoc.com/event/faith-noel-4/
LOCATION:Seacrets\, 49th Street On The Bay\, Ocean City\, MD\, 21842\, United States
ATTACH;FMTTYPE=:
END:VEVENT
END:VCALENDAR